BEGIN:VCALENDAR
VERSION:2.0
PRODID:-//Visit Ohio Today - ECPv6.15.20//NONSGML v1.0//EN
CALSCALE:GREGORIAN
METHOD:PUBLISH
X-WR-CALNAME:Visit Ohio Today
X-ORIGINAL-URL:https://visitohiotoday.com
X-WR-CALDESC:Events for Visit Ohio Today
REFRESH-INTERVAL;VALUE=DURATION:PT1H
X-Robots-Tag:noindex
X-PUBLISHED-TTL:PT1H
BEGIN:VTIMEZONE
TZID:UTC
BEGIN:STANDARD
TZOFFSETFROM:+0000
TZOFFSETTO:+0000
TZNAME:UTC
DTSTART:20230101T000000
END:STANDARD
END:VTIMEZONE
BEGIN:VEVENT
DTSTART;TZID=UTC:20240214T160000
DTEND;TZID=UTC:20240214T200000
DTSTAMP:20260422T013620
CREATED:20240206T162534Z
LAST-MODIFIED:20240206T162537Z
UID:10000144-1707926400-1707940800@visitohiotoday.com
SUMMARY:The Lodge at Geneva-on-the-Lake Valentine's Day Dinner
DESCRIPTION:Escape for a romantic winter retreat in the heart of Ohio Wine Country with a selection of getaway packages at The Lodge at Geneva-on-the-Lake for Valentine’s Day and beyond. \n\n\n\nPhotos courtesy of The Lodge at Geneva-on-the-Lake\n\n\n\nCelebrate with a special Valentine’s Dinner on Wednesday\, February 14\, at Horizons Restaurant or take advantage of a BOGO Lodge wine shuttle pass offer during the month of February. Extend the romance with an overnight stay in a Cottage or guest room with breakfast the next morning. \n\n\n\nMake plans for Valentine’s Dinner with your special someone from 4:00 to 8:00 pm on Wednesday\, February 14\, and enjoy a special Valentine’s dinner menu created by Horizons Restaurant’s culinary team. Regular menu favorites will be available as well. \n\n\n\nThe Valentine’s Day menu is available on their website.
URL:https://visitohiotoday.com/event/the-lodge-at-geneva-on-the-lake-valentines-day-dinner/
LOCATION:The Lodge at Geneva-on-the-Lake\, The Lodge at Geneva-on-the-Lake\, 4888 N Broadway\, Geneva-on-the-Lake\, Ohio\, 44041\, United States
CATEGORIES:Event
ATTACH;FMTTYPE=image/png:https://visitohiotoday.com/wp-content/uploads/2024/02/VOT-The-Lodge-at-Geneva-on-the-Lake-Valentines-Day-feature-image-1.png
END:VEVENT
END:VCALENDAR