BEGIN:VCALENDAR
VERSION:2.0
PRODID:-//Visit Ohio Today - ECPv6.15.20//NONSGML v1.0//EN
CALSCALE:GREGORIAN
METHOD:PUBLISH
X-ORIGINAL-URL:https://visitohiotoday.com
X-WR-CALDESC:Events for Visit Ohio Today
REFRESH-INTERVAL;VALUE=DURATION:PT1H
X-Robots-Tag:noindex
X-PUBLISHED-TTL:PT1H
BEGIN:VTIMEZONE
TZID:UTC
BEGIN:STANDARD
TZOFFSETFROM:+0000
TZOFFSETTO:+0000
TZNAME:UTC
DTSTART:20240101T000000
END:STANDARD
END:VTIMEZONE
BEGIN:VEVENT
DTSTART;TZID=UTC:20250815T170000
DTEND;TZID=UTC:20250816T180000
DTSTAMP:20260420T234744
CREATED:20240731T091617Z
LAST-MODIFIED:20250617T100023Z
UID:10000191-1755277200-1755367200@visitohiotoday.com
SUMMARY:Wren Wiffleball Tournament
DESCRIPTION:The Wren Wiffleball Tournament takes place annually at Wrenway Park in Van Wert County\, on the third weekend of August. \n\n\n\n\n\n\n\nThe Wren Wiffleball Tournament is hosted by the Wrenway Park Wiffleball Warehouse and is a two day annual event that is great fun for the whole family to enjoy. \n\n\n\nWiffleball is a simplified version of baseball. The lightweight ball has to be hit within a triangle\, and depending on where it lands\, it is scored accordingly. A ball hit outside of the triangle is a ‘foul ball’. The batters do not run\, and the fielders do not chase the ball. \n\n\n\nThere is a reverse raffle that will be drawn throughout the tournament. Visitors can also enjoy a fireworks display\, live music\, food and beverage garden\, a cornhole tournament\, a pie baking contest\, egg toss\, a pie eating contest\, a parade\, and the awards ceremony and Hall of Fame Induction. \n\n\n\nThis event has no website\, so we are linking to their Facebook page below\, where you will find all the details.
URL:https://visitohiotoday.com/event/wren-wiffleball-tournament/
LOCATION:Wren Wiffleball Tournament\, Wrenway Park\, Wren\, OH\, 45899\, United States
CATEGORIES:Event
ATTACH;FMTTYPE=image/png:https://visitohiotoday.com/wp-content/uploads/2024/07/VOT-Wren-Wiffleball-Tournament-1-feature-image.png
END:VEVENT
END:VCALENDAR