BEGIN:VCALENDAR
VERSION:2.0
PRODID:-//Visit Ohio Today - ECPv6.15.20//NONSGML v1.0//EN
CALSCALE:GREGORIAN
METHOD:PUBLISH
X-WR-CALNAME:Visit Ohio Today
X-ORIGINAL-URL:https://visitohiotoday.com
X-WR-CALDESC:Events for Visit Ohio Today
REFRESH-INTERVAL;VALUE=DURATION:PT1H
X-Robots-Tag:noindex
X-PUBLISHED-TTL:PT1H
BEGIN:VTIMEZONE
TZID:UTC
BEGIN:STANDARD
TZOFFSETFROM:+0000
TZOFFSETTO:+0000
TZNAME:UTC
DTSTART:20240101T000000
END:STANDARD
END:VTIMEZONE
BEGIN:VEVENT
DTSTART;TZID=UTC:20251121T160000
DTEND;TZID=UTC:20251220T220000
DTSTAMP:20260420T163945
CREATED:20251007T100746Z
LAST-MODIFIED:20251007T100747Z
UID:10000302-1763740800-1766268000@visitohiotoday.com
SUMMARY:Christmas Cave at White Gravel Mines
DESCRIPTION:The Christmas Cave at White Gravel Mines is open each Friday and Saturday evening for five weekends in November and December. \n\n\n\n\n\n\n\nThe Christmas Cave tells the story of the birth of Jesus\, and the Easter Cave in the Spring tells the rest of the story. \n\n\n\nAll ages are welcome! Enjoy the beautiful lights\, see the story of Jesus\, and try some delicious barbecue. No pets allowed. RSVP for bus groups. \n\n\n\nIt is a self-guided tour that involves a lot of walking. The path is clearly marked\, and you can visit at your own pace. Benches are available throughout the display. Limited mobility assistance is available. \n\n\n\nCheck out our article about White Gravel Mines Christmas Caves! \n\n\n\n\n\n\n\n\n\n\n\n\n\n\n\nDo you have an event that you want to feature (for free) on our VisitOhioToday events calendar? Feel free to send us an email at team@visitohiotoday.com. All submissions subject to approval.
URL:https://visitohiotoday.com/event/christmas-cave-at-white-gravel-mines/
LOCATION:White Gravel Mines\, 4007 White Gravel McDaniel Road\, Minford\, OH\, 45653\, United States
CATEGORIES:Event
ATTACH;FMTTYPE=image/png:https://visitohiotoday.com/wp-content/uploads/2025/10/VOT-Christmas-Cave-at-White-Gravel-Mines-feature-image.png
END:VEVENT
END:VCALENDAR