BEGIN:VCALENDAR
VERSION:2.0
PRODID:-//Visit Ohio Today - ECPv6.15.20//NONSGML v1.0//EN
CALSCALE:GREGORIAN
METHOD:PUBLISH
X-ORIGINAL-URL:https://visitohiotoday.com
X-WR-CALDESC:Events for Visit Ohio Today
REFRESH-INTERVAL;VALUE=DURATION:PT1H
X-Robots-Tag:noindex
X-PUBLISHED-TTL:PT1H
BEGIN:VTIMEZONE
TZID:UTC
BEGIN:STANDARD
TZOFFSETFROM:+0000
TZOFFSETTO:+0000
TZNAME:UTC
DTSTART:20240101T000000
END:STANDARD
END:VTIMEZONE
BEGIN:VEVENT
DTSTART;TZID=UTC:20250913T110000
DTEND;TZID=UTC:20251102T180000
DTSTAMP:20260421T131506
CREATED:20230927T090419Z
LAST-MODIFIED:20250804T125448Z
UID:10000095-1757761200-1762106400@visitohiotoday.com
SUMMARY:Waynesville Fall Fest
DESCRIPTION:The Waynesville Fall Fest is every Saturday and Sunday from mid-September to the beginning of November. A great fun day out for the whole family to enjoy. \n\n\n\nImage courtesy of Waynesville Fall Fest\n\n\n\nThe Waynesville Fall Fest is a celebration of the state’s heritage and autumn’s beauty. With a big focus on pumpkins\, there are also many other activities and events here! \n\n\n\nSplash Landing Expeditions will take you deep into the Ohio woods to discover the town of Skeleville\, home of the Skelepeople! The Wildwater Mining Co. is themed on an abandoned mining company and is a 3 story playset. \n\n\n\nThere is also mini golf\, a corn maze\, pedal cars\, Ghost Town Village\, a petting farm\, giant porch games\, and much more. \n\n\n\nWith many food vendors and an indoor one-stop shop\, your day will be complete! \n\n\n\n\n\n\n\n\n\n\n\n\n\n\n\nDo you have an event that you want to feature (for free) on our VisitOhioToday events calendar? Just send us an email at team@visitohiotoday.com. All submissions subject to approval.
URL:https://visitohiotoday.com/event/waynesville-fall-fest-event/
LOCATION:Waynesville Fall Fest\, 7392 OH-73\, Waynesville\, OH\, 45068\, United States
CATEGORIES:Festival
ATTACH;FMTTYPE=image/png:https://visitohiotoday.com/wp-content/uploads/2023/09/Waynesville-Fall-Fest-Event-feature-image.png
END:VEVENT
BEGIN:VEVENT
DTSTART;TZID=UTC:20250925T000000
DTEND;TZID=UTC:20250928T235959
DTSTAMP:20260421T131506
CREATED:20230803T103739Z
LAST-MODIFIED:20250803T110948Z
UID:10000055-1758758400-1759103999@visitohiotoday.com
SUMMARY:Barnesville Pumpkin Festival
DESCRIPTION:The Barnesville Pumpkin Festival is a four-day event held in September with a variety of activities for all ages. It features agricultural and horticultural displays\, an antique car show\, the Giant Pumpkin Parade\, and retail window displays. \n\n\n\n\n\n\n\nFestival highlights include amusement rides\, children’s crafts\, a tractor cruise\, and numerous contests like fudge\, tall tales\, pumpkin roll\, and fiddle\, banjo\, and mandolin contest. \n\n\n\nAdditionally\, there are contests such as the pumpkin baby contest\, pie baking\, little Mr. and Miss\, and a beard and mustache competition. \n\n\n\nFor fitness enthusiasts\, there is a 5K run and fitness walk\, with race day registration available from 6:45 am to 8:15 am at the Watt Center near the train depot. \n\n\n\nThe highlight of the Barnesville Pumpkin Festival is the Giant Pumpkin Weigh-Off\, where enormous pumpkins are showcased. Last year’s winning pumpkin weighed a staggering 2\,196 lbs. and sold for a whopping $13\,000. \n\n\n\n\n\n\n\n\n\n\n\n\n\n\n\nDo you have an event that you want to feature (for free) on our VisitOhioToday events calendar? Just send us an email at team@visitohiotoday.com. All submissions subject to approval.
URL:https://visitohiotoday.com/event/barnesville-pumpkin-festival-event/
LOCATION:Barnesville Pumpkin Festival\, 113 W. Main Street\, Barnesville\, OH\, 43713\, United States
CATEGORIES:Festival
ATTACH;FMTTYPE=image/png:https://visitohiotoday.com/wp-content/uploads/2023/08/Barnesville-Pumpkin-Festival-Event-feature-image.png
END:VEVENT
BEGIN:VEVENT
DTSTART;TZID=UTC:20250925T080000
DTEND;TZID=UTC:20250927T220000
DTSTAMP:20260421T131506
CREATED:20230719T002919Z
LAST-MODIFIED:20250725T105354Z
UID:10000042-1758787200-1759010400@visitohiotoday.com
SUMMARY:Ohio Swiss Festival
DESCRIPTION:Every autumn since 1953\, downtown Sugarcreek\, Ohio has experienced a lively transformation into a bustling Swiss village\, paying tribute to Switzerland’s rich cultural heritage with the Ohio Swiss Festival. \n\n\n\n\n\n\n\nThe Swiss Festival\, sponsored by the Ohio Swiss Cheese Association\, Sugarcreek Business Association\, and the Village of Sugarcreek\, offers a wide range of delights. From wine and cheese tastings to thrilling races\, exciting contests\, and captivating parades\, there’s something for everyone to enjoy. \n\n\n\nTaking place towards the end of September\, the festival ensures a wealth of music\, delicious cuisine\, and entertaining performances each day. Convenient parking options are available at various locations throughout downtown. More information. \n\n\n\n\n\n\n\n\n\n\n\n\n\n\n\nDo you have an event that you want to feature (for free) on our VisitOhioToday events calendar? Just send us an email at team@visitohiotoday.com. All submissions subject to approval.
URL:https://visitohiotoday.com/event/ohio-swiss-festival/
LOCATION:Ohio Swiss Festival\, 101 North Broadway\, Sugarcreek\, OH\, 44681\, United States
CATEGORIES:Festival
ATTACH;FMTTYPE=image/png:https://visitohiotoday.com/wp-content/uploads/2023/07/2-1.png
END:VEVENT
BEGIN:VEVENT
DTSTART;TZID=UTC:20250926T083000
DTEND;TZID=UTC:20250927T180000
DTSTAMP:20260421T131506
CREATED:20250827T122527Z
LAST-MODIFIED:20250827T122529Z
UID:10000288-1758875400-1758996000@visitohiotoday.com
SUMMARY:Fall Festival at The Farm 1
DESCRIPTION:Fall Festival at The Farm is at The Farm at Walnut Creek. There are five weekend festivals and a Columbus Day Festival to be enjoyed at this location. \n\n\n\n\n\n\n\nThis is a great family fun day out with lots of activities to keep both kids and adults amused. \n\n\n\nTake your chance at the pumpkin slingshot. Watch the Percheron Draft Horses press cane stalks to make molasses. Climb the straw castle. Take a horse-drawn wagon ride through the farm to feed the animals\, including giraffes\, bison\, zebras\, and more. \n\n\n\nThe kids can play all afternoon in the giant corn box. \n\n\n\nLunch is available for purchase. Barbecue chicken\, noodles and beans\, desserts\, and more. \n\n\n\nThis festival is held on each weekend of October\, and on the Monday of Columbus Day. \n\n\n\n\n\n\n\n\n\n\n\n\n\n\n\nDo you have an event that you want to feature (for free) on our VisitOhioToday events calendar? Feel free to send us an email at team@visitohiotoday.com. All submissions subject to approval.
URL:https://visitohiotoday.com/event/fall-festival-at-the-farm-1/
LOCATION:Fall Festival at The Farm\, The Farm at Walnut Creek\, 4147 County Rd 114\, Sugarcreek\, OH\, 44681\, United States
CATEGORIES:Festival
ATTACH;FMTTYPE=image/png:https://visitohiotoday.com/wp-content/uploads/2025/08/VOT-Fall-Festival-at-The-Farm-Sept-feature-image.png
END:VEVENT
BEGIN:VEVENT
DTSTART;TZID=UTC:20250926T190000
DTEND;TZID=UTC:20251102T213000
DTSTAMP:20260421T131506
CREATED:20230917T150100Z
LAST-MODIFIED:20250813T113258Z
UID:10000083-1758913200-1762119000@visitohiotoday.com
SUMMARY:Spooky Ranch at Rockin‘-R Ranch
DESCRIPTION:Be prepared to be scared at this terrifying event! Held on weekend nights from late September to early November\, in Columbia Station\, Cleveland. \n\n\n\n\n\n\n\nSpooky Ranch at Rockin’-R Ranch offers five of the scariest attractions in Ohio! \n\n\n\n\nThe Extreme Nightmares Haunted House (visitors must be over 11 years old)\n\n\n\nThe Famous Haunted Hayride (great for kids accompanied by parents/adults)\n\n\n\nThe Haunted Barn\n\n\n\nBloodslingers’ Saloon\n\n\n\nMonster Vision in 3-D\n\n\n\n\nThere will be food tents\, pumpkins\, a farm market\, souvenirs\, and more. \n\n\n\nEvent Hours: \n\n\n\n\nFriday & Saturday: 7 pm – 11.30 pm\n\n\n\nThursday & Sunday: 7 pm – 9.30 pm\n\n\n\n\n\n\n\n\n\n\n\n\n\n\n\n\nDo you have an event that you want to feature (for free) on our VisitOhioToday events calendar? Just send us an email at team@visitohiotoday.com. All submissions subject to approval.
URL:https://visitohiotoday.com/event/spooky-ranch-at-rockin-r-ranch-event/
LOCATION:Spooky Ranch at Rockin’-R Ranch\, 19066 East River Road\, Columbia Station\, OH\, 44028\, United States
CATEGORIES:Festival
ATTACH;FMTTYPE=image/png:https://visitohiotoday.com/wp-content/uploads/2023/09/Spooky-Ranch-Event-feature-image.png
END:VEVENT
BEGIN:VEVENT
DTSTART;TZID=UTC:20250926T200000
DTEND;TZID=UTC:20251025T230000
DTSTAMP:20260421T131506
CREATED:20230912T150100Z
LAST-MODIFIED:20250830T103656Z
UID:10000078-1758916800-1761433200@visitohiotoday.com
SUMMARY:Lake Eerie Fearfest
DESCRIPTION:The Lake Eerie Fearfest is held at the Ghostly Manor Thrill Center in Sandusky. Open each weekend throughout October\, as well as the last weekend of September\, evenings only. Be prepared to be scared! \n\n\n\n\n\n\n\nAttractions at the Lake Eerie Fearfest include Ghostly Manor\, a scary surprise awaits you in every room! Darkmare is a creepy maze – can you find your way out? \n\n\n\nDead in the Water is a cursed ship\, and you will get wet as well as scared! Are you brave enough to take on these terrifying challenges? \n\n\n\nFor the not-so-brave and the kids\, there is a haunted mine ride\, an arcade\, a roller-skating rink an arcade\, and more. \n\n\n\nFestival Dates: \n\n\n\n\nSeptember 26 & 27\n\n\n\nOctober 3 & 4\n\n\n\nOctober 10 & 11\n\n\n\nOctober 17 & 18\n\n\n\nOctober 24 & 25\n\n\n\n\n\n\n\n\n\n\n\n\n\n\n\n\nDo you have an event that you want to feature (for free) on our VisitOhioToday events calendar? Just send us an email at team@visitohiotoday.com. All submissions subject to approval.
URL:https://visitohiotoday.com/event/lake-eerie-fearfest-event/
LOCATION:Lake Eerie Fearfest\, 3319 Milan Road\, Sandusky\, OH\, 44870\, United States
CATEGORIES:Festival
ATTACH;FMTTYPE=image/png:https://visitohiotoday.com/wp-content/uploads/2023/09/Lake-Eerie-Fearfest-Event-feature-image.png
END:VEVENT
BEGIN:VEVENT
DTSTART;TZID=UTC:20250927T090000
DTEND;TZID=UTC:20250927T140000
DTSTAMP:20260421T131506
CREATED:20250904T094134Z
LAST-MODIFIED:20250904T094135Z
UID:10000299-1758963600-1758981600@visitohiotoday.com
SUMMARY:Medina Fall Festival
DESCRIPTION:The Medina Fall Festival is a one-day event held in Medina’s Public Square in late September. All things fall-themed and much more for a fun day out! \n\n\n\n\n\n\n\nThe Medina Fall Festival has activities and entertainment for all ages to enjoy\, and admission is free. \n\n\n\nFind your way through the hay maze\, get involved in line dancing\, or take a horse ride. Watch the apple cider press demo and the puppy parade. \n\n\n\nBe sure to get a snap at the fall-themed photo op. After the chili cook-off\, take part in the tasting and voting. \n\n\n\nThere is a farmers market throughout the day and live entertainment in the Gazebo. \n\n\n\n\n\n\n\n\n\n\n\n\n\n\n\nDo you have an event that you want to feature (for free) on our VisitOhioToday events calendar? Feel free to send us an email at team@visitohiotoday.com. All submissions subject to approval.
URL:https://visitohiotoday.com/event/medina-fall-festival/
LOCATION:Medina Fall Festival\, Public Square\, Medina\, OH\, 44256\, United States
CATEGORIES:Festival
ATTACH;FMTTYPE=image/png:https://visitohiotoday.com/wp-content/uploads/2025/09/VOT-Medina-Fall-Festival-feature-image.png
END:VEVENT
BEGIN:VEVENT
DTSTART;TZID=UTC:20250927T090000
DTEND;TZID=UTC:20250928T180000
DTSTAMP:20260421T131506
CREATED:20230731T083359Z
LAST-MODIFIED:20250731T131140Z
UID:10000052-1758963600-1759082400@visitohiotoday.com
SUMMARY:Germantown Pretzel Festival
DESCRIPTION:Mark your calendars for the Germantown Pretzel Festival\, a tradition celebrating all things German\, especially pretzels! Held in September at Veterans Memorial Park. \n\n\n\n\n\n\n\nEnjoy carnival rides\, craft vendors\, live entertainment\, and various activities over the two days of this festival. Be sure to enjoy plenty of soft pretzels throughout the event. Follow the sidewalks to explore everything the festival offers. \n\n\n\nThe Germantown Pretzel Festival starts with opening ceremonies on Saturday. \n\n\n\nCheck the official website for up-to-date schedule information and opening hours. \n\n\n\n\n\n\n\n\n\n\n\n\n\n\n\nDo you have an event that you want to feature (for free) on our VisitOhioToday events calendar? Just send us an email at team@visitohiotoday.com. All submissions subject to approval.
URL:https://visitohiotoday.com/event/germantown-pretzel-festival-event/
LOCATION:Germantown Pretzel Festival\, Veterans Memorial Park\, 190 W. Warren Street\, Germantown\, OH\, 45327\, United States
CATEGORIES:Festival
ATTACH;FMTTYPE=image/png:https://visitohiotoday.com/wp-content/uploads/2023/07/Germantown-Pretzel-Festival-Event-feature-image.png
END:VEVENT
BEGIN:VEVENT
DTSTART;TZID=UTC:20250927T100000
DTEND;TZID=UTC:20250928T220000
DTSTAMP:20260421T131506
CREATED:20230804T084642Z
LAST-MODIFIED:20250803T112054Z
UID:10000056-1758967200-1759096800@visitohiotoday.com
SUMMARY:Geneva Grape Jamboree
DESCRIPTION:The Geneva Grape Jamboree takes place over two days in late September. This festival is a celebration of the grape harvest in the Geneva area. Visitors can taste grapes\, grape juice\, grape pies\, wine\, and various other products. \n\n\n\n\n\n\n\nThe Geneva Grape Jamboree is full of events and activities for the whole family to enjoy. \n\n\n\nEvents include grape stomping competitions – one for adults and one for children\, a cornhole tournament\, the Jamboree Parade – in two parts\, part one on Saturday and part two on Sunday\, a baby contest for 2- to 4-year-olds\, and one for up to 23 months old – dress them up in their grapey-ist costume to compete! \n\n\n\nThere is live music in the evenings\, including tribute artists. \n\n\n\nThere are over 125 vendors at the Geneva Grape Jamboree. This year’s Miss Grapette and her court will be introduced on Saturday. \n\n\n\nFree public parking is available on the city streets\, and private parking lots surround the city which vary in price. \n\n\n\n\n\n\n\n\n\n\n\n\n\n\n\nDo you have an event that you want to feature (for free) on our VisitOhioToday events calendar? Just send us an email at team@visitohiotoday.com. All submissions subject to approval.
URL:https://visitohiotoday.com/event/geneva-grape-jamboree-event/
LOCATION:Geneva Grape Jamboree\, 81 E. Main Street\, Geneva\, OH\, 44041\, United States
CATEGORIES:Festival
ATTACH;FMTTYPE=image/png:https://visitohiotoday.com/wp-content/uploads/2023/08/Geneva-Grape-Jamboree-Event-feature-image.png
END:VEVENT
BEGIN:VEVENT
DTSTART;TZID=UTC:20250927T120000
DTEND;TZID=UTC:20251102T170000
DTSTAMP:20260421T131506
CREATED:20230909T153600Z
LAST-MODIFIED:20250821T095835Z
UID:10000075-1758974400-1762102800@visitohiotoday.com
SUMMARY:Old West Pumpkin Fest
DESCRIPTION:The Old West Pumpkin Fest is presented by Rockin ‘R Ranch in Columbia Station\, Lorain County. Open on weekends from late September to early November. \n\n\n\n\n\n\n\nThe Old West Pumpkin Fest opens at 12 noon and closes at 5 pm every Saturday and Sunday throughout the fall season. \n\n\n\nThere are lots of activities for the kids\, including pony rides\, a kids’ super slide\, an animal petting farm\, face painting\, and much more. \n\n\n\nThe tractor-pulled wagon ride will drop you at the pumpkin patch\, or if you don’t want to pick a pumpkin\, it will take you on a tour of the farm. \n\n\n\nFood vendors\, a farm market\, souvenirs\, and gem mining are also available. \n\n\n\n\n\n\n\n\n\n\n\n\n\n\n\nDo you have an event that you want to feature (for free) on our VisitOhioToday events calendar? Just send us an email at team@visitohiotoday.com. All submissions subject to approval.
URL:https://visitohiotoday.com/event/old-west-pumpkin-fest-event/
LOCATION:Old West Pumpkin Fest\, 19066 E. River Road\, Columbia Station\, OH\, 44028\, United States
CATEGORIES:Festival
ATTACH;FMTTYPE=image/png:https://visitohiotoday.com/wp-content/uploads/2023/09/Old-West-Pumpkin-Fest-Event-feature-image.png
END:VEVENT
BEGIN:VEVENT
DTSTART;TZID=UTC:20250927T140000
DTEND;TZID=UTC:20250927T223000
DTSTAMP:20260421T131506
CREATED:20240902T101550Z
LAST-MODIFIED:20250728T115302Z
UID:10000195-1758981600-1759012200@visitohiotoday.com
SUMMARY:Oktoberfest Findlay
DESCRIPTION:Oktoberfest Findlay is one of the largest single-day events in Hancock County. This celebration of local German heritage takes place in late September. \n\n\n\n\n\n\n\nOktoberfest Findlay is a one-day celebration in Downtown Findlay\, with live traditional German music and entertainment\, contests\, authentic German food\, a Kid Zone\, and of course\, craft and German beers. \n\n\n\nContests include Steinholding\, Beer Tray Obstacle Course\, and Brat Eating. \n\n\n\nThere are around 20 food vendors offering food such as German sausages\, loaded chicken\, grilled food\, and kettle corn. The attending microbreweries will be offering their craft beers. \n\n\n\nThere is a small admission fee\, and it is cash only. There are four entry points. \n\n\n\nCheck out the Facebook page for up-to-date information. \n\n\n\n\n\n\n\n\n\n\n\n\n\n\n\nDo you have an event that you want to feature (for free) on our VisitOhioToday events calendar? Just complete this form or feel free to send us an email at outreach@visitohiotoday.com. All submissions subject to approval.
URL:https://visitohiotoday.com/event/oktoberfest-findlay/
LOCATION:Oktoberfest Findlay\, Downtown Findlay\, Findlay\, OH\, 45840\, United States
CATEGORIES:Festival
ATTACH;FMTTYPE=image/png:https://visitohiotoday.com/wp-content/uploads/2024/09/VOT-Oktoberfest-Findlay-feature-image.png
END:VEVENT
END:VCALENDAR