BEGIN:VCALENDAR
VERSION:2.0
PRODID:-//Visit Ohio Today - ECPv6.15.20//NONSGML v1.0//EN
CALSCALE:GREGORIAN
METHOD:PUBLISH
X-WR-CALNAME:Visit Ohio Today
X-ORIGINAL-URL:https://visitohiotoday.com
X-WR-CALDESC:Events for Visit Ohio Today
REFRESH-INTERVAL;VALUE=DURATION:PT1H
X-Robots-Tag:noindex
X-PUBLISHED-TTL:PT1H
BEGIN:VTIMEZONE
TZID:UTC
BEGIN:STANDARD
TZOFFSETFROM:+0000
TZOFFSETTO:+0000
TZNAME:UTC
DTSTART:20220101T000000
END:STANDARD
END:VTIMEZONE
BEGIN:VEVENT
DTSTART;TZID=UTC:20230909T100000
DTEND;TZID=UTC:20230909T170000
DTSTAMP:20260421T104752
CREATED:20230904T144023Z
LAST-MODIFIED:20230904T144024Z
UID:10000071-1694253600-1694278800@visitohiotoday.com
SUMMARY:310 Soap Company & The Henry Manor Grand Opening
DESCRIPTION:The 310 Soap Company & The Henry Manor Grand Opening is in Lancaster on Saturday\, September 9\, 2023\, from 10am to 5pm. \n\n\n\n\n\n\n\nImages courtesy of 310 Soap Company & The Henry Manor \n\n\n\nAfter some renovations\, The Henry Manor has re-opened event bookings and is celebrating with a grand opening on Saturday\, September 9. \n\n\n\nThe historic Victorian Italianate manor house has become the new home to the artisan skincare boutique\, 310 Soap Company. \n\n\n\nTo celebrate the grand re-opening of the manor\, the owners\, Charlie and Stephanie Warino\, are offering 15% off weddings through summer 2024. For more details\, check out the Henry Manor Events Website. \n\n\n\nRegular hours for 310 Soap Company will be established at a later date. Check their website for further information. \n\n\n\nGo along to support local businesses in your area! The Warinos are passionate about supporting the Lancaster community. Look out for artisan markets in the manor’s grounds in the future. \n\n\n\n\n\n\n\n\n\n\n\n\n\n\n\nDo you have an event that you want to feature (for free) on our VisitOhioToday events calendar? Just send us an email at team@visitohiotoday.com. All submissions subject to approval.
URL:https://visitohiotoday.com/event/310-soap-company-the-henry-manor/
LOCATION:310 Soap Company & The Henry Manor\, 1755 Cedar Hill Rd\, Lancaster\, Ohio\, 43130\, United States
CATEGORIES:Event
ATTACH;FMTTYPE=image/png:https://visitohiotoday.com/wp-content/uploads/2023/09/310-Soap-Henry-Manor-feature-image.png
END:VEVENT
BEGIN:VEVENT
DTSTART;TZID=UTC:20230905T230000
DTEND;TZID=UTC:20230906T010000
DTSTAMP:20260421T104752
CREATED:20230724T133901Z
LAST-MODIFIED:20230724T133904Z
UID:10000037-1693954800-1693962000@visitohiotoday.com
SUMMARY:Bluegrass Jam
DESCRIPTION:Come and join us on stage at the charming park-like setting behind the Famous Old Time Music Company store in Millville\, OH. If you’re a musician\, don’t forget to bring your acoustic instrument for a fantastic jam session! The music genre we typically play is bluegrass and country\, and all skill levels are warmly welcomed. We make sure to provide an equal opportunity for everyone who wishes to perform to shine on stage. \n\n\n\nIf you prefer to be a spectator\, feel free to take a seat at our newly installed picnic tables or bring your lawnchair. You can also bring along some non-alcoholic refreshments and bug repellant to ensure a comfortable evening. Admission is free\, and no tickets are required; simply show up and enjoy the great atmosphere. \n\n\n\nThese wonderful musical gatherings take place weekly on Tuesdays from 7 to 9 pm\, provided that the weather cooperates. For updates\, you can either call 419-568-1220 or check our Facebook page @famousoldtimemusiccompany. We look forward to seeing you there!
URL:https://visitohiotoday.com/event/bluegrass-jam/
LOCATION:Famous Old Time Music Company\, 1196 Ross Millville Road\, Hamilton\, OH\, 45013\, United States
ATTACH;FMTTYPE=image/png:https://visitohiotoday.com/wp-content/uploads/2023/07/bluegrass-feature-image.png
END:VEVENT
BEGIN:VEVENT
DTSTART;TZID=UTC:20230722T140000
DTEND;TZID=UTC:20230722T200000
DTSTAMP:20260421T104752
CREATED:20230712T203434Z
LAST-MODIFIED:20230713T181608Z
UID:10000003-1690034400-1690056000@visitohiotoday.com
SUMMARY:The City Flea
DESCRIPTION:Support small businesses and experience Cincinnati in a unique and engaging way during The City Flea! The City Flea is Cincinnati’s monthly curated\, urban flea market. Held right in the middle of Washington Park\, bring your loved ones for a shopping rendezvous\, and explore multiple-local vendors throughout the area. Items sold at The City Flea range from vintage trinkets to home décor and everything in between. If you are hunting for hidden treasures to give as a gift or something special for yourself– there’s something for everyone at The City Flea!\n \n* On Saturday\, August 12 from 10 a.m.-2 p.m.\, The City Flea is hosting a Kids Market. In conjunction with its regularly scheduled market\, the Kids Market is giving local children a venue to showcase their products plus a opportunity to get an inside look on how it’s like to own and run a small business. 
URL:https://visitohiotoday.com/event/the-city-flea/
LOCATION:1230 Elm Street Cincinnati\, OH 45210
END:VEVENT
BEGIN:VEVENT
DTSTART;TZID=UTC:20230715T143000
DTEND;TZID=UTC:20230715T173000
DTSTAMP:20260421T104752
CREATED:20230712T203434Z
LAST-MODIFIED:20230713T181608Z
UID:10000002-1689431400-1689442200@visitohiotoday.com
SUMMARY:Cincy Brunch and Streetcar Tour
DESCRIPTION:Take a bite out of Cincinnati while exploring the city’s downtown roots during Riverside Food Tours’ Cincy Brunch and Streetcar Tour. Spend the morning strolling and riding the streetcar through Over the Rhine in downtown Cincinnati with your friends and family.  Learn about the city and view colorful multi-story murals. Throughout the three-hour excursion\, enjoy generous tastings from six local restaurants and eateries. You also get to hear interesting facts about Washington Park\, Music Hall\, and visit Findlay Market — the oldest urban market in Ohio. Grab your tickets today and see what makes Cincinnati special.\nParking is available directly underneath the Washington Park Garage. Two vehicular entrances/exits are located on Race Street and Elm Street.\nPlease Note: This brunch tour features dishes made with a variety of foods. Vegetarian dishes are available. Riverside Food Tours does not provide arrangements for guests who are vegan\, need gluten-free\, lactose-free\, low-carb foods or those with nut/food allergies\, Celiac disease or diabetes.
URL:https://visitohiotoday.com/event/cincy-brunch-and-streetcar-tour/
LOCATION:1400 Elm Street Cincinnati\, OH 45202
END:VEVENT
BEGIN:VEVENT
DTSTART;TZID=UTC:20230714T080000
DTEND;TZID=UTC:20230714T170000
DTSTAMP:20260421T104752
CREATED:20230713T182313Z
LAST-MODIFIED:20230713T182314Z
UID:10000007-1689321600-1689354000@visitohiotoday.com
SUMMARY:Test Event
DESCRIPTION:Testing event for dates
URL:https://visitohiotoday.com/event/test-event/
END:VEVENT
BEGIN:VEVENT
DTSTART;TZID=UTC:20230713T040000
DTEND;TZID=UTC:20230714T040000
DTSTAMP:20260421T104752
CREATED:20230713T181607Z
LAST-MODIFIED:20230713T181726Z
UID:10000009-1689220800-1689307200@visitohiotoday.com
SUMMARY:Rockin’ the Roebling Concert Series
DESCRIPTION:Turn your summer plans up a notch and listen to live music at the Smale Riverfront Park’s Schmidlapp Event Lawn during Rockin’ the Roebling! Enjoy big-time local bands in front of the beautiful backdrop of the Roebling Bridge. \nRockin’ The Roebling Music Lineup:•    June 1\, 2023: Marsha Brady (6–10 p.m.) •    June 8\, 2023: Electric Indigo (7–8 p.m.) + Sylmar (8–10 p.m.) •    June 15\, 2023: Brother Smith (6–10 p.m.) •    June 22\, 2023: The Menus (6–10 p.m.) •    June 29\, 2023: DV8 (6–10 p.m.) •    July 6\, 2023: Noah Wotherspoon (6–10 p.m.) •    July 13\, 2023: Season 10 (7–8:30 p.m.) + Antematter (8:30–10 p.m.) •    July 20\, 2023: Trauma Illinois (6–10 p.m.) •    July 27\, 2023: 500 Miles to Memphis (6–10 p.m.) •    August 3\, 2023: The Foles (7 – 8:30 p.m.) + Steve Covington and the Humble Strays (8:30–10 p.m.) •    August 10\, 2023:Erin Coburn (6–10 p.m.) •    August 17\, 2023: Crown Watts (6–10 p.m.) •    August 24\, 2023: Positive Vibes Band (6–10 p.m.) •    August 31\, 2023: Naked Karate Girls (6–10 p.m.) \nWhile jamming to songs played on stage\, purchase a few refreshments at the park during each event. To make your visit(s) even better\, Smale Riverfront Park offers walking trails\, public art\, play areas and other amenities that the whole family can enjoy. Get your blankets and lawn chairs ready because there’s no better way to celebrate the warm summer months than at Smale Riverfront Park’s Rockin’ the Roebling concert series!
URL:https://visitohiotoday.com/event/rockin-the-roebling-concert-series/
LOCATION:4 Beech Lane Cincinnati\, OH 45208
END:VEVENT
END:VCALENDAR