BEGIN:VCALENDAR
VERSION:2.0
PRODID:-//Visit Ohio Today - ECPv6.15.20//NONSGML v1.0//EN
CALSCALE:GREGORIAN
METHOD:PUBLISH
X-WR-CALNAME:Visit Ohio Today
X-ORIGINAL-URL:https://visitohiotoday.com
X-WR-CALDESC:Events for Visit Ohio Today
REFRESH-INTERVAL;VALUE=DURATION:PT1H
X-Robots-Tag:noindex
X-PUBLISHED-TTL:PT1H
BEGIN:VTIMEZONE
TZID:UTC
BEGIN:STANDARD
TZOFFSETFROM:+0000
TZOFFSETTO:+0000
TZNAME:UTC
DTSTART:20230101T000000
END:STANDARD
END:VTIMEZONE
BEGIN:VEVENT
DTSTART;TZID=UTC:20240907T100000
DTEND;TZID=UTC:20240907T160000
DTSTAMP:20260422T014044
CREATED:20240904T102822Z
LAST-MODIFIED:20240904T102823Z
UID:10000196-1725703200-1725724800@visitohiotoday.com
SUMMARY:Hancock Historical Museum's Historic Barn Tour
DESCRIPTION:Jenera/Rawson area in southern Hancock County \n\n\n\nThis self-guided tour will feature six historic barns\, dating from the early 1860s to the 1930s in the southern half of Hancock County. Each barn tells a unique story about the farm on which it sits\, and the families who have owned it. In addition to learning more about these impressive structures\, guests on the tour will enjoy a wide array of activities! \n\n\n\nThe Hancock Historical Museum’s Historic Barn Tour was awarded the Ohio State Historic Preservation Office’s Public Education & Awareness Award for preservation excellence in 2014. Ohio History Connection’s former CEO\, Burt Logan\, recognized the Historic Barn Tour as a “model program for the state.” In 2018\, the Historic Barn Tour was honored to be a recipient of the Scenic Ohio Award. \n\n\n\nAdmission:Pre-sale: $10Day of: $10 for Hancock Historical Museum Members/$15 for NonmembersTickets will be available at any of the barns on the day of the tour.Children ages 16 and under are free – no ticket required! \n\n\n\n​Featured activities include:Food Vendors – Live Music – Demonstrations – Antique Tractors – Craft Beer Tasting – Artists – Farmer’s Market Vendors – Kids Activities – Souvenirs
URL:https://visitohiotoday.com/event/hancock-historical-museums-historic-barn-tour/
LOCATION:Jenera\, Ohio\, 8172 State Rt. 103\, Jenera\, OH\, 45841\, United States
CATEGORIES:Event
ATTACH;FMTTYPE=image/png:https://visitohiotoday.com/wp-content/uploads/2024/09/Barn-Tour-2024-FB-Ad-2.png
ORGANIZER;CN="Hancock Historical Museum":MAILTO:jbennett@hancockhistoricalmuseum.org
END:VEVENT
BEGIN:VEVENT
DTSTART;TZID=UTC:20240927T170000
DTEND;TZID=UTC:20241027T220000
DTSTAMP:20260422T014044
CREATED:20230824T145950Z
LAST-MODIFIED:20240923T214853Z
UID:10000068-1727456400-1730066400@visitohiotoday.com
SUMMARY:Jack O’Lantern World
DESCRIPTION:Thousands of hand-carved Jack O’Lanterns are coming to Columbus at Franklin County Fairground’s newest fall attraction: Jack O’Lantern World. Open from September 27 until October 27. \n\n\n\n\n\n\n\nImage courtesy of Jack O’Lantern World and All Community Events \n\n\n\nWhen we updated this post in August\, this event was listed on their official page\, but Ohio is no longer listed. Please check their official page for the most up-to-date information. \n\n\n\nJack O‘Lantern World is the vision and creation of an award-winning artist supported by a team of over 50 artisans\, designers\, architects\, carpenters\, and event planners. This experience is expanding around the country from its original location in Chicago where it sold out most nights. \n\n\n\nThis experience will feature Ohio’s largest 1000+ LB Jack O’Lanterns. With an expected attendance of over 60\,000\, this 3/4-mile-long walk is designed to be an incredible experience to celebrate Halloween\, art\, nature\, and fall. \n\n\n\nThe route is mostly gravel\, partially paved\, and a few short sections of grass. Most will find it navigable by stroller or wheelchair\, but some may not. \n\n\n\nEvent submitted by All Community Events. \n\n\n\n\n\n\n\n\n\n\n\nDo you have an event that you want to feature (for free) on our VisitOhioToday events calendar? Just send us an email at team@visitohiotoday.com. All submissions subject to approval.
URL:https://visitohiotoday.com/event/jack-olantern-world/
LOCATION:Jack O’Lantern World\, Franklin County Fairgrounds 4951 Northwest Parkway\, Hilliard\, OH\, United States
CATEGORIES:Festival
ATTACH;FMTTYPE=image/png:https://visitohiotoday.com/wp-content/uploads/2023/08/Jack-O-Lantern-World-feature-image.png
END:VEVENT
END:VCALENDAR