BEGIN:VCALENDAR
VERSION:2.0
PRODID:-//Visit Ohio Today - ECPv6.15.20//NONSGML v1.0//EN
CALSCALE:GREGORIAN
METHOD:PUBLISH
X-WR-CALNAME:Visit Ohio Today
X-ORIGINAL-URL:https://visitohiotoday.com
X-WR-CALDESC:Events for Visit Ohio Today
REFRESH-INTERVAL;VALUE=DURATION:PT1H
X-Robots-Tag:noindex
X-PUBLISHED-TTL:PT1H
BEGIN:VTIMEZONE
TZID:UTC
BEGIN:STANDARD
TZOFFSETFROM:+0000
TZOFFSETTO:+0000
TZNAME:UTC
DTSTART:20240101T000000
END:STANDARD
END:VTIMEZONE
BEGIN:VEVENT
DTSTART;TZID=UTC:20250405T160000
DTEND;TZID=UTC:20250405T200000
DTSTAMP:20260421T142805
CREATED:20240207T094708Z
LAST-MODIFIED:20250214T140658Z
UID:10000143-1743868800-1743883200@visitohiotoday.com
SUMMARY:Downtown Akron Sakura Festival
DESCRIPTION:The Downtown Akron Sakura Festival will celebrate spring and cherry blossom trees in early April. \n\n\n\n\n\n\n\nThe annual Downtown Akron Sakura Festival is a free event that welcomes spring and celebrates the over 450 cherry blossom trees along the Ohio & Erie Canal Towpath Trail.  \n\n\n\nThe festival features art demonstrations\, sushi\, sake\, traditional Japanese music\, a bike ride\, a story walk\, origami\, Ikebana\, and kimono and bonsai vendors.  \n\n\n\nEvents span the Towpath Trail\, Mustill Store\, Ohio & Erie Canal Park\, Locks 1-3\, and the Towpath Trailhead at Spaghetti Warehouse. \n\n\n\n\n\n\n\n\n\n\n\n\n\n\n\nDo you have an event that you want to feature (for free) on our VisitOhioToday events calendar? Just send us an email at team@visitohiotoday.com. All submissions subject to approval.
URL:https://visitohiotoday.com/event/downtown-akron-sakura-festival-event/
LOCATION:Downtown Akron Sakura Festival\, 47 W Exchange St\, Akron\, OH\, 44308\, United States
CATEGORIES:Festival
ATTACH;FMTTYPE=image/png:https://visitohiotoday.com/wp-content/uploads/2024/01/Downtown-Akron-Sakura-Festival-Event-feature-image.png
END:VEVENT
BEGIN:VEVENT
DTSTART;TZID=UTC:20250410T160000
DTEND;TZID=UTC:20250412T170000
DTSTAMP:20260421T142805
CREATED:20240207T094129Z
LAST-MODIFIED:20250214T140639Z
UID:10000137-1744300800-1744477200@visitohiotoday.com
SUMMARY:Ohio PinBrew Fest
DESCRIPTION:The Ohio PinBrew Fest showcases pinball machines\, arcades\, free play\, tournaments\, and more. \n\n\n\nPhoto courtesy of Ohio Pinbrew Fest\n\n\n\nThe Ohio PinBrew Fest at The Metroplex Expo Center offers dozens of free-play pinball machines.  \n\n\n\nOpening day features free play on all games\, the start of the tournament\, and craft beer.  \n\n\n\nThe second day is a full day of pinball\, with the tournament continuing and craft beer starting at noon.  \n\n\n\nThe final day is family day\, with kids under 11 free. Enjoy pinball\, get an autograph from artist Christopher Franchi\, and watch the tournament finals with food and drinks.  \n\n\n\nTickets available online or at the door. \n\n\n\n\n\n\n\n\n\n\n\n\n\n\n\nDo you have an event that you want to feature (for free) on our VisitOhioToday events calendar? Just send us an email at team@visitohiotoday.com. All submissions subject to approval.
URL:https://visitohiotoday.com/event/ohio-pinbrew-fest-event/
LOCATION:Ohio PinBrew Fest\, 1620 Motor Inn Drive\, Girard\, OH\, 44420\, United States
CATEGORIES:Festival
ATTACH;FMTTYPE=image/png:https://visitohiotoday.com/wp-content/uploads/2024/01/Ohio-PinBrew-Fest-Event-feature-image.png
END:VEVENT
BEGIN:VEVENT
DTSTART;TZID=UTC:20250410T200000
DTEND;TZID=UTC:20250413T210000
DTSTAMP:20260421T142805
CREATED:20240131T095343Z
LAST-MODIFIED:20250214T140620Z
UID:10000133-1744315200-1744578000@visitohiotoday.com
SUMMARY:Holy Toledo Polka Days
DESCRIPTION:The Holy Toledo Polka Days\, showcasing Polka artists and Polish American culture\, takes place in mid-April. \n\n\n\n\n\n\n\nHoly Toledo Polka Days is a festival that features polka music and dancing. With events taking place at different locations\, be sure to check the website if you wish to attend. \n\n\n\nThe main events are held at the Holiday Inn & Suites in Perrysburg. \n\n\n\nEvents include Polka Party Nights\, and nights full of polka music. Drink and food are also available. Check the website for full schedule details. \n\n\n\nTickets are available on the event website or at the door. \n\n\n\n\n\n\n\n\n\n\n\n\n\n\n\nDo you have an event that you want to feature (for free) on our VisitOhioToday events calendar? Just send us an email at team@visitohiotoday.com. All submissions subject to approval.
URL:https://visitohiotoday.com/event/holy-toledo-polka-days-event/
LOCATION:Holy Toledo Polka Days\, 27355 Carronade Drive\, Perrysburg\, OH\, 43551\, United States
CATEGORIES:Festival
ATTACH;FMTTYPE=image/png:https://visitohiotoday.com/wp-content/uploads/2024/01/Holy-Toledo-Polka-Days-Event-feature-image.png
END:VEVENT
BEGIN:VEVENT
DTSTART;TZID=UTC:20250412T090000
DTEND;TZID=UTC:20250412T120000
DTSTAMP:20260421T142805
CREATED:20250312T125313Z
LAST-MODIFIED:20250312T134235Z
UID:10000227-1744448400-1744459200@visitohiotoday.com
SUMMARY:Kids Fishing Day
DESCRIPTION:Kids Fishing Day is at Crystal Lake Park in Eaton in early April. Bring your little anglers along to enjoy a morning of fishing on the lake! \n\n\n\n\n\n\n\nThis community event is held in conjunction with the Ohio Department of Natural Resources Division of Wildlife Catchable Rainbow Trout program. \n\n\n\nBring your kid or kids along to fish with complimentary bobbers and chances to win fishing poles and other prizes. Free donuts\, hot chocolate\, and coffee available throughout the event. \n\n\n\nCrystal Lake will be stocked with Rainbow Trout typically around 10-13 inches long prior to the event. \n\n\n\nNOTE: Anglers aged 16 and over require a valid Ohio fishing license to participate. Younger anglers do not need a license. \n\n\n\n\n\n\n\n\n\n\n\n\n\n\n\nDo you have an event that you want to feature (for free) on our VisitOhioToday events calendar? Feel free to send us an email at team@visitohiotoday.com. All submissions subject to approval.
URL:https://visitohiotoday.com/event/kids-fishing-day/
LOCATION:Kids Fishing Day\, 101 Water St\, Eaton\, OH\, 45320\, United States
CATEGORIES:Festival
ATTACH;FMTTYPE=image/png:https://visitohiotoday.com/wp-content/uploads/2025/03/VOT-Kids-Fishing-Day-feature-image.png
END:VEVENT
BEGIN:VEVENT
DTSTART;TZID=UTC:20250424T120000
DTEND;TZID=UTC:20250427T190000
DTSTAMP:20260421T142805
CREATED:20240125T122758Z
LAST-MODIFIED:20250220T132414Z
UID:10000132-1745496000-1745780400@visitohiotoday.com
SUMMARY:Geauga County Maple Festival
DESCRIPTION:The Geauga County Maple Festival\, a family-friendly event honoring maple syrup\, occurs on the last full weekend of April each year\, at Chardon Square in Chardon. \n\n\n\n\n\n\n\nStart your day at the Geauga County Maple Festival with Pancakes in the Park\, featuring the Pancake Eating Contest for those 18 and older. Enjoy rides\, concessions\, and an arts and crafts show on Chardon Square. \n\n\n\nParticipate in the Sap Run (1 mile or 5 miles) or cheer for the Bathtub Races. Kids aged 5 to 11 can try the Kiddie Tractor Pull. \n\n\n\nExperience Invitational Lumberjack Competitions\, live music\, and entertainment. Join baking contests at the Maple Festival\, indulge in maple treats\, and purchase award-winning syrup at the Maple Syrup Blue Ribbon Auction. \n\n\n\nDon’t miss the Grand Parade over two days\, featuring prizes for the best floats\, marching groups\, cars\, and horses. Free shuttle bus service is available throughout the festival. \n\n\n\n\n\n\n\n\n\n\n\n\n\n\n\nDo you have an event that you want to feature (for free) on our VisitOhioToday events calendar? Just send us an email at team@visitohiotoday.com. All submissions subject to approval.
URL:https://visitohiotoday.com/event/geauga-county-maple-festival-event/
LOCATION:Geauga County Maple Festival\, 100 Short Ct St\, Chardon\, OH\, 44024\, United States
CATEGORIES:Festival
ATTACH;FMTTYPE=image/png:https://visitohiotoday.com/wp-content/uploads/2024/01/Geauga-County-Maple-Festival-Event-feature-image-1.png
END:VEVENT
BEGIN:VEVENT
DTSTART;TZID=UTC:20250425T120000
DTEND;TZID=UTC:20250427T170000
DTSTAMP:20260421T142805
CREATED:20250213T161627Z
LAST-MODIFIED:20250214T140603Z
UID:10000222-1745582400-1745773200@visitohiotoday.com
SUMMARY:Pike County Dogwood Festival
DESCRIPTION:The Pike County Dogwood Festival celebrates the Dogwood tree and takes place during the last full weekend in April each year when the trees are in full bloom. \n\n\n\n\n\n\n\nThis festival is in Piketon and it promotes the history of the area. \n\n\n\nThere are fairground rides\, cooking contests\, an arm-wresting championship\, and a parade. \n\n\n\nLive music is on the stages each afternoon\, and other demonstrations also take place on the two stages. \n\n\n\nCheck out their Facebook page for schedule information.
URL:https://visitohiotoday.com/event/pike-county-dogwood-festival/
LOCATION:Pike County Dogwood Festival\, 715 Main Street\, Piketon\, OH\, 45661\, United States
CATEGORIES:Festival
ATTACH;FMTTYPE=image/png:https://visitohiotoday.com/wp-content/uploads/2025/02/VOT-Pike-County-Dogwood-Festival-feature-image.png
END:VEVENT
BEGIN:VEVENT
DTSTART;TZID=UTC:20250425T160000
DTEND;TZID=UTC:20250426T170000
DTSTAMP:20260421T142805
CREATED:20250303T130903Z
LAST-MODIFIED:20250303T130904Z
UID:10000226-1745596800-1745686800@visitohiotoday.com
SUMMARY:Spring at the Round Barn
DESCRIPTION:Spring at the Round Barn market is held at the Fairfield County Fairgrounds in Lancaster\, Ohio in late April. NOTE: Friday 4 pm – 8 pm\, Saturday 9 am – 5 pm. \n\n\n\n\n\n\n\nThere are over 125 booths located inside the historic Round Barn and under tents on the Fairgrounds. \n\n\n\nItems for sale include furniture\, seasonal spring goods\, artisan crafted jewelry\, original art\, hand poured candles\, and so much more! There are food trucks and live music too. \n\n\n\nEarly Bird tickets are available online. \n\n\n\n\n\n\n\n\n\n\n\n\n\n\n\nDo you have an event that you want to feature (for free) on our VisitOhioToday events calendar? Just send us an email at team@visitohiotoday.com. All submissions subject to approval.
URL:https://visitohiotoday.com/event/spring-at-the-round-barn/
LOCATION:Spring at the Round Barn\, 157 E Fair Ave\, Lancaster\, OH\, 43130\, United States
CATEGORIES:Festival
ATTACH;FMTTYPE=image/png:https://visitohiotoday.com/wp-content/uploads/2025/03/VOT-Spring-at-the-Round-Barn-feature-image.png
END:VEVENT
BEGIN:VEVENT
DTSTART;TZID=UTC:20250425T170000
DTEND;TZID=UTC:20250427T170000
DTSTAMP:20260421T142805
CREATED:20240131T094627Z
LAST-MODIFIED:20250218T115032Z
UID:10000134-1745600400-1745773200@visitohiotoday.com
SUMMARY:Sugar Maple Festival
DESCRIPTION:The Sugar Maple Festival celebrates Ohio-made maple syrup in April\, featuring vendors\, crafts\, and live music. \n\n\n\n\n\n\n\nThe 43rd Sugar Maple Festival offers Ohio-made maple syrup and free maple trees to plant.  \n\n\n\nEnjoy craft beers\, wine\, and cider at the beer garden with live music on Friday and Saturday.  \n\n\n\nIndulge in an all-you-can-eat pancake breakfast\, a Saturday 5k race\, and various entertainment.  \n\n\n\nKids can enjoy carnival games\, face painting\, and prizes. Saturday features a dog show and animal food drive for the Greene County Animal Shelter. Don’t miss the parade on West Franklin Street.  \n\n\n\nThere are Citizen of the Year\, Teacher of the Year\, and sweetheart contest awards.  \n\n\n\nExplore food and craft vendors throughout the festival. \n\n\n\n\n\n\n\n\n\n\n\n\n\n\n\nDo you have an event that you want to feature (for free) on our VisitOhioToday events calendar? Just send us an email at team@visitohiotoday.com. All submissions subject to approval.
URL:https://visitohiotoday.com/event/sugar-maple-festival-event/
LOCATION:Sugar Maple Festival\, 57 N Main St\, Bellbrook\, OH\, 45305\, United States
CATEGORIES:Festival
ATTACH;FMTTYPE=image/png:https://visitohiotoday.com/wp-content/uploads/2024/01/Sugar-Maple-Festival-Event-feature-image-1.png
END:VEVENT
BEGIN:VEVENT
DTSTART;TZID=UTC:20250426T100000
DTEND;TZID=UTC:20250426T160000
DTSTAMP:20260421T142805
CREATED:20250220T142947Z
LAST-MODIFIED:20250220T142948Z
UID:10000225-1745661600-1745683200@visitohiotoday.com
SUMMARY:Macedonia SpringFest
DESCRIPTION:The Macedonia SpringFest is at Longwood Park to celebrate Earth Day\, Arbor Day\, and the beginning of spring. Held in late April. \n\n\n\n\n\n\n\nThis festival is a rain-or-shine event. If the weather is not good it will be held inside the Macedonia Recreation Center. \n\n\n\nStroll around the craft vendors and food vendors\, and get involved with kid’s activities\, craft classes\, a plant swap\, and community cleanup! \n\n\n\nSee the website for more information.
URL:https://visitohiotoday.com/event/macedonia-springfest/
LOCATION:Macedonia SpringFest\, 1566 E Aurora Rd\, Macedonia\, OH\, 44056\, United States
CATEGORIES:Festival
ATTACH;FMTTYPE=image/png:https://visitohiotoday.com/wp-content/uploads/2025/02/VOT-Macedonia-SpringFest-feature-image.png
END:VEVENT
BEGIN:VEVENT
DTSTART;TZID=UTC:20250426T100000
DTEND;TZID=UTC:20250427T170000
DTSTAMP:20260421T142805
CREATED:20240113T115557Z
LAST-MODIFIED:20250221T145547Z
UID:10000129-1745661600-1745773200@visitohiotoday.com
SUMMARY:Ashville Viking Festival
DESCRIPTION:Experience the Ashville Viking Festival\, a family-friendly living history event covering diverse time periods. \n\n\n\nPhoto courtesy of Ashville Viking Festival\n\n\n\nJoin us for the Ashville Viking Festival at Community Park in Ashville. \n\n\n\nExplore 2\,500 years of living history\, from Ancient Rome to the Holy Roman Empire and beyond! Camps and displays showcase different time periods with interactive reenactors. \n\n\n\nDiscover the evolution of weapons\, meet craftsmen and authors\, and shop for Viking-themed goods at the Saxon Market.  \n\n\n\nEnjoy diverse entertainment like juggling\, dancing\, fire-breathing\, and a full-contact joust. Indulge in a feast at Heimdall’s Horn a’ Plenty or Thor’s Feast Hall\, and savor treats from food booths.  \n\n\n\nKids can have fun with face painting\, Viking games\, and more. Admission is free; bring canned food donations. \n\n\n\n\n\n\n\n\n\n\n\n\n\n\n\nDo you have an event that you want to feature (for free) on our VisitOhioToday events calendar? Just send us an email at team@visitohiotoday.com. All submissions subject to approval.
URL:https://visitohiotoday.com/event/ashville-viking-festival-event/
LOCATION:Ashville Viking Festival\, 165 Walnut Street\, Ashville\, Ohio\, 43103\, United States
CATEGORIES:Festival
ATTACH;FMTTYPE=image/png:https://visitohiotoday.com/wp-content/uploads/2023/12/Ashville-Viking-Festival-Event-feature-image.png
END:VEVENT
END:VCALENDAR