BEGIN:VCALENDAR
VERSION:2.0
PRODID:-//Visit Ohio Today - ECPv6.15.20//NONSGML v1.0//EN
CALSCALE:GREGORIAN
METHOD:PUBLISH
X-WR-CALNAME:Visit Ohio Today
X-ORIGINAL-URL:https://visitohiotoday.com
X-WR-CALDESC:Events for Visit Ohio Today
REFRESH-INTERVAL;VALUE=DURATION:PT1H
X-Robots-Tag:noindex
X-PUBLISHED-TTL:PT1H
BEGIN:VTIMEZONE
TZID:UTC
BEGIN:STANDARD
TZOFFSETFROM:+0000
TZOFFSETTO:+0000
TZNAME:UTC
DTSTART:20240101T000000
END:STANDARD
END:VTIMEZONE
BEGIN:VEVENT
DTSTART;TZID=UTC:20250703T160000
DTEND;TZID=UTC:20250706T220000
DTSTAMP:20260421T095915
CREATED:20250417T094206Z
LAST-MODIFIED:20250417T094222Z
UID:10000254-1751558400-1751839200@visitohiotoday.com
SUMMARY:First Town Days Festival
DESCRIPTION:The First Town Days Festival is held at Tuscora Park\, New Philadelphia\, in July. The festival helps to raise funds to support park projects\, as well as being great family fun! \n\n\n\n\n\n\n\nThe festival opens at 4 pm on Thursday. There will be vendor booths and food trucks throughout the festival. \n\n\n\nSee the Grand Parade and enjoy entertainment and live music in the Cronebaugh Tent and on the Al Maloney Midway stage at various times over the four days. \n\n\n\nActivities include a Bocce tournament\, bingo\, softball games\, a baby contest\, a kiddie tractor pull\, a pedal tractor pull\, a men’s leg contest\, and a pie-eating contest. \n\n\n\nVisitors can demonstrate their talent at the amateur talent show and see the cars of yesteryear at the Classic Car Show. \n\n\n\nFun family events include a fishing derby\, a frog-jumping contest\, turtle races\, parent/child sack races\, and parent/child hoop shoot. There is also a big fireworks display. \n\n\n\n\n\n\n\n\n\n\n\n\n\n\n\nDo you have an event that you want to feature (for free) on our VisitOhioToday events calendar? Feel free to send us an email at team@visitohiotoday.com. All submissions subject to approval.
URL:https://visitohiotoday.com/event/first-town-days-festival/
LOCATION:First Town Days Festival\, Tuscora Park\, 161 Tuscora Ave\, New Philadelphia\, OH\, 44663\, United States
CATEGORIES:Festival
ATTACH;FMTTYPE=image/png:https://visitohiotoday.com/wp-content/uploads/2025/04/VOT-First-Town-Days-Festival-feature-image.png
END:VEVENT
BEGIN:VEVENT
DTSTART;TZID=UTC:20250710T170000
DTEND;TZID=UTC:20250712T180000
DTSTAMP:20260421T095915
CREATED:20240612T095202Z
LAST-MODIFIED:20250510T113800Z
UID:10000180-1752166800-1752343200@visitohiotoday.com
SUMMARY:Picktown Palooza
DESCRIPTION:Picktown Palooza is a three-day\, family-oriented celebration in July in Pickerington. \n\n\n\n\n\n\n\nIf you are looking for a fun event this summer\, Picktown Palooza is the place to go! From a national entertainment line-up\, lots of food vendors\, beer gardens\, and carnival rides\, to a Freedom 5K run/walk\, a business showcase\, and a car\, truck\, and bike show\, this palooza has something for everyone! \n\n\n\nThere is a full entertainment lineup\, and food vendors will be there to satisfy your cravings. Beer Gardens will be open from 5 pm to 11 pm on Thursday\, and from 5 pm to midnight on Friday and Saturday.  \n\n\n\nKids’ Corner is an exciting area planned for kids 10 years old and younger. They will have fun on Uncle Sam’s Slide and the large Jurassic Park Bounce/Slide Combo\, or making their way through the Jurassic Park Obstacle Course. Kids can get their faces painted\, get an airbrush tattoo\, or have a balloon animal made. COSI Connects Curbside: Science LIVE! will be doing multiple shows.  \n\n\n\nThe Freedom 5K run on Saturday starts at Victory Park and follows the bike path through Sycamore Creek Park. Each participant will receive a Freedom 5K dog tag.  \n\n\n\nThe Car\, Truck\, and Bike Show will feature antique and classic cars and motorcycles. \n\n\n\nCommunity Ceremonies with the National Anthem are scheduled for Saturday at 7 pm. \n\n\n\nAn ATM will be on site. \n\n\n\n\n\n\n\n\n\n\n\n\n\n\n\nDo you have an event that you want to feature (for free) on our VisitOhioToday events calendar? Just complete this form or feel free to send us an email at outreach@visitohiotoday.com. All submissions subject to approval.
URL:https://visitohiotoday.com/event/picktown-palooza/
LOCATION:Picktown Palooza\, 300 Opportunity Way\, Pickerington\, Ohio\, 43147\, United States
CATEGORIES:Festival
ATTACH;FMTTYPE=image/png:https://visitohiotoday.com/wp-content/uploads/2024/06/VOT-Picktown-Palooza-feature-image.png
END:VEVENT
BEGIN:VEVENT
DTSTART;TZID=UTC:20250711T100000
DTEND;TZID=UTC:20250713T160000
DTSTAMP:20260421T095915
CREATED:20240626T102953Z
LAST-MODIFIED:20250512T093648Z
UID:10000184-1752228000-1752422400@visitohiotoday.com
SUMMARY:Lilyfest
DESCRIPTION:Lilyfest is a festival in Rockbridge at Bishop Educational Gardens that takes place in July. Three days of family-friendly fun! \n\n\n\n\n\n\n\nLilyfest is a free\, summer celebration of art\, music\, and gardens. Over 60 fine artists and craftspersons will be there to sell their arts and crafts. Mediums include pottery\, garden art\, jewelry\, glasswork\, leather\, sculpture\, and more! \n\n\n\nThere will be live music on two stages.   \n\n\n\nYou can also wander through three acres of artistically designed gardens\, ponds\, and garden sculptures. A Viking Village and the Forrest Friends exhibit for kids of all ages are sure to delight!  \n\n\n\nFood will be offered by Chef Moe’s On-the-Go\, including sandwiches\, salads\, and special desserts. Pap’s Ice Cream will satisfy your cravings with both ice cream and locally roasted coffee.  \n\n\n\nOnly service animals are allowed\, please. \n\n\n\n\n\n\n\n\n\n\n\n\n\n\n\nDo you have an event that you want to feature (for free) on our VisitOhioToday events calendar? Feel free to send us an email at team@visitohiotoday.com. All submissions subject to approval.
URL:https://visitohiotoday.com/event/lilyfest/
LOCATION:Lilyfest\, 13200 Little Cola Road\, Rockbridge\, OH\, 43149\, United States
CATEGORIES:Festival
ATTACH;FMTTYPE=image/png:https://visitohiotoday.com/wp-content/uploads/2024/06/VOT-Lilyfest-feature-image.png
END:VEVENT
BEGIN:VEVENT
DTSTART;TZID=UTC:20250711T120000
DTEND;TZID=UTC:20250712T230000
DTSTAMP:20260421T095915
CREATED:20240613T151249Z
LAST-MODIFIED:20250530T091846Z
UID:10000182-1752235200-1752361200@visitohiotoday.com
SUMMARY:Shelby Bicycle Days
DESCRIPTION:Shelby Bicycle Days is an annual community festival held in July at Black Fork Commons in Shelby. \n\n\n\n\n\n\n\nA family fun event for more than 25 years\, Shelby Bicycle Days incorporates the history of Shelby bikes into two days of exciting activities. From a parade to a community challenge to a jaw-dropping fireworks display\, there is something for everyone at this festival! \n\n\n\nFood trucks and non-food vendors will be there from 11 am to 10 pm on Friday and 11 am to 11 pm on Saturday.  \n\n\n\nTake a selfie or group photo with the light-up marquee letters at the end of the Main Midway! \n\n\n\nDon’t miss out on the Kids Passport Contest for a chance to win Target gift cards. An inflatable zone will be open on Friday\, and Saturday. The Kids’ Safety Spot is a touch-a-truck event on Friday\, where your kids can explore safety service vehicles.  \n\n\n\nOn Saturday\, the annual Lindy Flyer Biker Tour starts at 8:30 am at the corner of W. Main Street and Washington Street\, at the flag park. \n\n\n\nThe parade is scheduled for 2 pm along Main Street and Gamble Street. See the Whiz Bang Science Show following the parade at the Black Fork Common Amphitheater. Make sure to bid on your favorite pie at the auction\, also after the parade at Central Park Gazebo.  \n\n\n\nMusic in the Amphitheater is on Saturday at 7:30 pm. Fireworks begin at dark on Skiles Lawn. \n\n\n\n\n\n\n\n\n\n\n\n\n\n\n\nDo you have an event that you want to feature (for free) on our VisitOhioToday events calendar? Just complete this form or feel free to send us an email at outreach@visitohiotoday.com. All submissions subject to approval.
URL:https://visitohiotoday.com/event/shelby-bicycle-days/
LOCATION:Shelby Bicycle Days\, Richland Avenue\, Shelby\, OH\, 44875\, United States
CATEGORIES:Festival
ATTACH;FMTTYPE=image/png:https://visitohiotoday.com/wp-content/uploads/2024/06/VOT-Shelby-Bicycle-Days-feature-image.png
END:VEVENT
BEGIN:VEVENT
DTSTART;TZID=UTC:20250711T150000
DTEND;TZID=UTC:20250713T170000
DTSTAMP:20260421T095915
CREATED:20240613T150322Z
LAST-MODIFIED:20250530T092327Z
UID:10000181-1752246000-1752426000@visitohiotoday.com
SUMMARY:Cain Park Arts Festival
DESCRIPTION:Cain Park Arts Festival is a three-day juried arts festival that takes place in Cleveland Heights in July. \n\n\n\n\n\n\n\nThe award-winning Cain Park Arts Festival has free admission and live entertainment! Hundreds of artisans from across the country will showcase their work. Mediums include wood\, glass\, clay\, jewelry\, sculpture\, photography\, painting\, and more. \n\n\n\nAn interactive mural painting will be fun for children of all ages! Concessions and food trucks will be there\, too. \n\n\n\nThere will be free live entertainment at the Evans Amphitheater. \n\n\n\nTicketed events will also take place during the arts fest. \n\n\n\nNo pets please.  \n\n\n\n\n\n\n\n\n\n\n\n\n\n\n\nDo you have an event that you want to feature (for free) on our VisitOhioToday events calendar? Just complete this form or feel free to send us an email at outreach@visitohiotoday.com. All submissions subject to approval.
URL:https://visitohiotoday.com/event/cain-park-arts-festival/
LOCATION:Cain Park Arts Festival\, 14591 Superior Road\, Cleveland Heights\, OH\, 44118\, United States
CATEGORIES:Festival
ATTACH;FMTTYPE=image/png:https://visitohiotoday.com/wp-content/uploads/2024/06/VOT-Cain-Park-Arts-Festival-feature-image.png
END:VEVENT
BEGIN:VEVENT
DTSTART;TZID=UTC:20250712T100000
DTEND;TZID=UTC:20250713T160000
DTSTAMP:20260421T095915
CREATED:20250502T110214Z
LAST-MODIFIED:20250502T110215Z
UID:10000262-1752314400-1752422400@visitohiotoday.com
SUMMARY:Summer Festival of the Arts
DESCRIPTION:Summer Festival of the Arts is a celebration of art\, music\, and community. Held at Youngstown State University in early July. \n\n\n\n\n\n\n\nYoungstown’s Summer Festival of the Arts showcases visual arts to live performances\, culinary delights to children’s entertainment and craft tents\, the festival offers something for everyone to enjoy. \n\n\n\nThere will be food vendors and live performances by musicians and dancers\, providing an immersive cultural experience for attendees of all ages. \n\n\n\n\n\n\n\n\n\n\n\n\n\n\n\nDo you have an event that you want to feature (for free) on our VisitOhioToday events calendar? Feel free to send us an email at team@visitohiotoday.com. All submissions subject to approval.
URL:https://visitohiotoday.com/event/summer-festival-of-the-arts/
LOCATION:Summer Festival of the Arts\, Youngstown State University\, 1 Tressel Way\, Youngstown\, OH\, 44555\, United States
CATEGORIES:Festival
ATTACH;FMTTYPE=image/png:https://visitohiotoday.com/wp-content/uploads/2025/05/VOT-Summer-Festival-of-the-Arts-feature-image.png
END:VEVENT
BEGIN:VEVENT
DTSTART;TZID=UTC:20250712T160000
DTEND;TZID=UTC:20250712T230000
DTSTAMP:20260421T095915
CREATED:20240703T115413Z
LAST-MODIFIED:20250514T093401Z
UID:10000186-1752336000-1752361200@visitohiotoday.com
SUMMARY:Sunflower Wine Festival
DESCRIPTION:Sunflower Wine Festival is an annual event for the fight to end childhood cancer that takes place in mid-July in Rocky River. \n\n\n\n\n\n\n\nSunflower Wine Festival is a rain or shine event that features wine and craft beer gardens\, live music\, and local eats. Proceeds for this event go to the Prayers From Maria Foundation and the fight to end childhood cancer.  \n\n\n\nTry a delicious beverage at the wine and beer gardens! They are open 4 pm to 9 pm. After that\, it will be a street cash bar and live music until 11 pm. You must be at least 21 years old to enter the gardens.  \n\n\n\nThere will be live music by local bands and singers. \n\n\n\nA special VIP admission will give you access to a private full bar with premium drinks\, food\, and seating.  \n\n\n\nBourbon and handcrafted cocktail mixology classes will be offered\, too! \n\n\n\n\n\n\n\n\n\n\n\n\n\n\n\nDo you have an event that you want to feature (for free) on our VisitOhioToday events calendar? Just complete this form or feel free to send us an email at outreach@visitohiotoday.com. All submissions subject to approval.
URL:https://visitohiotoday.com/event/sunflower-wine-festival/
LOCATION:Sunflower Wine Festival\, Depot Street\, Rocky River\, OH\, 44116\, United States
CATEGORIES:Festival
ATTACH;FMTTYPE=image/png:https://visitohiotoday.com/wp-content/uploads/2024/06/VOT-Sunflower-Wine-Festival-feature-image.png
END:VEVENT
BEGIN:VEVENT
DTSTART;TZID=UTC:20250717T073000
DTEND;TZID=UTC:20250720T150000
DTSTAMP:20260421T095915
CREATED:20240508T091408Z
LAST-MODIFIED:20250514T150959Z
UID:10000168-1752737400-1753023600@visitohiotoday.com
SUMMARY:Miami Valley Steam Threshers Show
DESCRIPTION:The Miami Valley Steam Threshers Show will occur at Pastime Park in Plain City with a four-day extravaganza in July! \n\n\n\n\n\n\n\nThe Miami Valley Steam Threshers Show is a steam engine exhibition showcasing the iconic John Deere tractor. \n\n\n\nThis four-day event’s highlights include a scenic tractor ride and live demonstrations showcasing farming practices from the past. \n\n\n\nThere will be a giant flea market to explore and concessioned food available when you want to grab a bite to eat. \n\n\n\nA grand parade is scheduled for Friday at 6 pm. Grab your lawn chairs and don’t miss it! \n\n\n\nTruck and tractor pulls are slated for Saturday. A kids’ pedal pull is scheduled for Thursday at 7 pm and Sunday at 1 pm on the track.  \n\n\n\nThe Cruise in’ Vintage Car & Truck Show will take place on Sunday from 10 am to 2 pm.  \n\n\n\nOn-site camping is available for the festival. It is on a first-come\, first-served basis. \n\n\n\n\n\n\n\n\n\n\n\n\n\n\n\nDo you have an event that you want to feature (for free) on our VisitOhioToday events calendar? Just complete this form or feel free to send us an email at outreach@visitohiotoday.com. All submissions subject to approval.
URL:https://visitohiotoday.com/event/miami-valley-steam-threshers-show/
LOCATION:Miami Valley Steam Threshers Show\, 370 N. Chillicothe Street\, Plain City\, OH\, 43064\, United States
CATEGORIES:Festival
ATTACH;FMTTYPE=image/png:https://visitohiotoday.com/wp-content/uploads/2024/05/VOT-Miami-Valley-Steam-Threshers-Show-feature-image.png
END:VEVENT
BEGIN:VEVENT
DTSTART;TZID=UTC:20250717T180000
DTEND;TZID=UTC:20250719T210000
DTSTAMP:20260421T095915
CREATED:20240125T123436Z
LAST-MODIFIED:20250819T105350Z
UID:10000131-1752775200-1752958800@visitohiotoday.com
SUMMARY:Industrial Strength Bluegrass Festival
DESCRIPTION:Attend a showcase of premier bluegrass and American roots music at the Greene County Expo Center. \n\n\n\nPhoto credit: Cindy Gordon of VisitOhioToday.com\n\n\n\nThe Industrial Strength Bluegrass Festival is a smoke- and alcohol-free event where you can enjoy nationally recognized acoustic music groups\, from a mix of bluegrass\, country\, and roots to old-time and gospel music—an educational and family-friendly experience.  \n\n\n\nHosted by Joe Mullins & The Radio Ramblers\, the festival spans three days\, with diverse lineups and featuring festival merchandise\, arts and crafts\, instruments\, and concessions\, including a buffet dinner on Friday and Saturday from 4:30 p.m. to 7 p.m. \n\n\n\n\n\n\n\n\n\n\n\n\n\n\n\nDo you have an event that you want to feature (for free) on our VisitOhioToday events calendar? Just send us an email at team@visitohiotoday.com. All submissions subject to approval.
URL:https://visitohiotoday.com/event/industrial-strength-bluegrass-festival-event/
LOCATION:Industrial Strength Bluegrass Festival\, 120 Fairground Rd\, Xenia\, OH\, 45385\, United States
CATEGORIES:Festival
ATTACH;FMTTYPE=image/png:https://visitohiotoday.com/wp-content/uploads/2023/12/Industrial-Strength-Bluegrass-Festival-March-Event-feature-image.png
END:VEVENT
BEGIN:VEVENT
DTSTART;TZID=UTC:20250718T170000
DTEND;TZID=UTC:20250719T230000
DTSTAMP:20260421T095915
CREATED:20250529T151752Z
LAST-MODIFIED:20250529T151804Z
UID:10000269-1752858000-1752966000@visitohiotoday.com
SUMMARY:Rossford Balloon and Fireworks Fest
DESCRIPTION:The Rossford Balloon and Fireworks Fest is a family fun festival held in Rossford\, near Toledo\, in mid-July. \n\n\n\n\n\n\n\nThis festival is an opportunity to see a collection of hot air balloons both during the day and aglow after nightfall. \n\n\n\nThere are food trucks\, a beer garden\, vendor booths\, and live music. \n\n\n\nThe young ones can have fun in the Kids Activity Area with inflatables\, carnival games\, face painting\, and live entertainment. \n\n\n\nThere is a mass ascension of balloons on both evenings. Tethered balloon flights are available at a small charge. \n\n\n\nEach evening is rounded off with fireworks at 10 pm. \n\n\n\n\n\n\n\n\n\n\n\n\n\n\n\nDo you have an event that you want to feature (for free) on our VisitOhioToday events calendar? Feel free to send us an email at team@visitohiotoday.com. All submissions subject to approval.
URL:https://visitohiotoday.com/event/rossford-balloon-and-fireworks-fest/
LOCATION:Rossford Balloon and Fireworks Fest\, Ohio Turnpike Perrysburg-Toledo Interchange\, Rossford\, OH\, 43460\, United States
CATEGORIES:Festival
ATTACH;FMTTYPE=image/png:https://visitohiotoday.com/wp-content/uploads/2025/05/VOT-Rossford-Balloon-and-Fireworks-Fest-feature-image.png
END:VEVENT
BEGIN:VEVENT
DTSTART;TZID=UTC:20250718T180000
DTEND;TZID=UTC:20250718T220000
DTSTAMP:20260421T095915
CREATED:20250508T141337Z
LAST-MODIFIED:20250508T141337Z
UID:10000264-1752861600-1752876000@visitohiotoday.com
SUMMARY:MassMu Island Party
DESCRIPTION:The MassMu Island Party is held in the grounds of the Massillon Museum in Stark County in mid-July. A lively\, family-friendly evening. \n\n\n\n\n\n\n\nThe doors open at 5.30 pm and there are performance arts and music bands throughout the evening. \n\n\n\nFood service begins at 6.30 pm\, and although the galleries are closed for the event\, Greatness Café remains open until 9 pm. \n\n\n\nFood\, beverages\, and fun accessories are available for purchase onsite. \n\n\n\n\n\n\n\n\n\n\n\n\n\n\n\nDo you have an event that you want to feature (for free) on our VisitOhioToday events calendar? Feel free to send us an email at team@visitohiotoday.com. All submissions subject to approval.
URL:https://visitohiotoday.com/event/massmu-island-party/
LOCATION:Massmu Island Party\, Massillon Museum\, 121 Lincoln Way East\, Massillon\, OH\, 44646\, United States
CATEGORIES:Festival
ATTACH;FMTTYPE=image/png:https://visitohiotoday.com/wp-content/uploads/2025/05/VOT-MassMu-Island-Party-feature-image.png
END:VEVENT
BEGIN:VEVENT
DTSTART;TZID=UTC:20250719T100000
DTEND;TZID=UTC:20250719T170000
DTSTAMP:20260421T095915
CREATED:20250521T111244Z
LAST-MODIFIED:20250521T111245Z
UID:10000266-1752919200-1752944400@visitohiotoday.com
SUMMARY:Willoughby ArtsFest
DESCRIPTION:The Willoughby ArtsFest is in downtown Willoughby in July. The streets are lined with over 125 juried artists featuring an assortment of artistic pieces. \n\n\n\n\n\n\n\nThe Willoughby ArtsFest is a celebration of arts and culture. \n\n\n\nThere is live music throughout the day\, and specialty food trucks and vendors will be located throughout the streets. \n\n\n\nAt the Kids Studio\, children of all ages have the opportunity to have a hands-on experience with various arts. \n\n\n\nThe Auction Tent features unique artwork from over 100 artists. Proceeds support the WWLCC student scholarship and business grants. \n\n\n\nAdmission is free of charge. \n\n\n\n\n\n\n\n\n\n\n\n\n\n\n\nDo you have an event that you want to feature (for free) on our VisitOhioToday events calendar? Feel free to send us an email at team@visitohiotoday.com. All submissions subject to approval.
URL:https://visitohiotoday.com/event/willoughby-artsfest/
LOCATION:Willoughby ArtsFest\, Downtown\, Willoughby\, OH\, 44094\, United States
CATEGORIES:Festival
ATTACH;FMTTYPE=image/png:https://visitohiotoday.com/wp-content/uploads/2025/05/VOT-Willoughby-ArtsFest-feature-image.png
END:VEVENT
BEGIN:VEVENT
DTSTART;TZID=UTC:20250719T100000
DTEND;TZID=UTC:20250719T170000
DTSTAMP:20260421T095915
CREATED:20250521T114738Z
LAST-MODIFIED:20250521T114739Z
UID:10000267-1752919200-1752944400@visitohiotoday.com
SUMMARY:Gone Squatchin’ Bigfoot Festival
DESCRIPTION:Gone Squatchin’ Bigfoot Festival is a one-day event held at John’s Country Nursery in Middlefield in July. A full day of Bigfoot fun for a great family day out! \n\n\n\n\n\n\n\nGone Squatchin’ Bigfoot Festival has a selection of speakers on the subjects of Bigfoot research\, and the Buckeye Bigfoot… are you a true believer or just actively curious?! \n\n\n\nThe day consists of music\, vendors\, contests\, food vendors\, and raffles. \n\n\n\nVisitors can get a non-blurry photo of Bigfoot (rare indeed!) and ride the Wildwood Express. \n\n\n\n\n\n\n\n\n\n\n\n\n\n\n\nDo you have an event that you want to feature (for free) on our VisitOhioToday events calendar? Feel free to send us an email at team@visitohiotoday.com. All submissions subject to approval.
URL:https://visitohiotoday.com/event/gone-squatchin-bigfoot-festival/
LOCATION:Gone Squatchin’ Bigfoot Festival\, John's Country Nursery\, 15808 Old State Rd\, Middlefield\, OH\, 44062\, United States
CATEGORIES:Festival
ATTACH;FMTTYPE=image/png:https://visitohiotoday.com/wp-content/uploads/2025/05/VOT-Gone-Squatchin-Bigfoot-Festival-feature-image.png
END:VEVENT
BEGIN:VEVENT
DTSTART;TZID=UTC:20250724T173000
DTEND;TZID=UTC:20250726T230000
DTSTAMP:20260421T095915
CREATED:20250530T102510Z
LAST-MODIFIED:20250530T102510Z
UID:10000270-1753378200-1753570800@visitohiotoday.com
SUMMARY:Fireman's Festival
DESCRIPTION:The Fireman’s Festival is hosted by the Caldwell Volunteer Fire Company and is three days of family fun in late July. \n\n\n\n\n\n\n\nThe Fireman’s Festival is hosted by the Caldwell Volunteer Fire Company and is three days of family fun in late July. \n\n\n\nThe festival opens at 5.30 pm on Thursday with food stands\, games and festival amusements. The 4H parade begins on Walnut Street and runs through the square. \n\n\n\nFriday opening is at 11 am. The fun run and 5K run take place starting at 5.30 pm. A live band will play on Courthouse Lawn at 8.30 pm. \n\n\n\nThe festival opens at 11.30 am on Saturday. The car show takes place at midday with awards given at 4 pm. \n\n\n\nThe Caldwell Fireman’s Parade starts in Noble County Fairgrounds and runs down North Street. \n\n\n\nLive music will be at 8 pm. \n\n\n\n\n\n\n\n\n\n\n\n\n\n\n\nDo you have an event that you want to feature (for free) on our VisitOhioToday events calendar? Feel free to send us an email at team@visitohiotoday.com. All submissions subject to approval.
URL:https://visitohiotoday.com/event/firemans-festival/
LOCATION:Fireman’s Festival\, Downtown\, Caldwell\, OH\, 43724\, United States
CATEGORIES:Festival
ATTACH;FMTTYPE=image/png:https://visitohiotoday.com/wp-content/uploads/2025/05/VOT-Firemans-Festival-feature-image.png
END:VEVENT
BEGIN:VEVENT
DTSTART;TZID=UTC:20250725T120000
DTEND;TZID=UTC:20250727T213000
DTSTAMP:20260421T095915
CREATED:20250522T105636Z
LAST-MODIFIED:20250522T105637Z
UID:10000268-1753444800-1753651800@visitohiotoday.com
SUMMARY:Wine and Walleye Festival
DESCRIPTION:The Wine and Walleye Festival is held on Bridge Street\, in the heart of Historic Ashtabula Harbor\, in late July. \n\n\n\n\n\n\n\nThis festival celebrates the two things that Ashtabula County is most famous for: wine and fishing. \n\n\n\nA fishing tournament with amateur and pro divisions starts on Saturday for the early bird fishermen at 5.30 am. \n\n\n\nFor the duration of the festival\, the Lettie G. Howard schooner will be docked in the harbor\, and visitors will be able to sail on her. \n\n\n\nThe wine tent will be open throughout the festival with wineries such as Hundley Cellars\, CLE Urban Winery\, and Laurello Vineyards. \n\n\n\nUnique vendors\, food trucks\, and more will be at the street fair. \n\n\n\nA lighted boat parade on Saturday evening is followed by a fireworks display. \n\n\n\nFestival hours: \n\n\n\n\nFriday: 4 pm – 9 pm\n\n\n\nSaturday: 12 pm -9.30 pm\n\n\n\nSunday: 12 pm – 5.30 pm\n\n\n\n\n\n\n\n\n\n\n\n\n\n\n\n\nDo you have an event that you want to feature (for free) on our VisitOhioToday events calendar? Feel free to send us an email at team@visitohiotoday.com. All submissions subject to approval.
URL:https://visitohiotoday.com/event/wine-and-walleye-festival/
LOCATION:Wine and Walleye Festival\, Bridge St\, Ashtabula\, OH\, 44004\, United States
CATEGORIES:Festival
ATTACH;FMTTYPE=image/png:https://visitohiotoday.com/wp-content/uploads/2025/05/VOT-Wine-and-Walleye-Festival-feature-image.png
END:VEVENT
END:VCALENDAR