BEGIN:VCALENDAR
VERSION:2.0
PRODID:-//Visit Ohio Today - ECPv6.15.20//NONSGML v1.0//EN
CALSCALE:GREGORIAN
METHOD:PUBLISH
X-WR-CALNAME:Visit Ohio Today
X-ORIGINAL-URL:https://visitohiotoday.com
X-WR-CALDESC:Events for Visit Ohio Today
REFRESH-INTERVAL;VALUE=DURATION:PT1H
X-Robots-Tag:noindex
X-PUBLISHED-TTL:PT1H
BEGIN:VTIMEZONE
TZID:UTC
BEGIN:STANDARD
TZOFFSETFROM:+0000
TZOFFSETTO:+0000
TZNAME:UTC
DTSTART:20230101T000000
END:STANDARD
END:VTIMEZONE
BEGIN:VEVENT
DTSTART;TZID=UTC:20240809T170000
DTEND;TZID=UTC:20240811T203000
DTSTAMP:20260422T051024
CREATED:20240529T101637Z
LAST-MODIFIED:20250609T102546Z
UID:10000176-1723222800-1723408200@visitohiotoday.com
SUMMARY:Ohio Celtic Festival
DESCRIPTION:Ohio Celtic Festival is a celebration of Irish and Celtic culture in August\, at the Lake County Fairgrounds in Painesville. \n\n\n\n\n\n\n\nCome to the Ohio Celtic Festival to celebrate Celtic heritage with music\, song\, and dance – fun for the entire family! A diverse range of musical artists\, including traditional Irish dance performers\, will take the stage. \n\n\n\nVendors will be selling unique treasures inspired by Celtic craftsmanship. Food vendors will be there too. \n\n\n\nChildren 6 years and younger are free. Parking is also free. \n\n\n\nGates open at 4 pm on Friday\, 11 am on Saturday\, and 10 am on Sunday. \n\n\n\n\n\n\n\n\n\n\n\n\n\n\n\nDo you have an event that you want to feature (for free) on our VisitOhioToday events calendar? Just complete this form or feel free to send us an email at outreach@visitohiotoday.com. All submissions subject to approval.
URL:https://visitohiotoday.com/event/ohio-celtic-festival/
LOCATION:Ohio Celtic Festival\, 1301 Mentor Avenue\, Painesville Township\, Ohio\, 44077\, United States
CATEGORIES:Festival
ATTACH;FMTTYPE=image/png:https://visitohiotoday.com/wp-content/uploads/2024/05/VOT-Ohio-Celtic-Festival-feature-image.png
END:VEVENT
END:VCALENDAR