BEGIN:VCALENDAR
VERSION:2.0
PRODID:-//Visit Ohio Today - ECPv6.15.20//NONSGML v1.0//EN
CALSCALE:GREGORIAN
METHOD:PUBLISH
X-WR-CALNAME:Visit Ohio Today
X-ORIGINAL-URL:https://visitohiotoday.com
X-WR-CALDESC:Events for Visit Ohio Today
REFRESH-INTERVAL;VALUE=DURATION:PT1H
X-Robots-Tag:noindex
X-PUBLISHED-TTL:PT1H
BEGIN:VTIMEZONE
TZID:UTC
BEGIN:STANDARD
TZOFFSETFROM:+0000
TZOFFSETTO:+0000
TZNAME:UTC
DTSTART:20230101T000000
END:STANDARD
END:VTIMEZONE
BEGIN:VEVENT
DTSTART;TZID=UTC:20241123T100000
DTEND;TZID=UTC:20250105T210000
DTSTAMP:20260421T205202
CREATED:20241115T093005Z
LAST-MODIFIED:20241115T093006Z
UID:10000207-1732356000-1736110800@visitohiotoday.com
SUMMARY:Frost
DESCRIPTION:Frost is a winter show at the Cleveland Botanical Garden that opens on Saturday\, November 23\, 2024\, and runs through Sunday\, January 5\, 2025. \n\n\n\nImage courtesy of Holden Forests and Gardens\n\n\n\nIf you are looking for an exciting winter event to attend\, Frost: An Ice-Capped Garden Experience has something for everyone! In its second year\, Frost is a unique show that transforms the indoors and outdoors of the Cleveland Botanical Garden into a winter spectacular.  \n\n\n\nThe immersive experience will bring you into a new world this holiday season. Additional outdoor lighting displays and decorated glasshouse biomes make this year’s event a sight to behold.  \n\n\n\nKids of all ages will enjoy the creative gingerbread houses and festive trees and wreaths. A storybook trail\, an oversized slide\, interactive displays\, marshmallow roasting\, lots of solstice season educational activities\, and other fun wintery events all add to the joyous occasion.  \n\n\n\nArtwork will also be on display and for sale.  \n\n\n\n\n\n\n\n\n\n\n\n\n\n\n\nDo you have an event that you want to feature (for free) on our VisitOhioToday events calendar? Just send us an email at outreach@visitohiotoday.com. All submissions subject to approval.
URL:https://visitohiotoday.com/event/frost/
LOCATION:Frost\, 11030 East Blvd\, Cleveland\, OH\, 44106\, United States
CATEGORIES:Festival
ATTACH;FMTTYPE=image/png:https://visitohiotoday.com/wp-content/uploads/2024/11/VOT-Frost-feature-image.png
END:VEVENT
END:VCALENDAR