BEGIN:VCALENDAR
VERSION:2.0
PRODID:-//Visit Ohio Today - ECPv6.15.20//NONSGML v1.0//EN
CALSCALE:GREGORIAN
METHOD:PUBLISH
X-ORIGINAL-URL:https://visitohiotoday.com
X-WR-CALDESC:Events for Visit Ohio Today
REFRESH-INTERVAL;VALUE=DURATION:PT1H
X-Robots-Tag:noindex
X-PUBLISHED-TTL:PT1H
BEGIN:VTIMEZONE
TZID:UTC
BEGIN:STANDARD
TZOFFSETFROM:+0000
TZOFFSETTO:+0000
TZNAME:UTC
DTSTART:20240101T000000
END:STANDARD
END:VTIMEZONE
BEGIN:VEVENT
DTSTART;TZID=UTC:20250501T110000
DTEND;TZID=UTC:20250504T170000
DTSTAMP:20260421T160733
CREATED:20250324T134041Z
LAST-MODIFIED:20250324T134042Z
UID:10000247-1746097200-1746378000@visitohiotoday.com
SUMMARY:Vinton County Wild Turkey Festival
DESCRIPTION:The Vinton County Wild Turkey Festival is held on the first full weekend of May each year in downtown McArthur. \n\n\n\n\n\n\n\nThis festival is full of family fun\, with a parade\, dancing\, and much more. \n\n\n\nIndulge in a pancake breakfast if you are an early bird on Saturday at 8 am. \n\n\n\nVisitors can see baton twirling performances\, line dancers\, a baby contest\, and a quilt show. \n\n\n\nFood vendors and market booths will be present and fairground rides to entertain the kids! \n\n\n\nFestival hours: \n\n\n\n\nThursday: 11 am to 9 pm\n\n\n\nFriday: 11 am to 10 pm\n\n\n\nSaturday: 8 am to 10 pm\n\n\n\nSunday: 12 Noon to 5 pm\n\n\n\n\n\n\n\n\n\n\n\n\n\n\n\n\nDo you have an event that you want to feature (for free) on our VisitOhioToday events calendar? Feel free to send us an email at team@visitohiotoday.com. All submissions subject to approval.
URL:https://visitohiotoday.com/event/vinton-county-wild-turkey-festival/
LOCATION:Vinton County Wild Turkey Festival\, Downtown\, McArthur\, OH\, 45651\, United States
CATEGORIES:Festival
ATTACH;FMTTYPE=image/png:https://visitohiotoday.com/wp-content/uploads/2025/03/VOT-Vinton-County-Wild-Turkey-Festival-feature-image.png
END:VEVENT
END:VCALENDAR