BEGIN:VCALENDAR
VERSION:2.0
PRODID:-//Visit Ohio Today - ECPv6.15.20//NONSGML v1.0//EN
CALSCALE:GREGORIAN
METHOD:PUBLISH
X-WR-CALNAME:Visit Ohio Today
X-ORIGINAL-URL:https://visitohiotoday.com
X-WR-CALDESC:Events for Visit Ohio Today
REFRESH-INTERVAL;VALUE=DURATION:PT1H
X-Robots-Tag:noindex
X-PUBLISHED-TTL:PT1H
BEGIN:VTIMEZONE
TZID:UTC
BEGIN:STANDARD
TZOFFSETFROM:+0000
TZOFFSETTO:+0000
TZNAME:UTC
DTSTART:20240101T000000
END:STANDARD
END:VTIMEZONE
BEGIN:VEVENT
DTSTART;TZID=UTC:20250522T170000
DTEND;TZID=UTC:20250526T170000
DTSTAMP:20260421T143351
CREATED:20240403T105235Z
LAST-MODIFIED:20250314T130456Z
UID:10000158-1747933200-1748278800@visitohiotoday.com
SUMMARY:Port Clinton Walleye Festival
DESCRIPTION:Port Clinton Walleye Festival will return on Memorial Day weekend\, at Waterworks Park in Port Clinton. \n\n\n\n\n\n\n\nNamed the 2023 Best of Lake Erie’s – Best Festival by Lake Erie Living Magazine. Attend the free live concerts\, and have beverages under the tent.  \n\n\n\nThere will be over 130 vendors with festival food and merchandise. Enjoy the carnival rides and games! There will be educational activities and programs\, too. \n\n\n\nChildren can participate in the kids’ fishing derby. A Walleye 5K run is also planned. Kids and adults alike will love the grand parade! \n\n\n\n\n\n\n\n\n\n\n\n\n\n\n\nDo you have an event that you want to feature (for free) on our VisitOhioToday events calendar? Just complete this form or feel free to send us an email at outreach@visitohiotoday.com. All submissions subject to approval.
URL:https://visitohiotoday.com/event/port-clinton-walleye-festival/
LOCATION:Port Clinton Walleye Festival\, 205 East Perry Street\, Port Clinton\, OH\, 43452\, United States
CATEGORIES:Festival
ATTACH;FMTTYPE=image/png:https://visitohiotoday.com/wp-content/uploads/2024/03/VOT-Port-Clinton-Walleye-Festival-feature-image.png
END:VEVENT
BEGIN:VEVENT
DTSTART;TZID=UTC:20250522T173000
DTEND;TZID=UTC:20250525T223000
DTSTAMP:20260421T143351
CREATED:20250319T105247Z
LAST-MODIFIED:20250319T105248Z
UID:10000238-1747935000-1748212200@visitohiotoday.com
SUMMARY:Blossom Time Festival
DESCRIPTION:Blossom Time Festival is at Riverside Park\, Chagrin Falls Village during Memorial Day weekend. Presented by the Chagrin Valley Jaycees. \n\n\n\n\n\n\n\nThursday evening the Balloon Glow Event takes place near Middle School. Balloonists inflate their balloons at dusk and light them up. This is a free event. \n\n\n\nSaturday is Kids Day at the Big Top Tent\, which includes a DJ\, an appearance by Jungle Terry\, face painting\, clowns\, magicians\, and much more. \n\n\n\nThe Blossom Time Run is 5.25 miles. Race Day Registration starts at 7 am on Sunday. \n\n\n\nThe parade on Sunday starts from Chagrin Falls Highschool\, down East Washington Street and into the heart of the village. \n\n\n\nThroughout the weekend\, the Big Top Tent offers activities and music at Riverside Park\, including a gyro eating contest\, karaoke night\, kids activities\, and the John Kline Sr. Pie Eating Contest. \n\n\n\nFood trucks will be available on Saturday and Sunday. \n\n\n\n\n\n\n\n\n\n\n\n\n\n\n\nDo you have an event that you want to feature (for free) on our VisitOhioToday events calendar? Feel free to send us an email at team@visitohiotoday.com. All submissions subject to approval.
URL:https://visitohiotoday.com/event/blossom-time-festival/
LOCATION:Blossom Time Festival\, Riverside Park\, E Orange St\, Chagrin Falls\, OH\, 44022\, United States
CATEGORIES:Festival
ATTACH;FMTTYPE=image/png:https://visitohiotoday.com/wp-content/uploads/2025/03/VOT-Blossom-Time-Festival-feature-image.png
END:VEVENT
END:VCALENDAR