BEGIN:VCALENDAR
VERSION:2.0
PRODID:-//Visit Ohio Today - ECPv6.15.20//NONSGML v1.0//EN
CALSCALE:GREGORIAN
METHOD:PUBLISH
X-ORIGINAL-URL:https://visitohiotoday.com
X-WR-CALDESC:Events for Visit Ohio Today
REFRESH-INTERVAL;VALUE=DURATION:PT1H
X-Robots-Tag:noindex
X-PUBLISHED-TTL:PT1H
BEGIN:VTIMEZONE
TZID:UTC
BEGIN:STANDARD
TZOFFSETFROM:+0000
TZOFFSETTO:+0000
TZNAME:UTC
DTSTART:20240101T000000
END:STANDARD
END:VTIMEZONE
BEGIN:VEVENT
DTSTART;TZID=UTC:20250522T170000
DTEND;TZID=UTC:20250526T170000
DTSTAMP:20260421T143626
CREATED:20240403T105235Z
LAST-MODIFIED:20250314T130456Z
UID:10000158-1747933200-1748278800@visitohiotoday.com
SUMMARY:Port Clinton Walleye Festival
DESCRIPTION:Port Clinton Walleye Festival will return on Memorial Day weekend\, at Waterworks Park in Port Clinton. \n\n\n\n\n\n\n\nNamed the 2023 Best of Lake Erie’s – Best Festival by Lake Erie Living Magazine. Attend the free live concerts\, and have beverages under the tent.  \n\n\n\nThere will be over 130 vendors with festival food and merchandise. Enjoy the carnival rides and games! There will be educational activities and programs\, too. \n\n\n\nChildren can participate in the kids’ fishing derby. A Walleye 5K run is also planned. Kids and adults alike will love the grand parade! \n\n\n\n\n\n\n\n\n\n\n\n\n\n\n\nDo you have an event that you want to feature (for free) on our VisitOhioToday events calendar? Just complete this form or feel free to send us an email at outreach@visitohiotoday.com. All submissions subject to approval.
URL:https://visitohiotoday.com/event/port-clinton-walleye-festival/
LOCATION:Port Clinton Walleye Festival\, 205 East Perry Street\, Port Clinton\, OH\, 43452\, United States
CATEGORIES:Festival
ATTACH;FMTTYPE=image/png:https://visitohiotoday.com/wp-content/uploads/2024/03/VOT-Port-Clinton-Walleye-Festival-feature-image.png
END:VEVENT
BEGIN:VEVENT
DTSTART;TZID=UTC:20250522T173000
DTEND;TZID=UTC:20250525T223000
DTSTAMP:20260421T143626
CREATED:20250319T105247Z
LAST-MODIFIED:20250319T105248Z
UID:10000238-1747935000-1748212200@visitohiotoday.com
SUMMARY:Blossom Time Festival
DESCRIPTION:Blossom Time Festival is at Riverside Park\, Chagrin Falls Village during Memorial Day weekend. Presented by the Chagrin Valley Jaycees. \n\n\n\n\n\n\n\nThursday evening the Balloon Glow Event takes place near Middle School. Balloonists inflate their balloons at dusk and light them up. This is a free event. \n\n\n\nSaturday is Kids Day at the Big Top Tent\, which includes a DJ\, an appearance by Jungle Terry\, face painting\, clowns\, magicians\, and much more. \n\n\n\nThe Blossom Time Run is 5.25 miles. Race Day Registration starts at 7 am on Sunday. \n\n\n\nThe parade on Sunday starts from Chagrin Falls Highschool\, down East Washington Street and into the heart of the village. \n\n\n\nThroughout the weekend\, the Big Top Tent offers activities and music at Riverside Park\, including a gyro eating contest\, karaoke night\, kids activities\, and the John Kline Sr. Pie Eating Contest. \n\n\n\nFood trucks will be available on Saturday and Sunday. \n\n\n\n\n\n\n\n\n\n\n\n\n\n\n\nDo you have an event that you want to feature (for free) on our VisitOhioToday events calendar? Feel free to send us an email at team@visitohiotoday.com. All submissions subject to approval.
URL:https://visitohiotoday.com/event/blossom-time-festival/
LOCATION:Blossom Time Festival\, Riverside Park\, E Orange St\, Chagrin Falls\, OH\, 44022\, United States
CATEGORIES:Festival
ATTACH;FMTTYPE=image/png:https://visitohiotoday.com/wp-content/uploads/2025/03/VOT-Blossom-Time-Festival-feature-image.png
END:VEVENT
BEGIN:VEVENT
DTSTART;TZID=UTC:20250523T110000
DTEND;TZID=UTC:20250525T180000
DTSTAMP:20260421T143626
CREATED:20240306T112513Z
LAST-MODIFIED:20250123T135720Z
UID:10000149-1747998000-1748196000@visitohiotoday.com
SUMMARY:Feast of the Flowering Moon
DESCRIPTION:Feast of the Flowering Moon is an annual festival celebrating Native American culture that takes place in the historic area of downtown Chillicothe on Memorial Day weekend. \n\n\n\n\n\n\n\nAt the Feast of the Flowering Moon visitors will learn about and honor Native American culture. There is Native American music and dancing.  \n\n\n\nCrafters and exhibitors will be there\, and you can visit the Mountain Man encampment with working craftsmen and demonstrations. \n\n\n\nSeveral bands will be performing. There will also be a car show and a motorcycle show. \n\n\n\nParticipate in the Ducky Derby fundraiser\, and you might win a prize! Don’t miss the Princess and Teen Pageant and the Queen Court. There will be a parade\, too! \n\n\n\n\n\n\n\n\n\n\n\n\n\n\n\nDo you have an event that you want to feature (for free) on our VisitOhioToday events calendar? Just complete this form or feel free to send us an email at outreach@visitohiotoday.com. All submissions subject to approval.
URL:https://visitohiotoday.com/event/feast-of-the-flowering-moon/
LOCATION:Feast of the Flowering Moon\, Historic Downtown Chillicothe\, Chillicothe\, Ohio\, 45601\, United States
CATEGORIES:Festival
ATTACH;FMTTYPE=image/png:https://visitohiotoday.com/wp-content/uploads/2024/02/VOT-Feast-of-the-Flowering-Moon-feature-image.png
END:VEVENT
BEGIN:VEVENT
DTSTART;TZID=UTC:20250523T170000
DTEND;TZID=UTC:20250525T220000
DTSTAMP:20260421T143626
CREATED:20250321T160953Z
LAST-MODIFIED:20250321T160954Z
UID:10000245-1748019600-1748210400@visitohiotoday.com
SUMMARY:Norwalk Jaycees Strawberry Festival
DESCRIPTION:The Norwalk Jaycees Strawberry Festival takes place on Main Street on Memorial Day weekend\, with lots of fun and games for the whole family! \n\n\n\n\n\n\n\nThe festival opens at 5 pm on Friday with live music on the main stage until 10 pm. \n\n\n\nSaturday events and activities include the Strawberry Jam 5K and Fun Run/Walk\, Cute Baby Contest\, live music\, and bingo. The festival begins at 10 am and closes at 10 pm. \n\n\n\nSunday’s fun begins at 10 am. The Royal Princess Show is on the main stage\, followed by a meet and greet. There will be live music until 10 pm closing. \n\n\n\nA beer tent is open Friday from 5 pm\, Saturday and Sunday from Noon\, until 10 pm. \n\n\n\nOther activities include face painting\, crafts\, games\, and much more. These activities take place on West Main Street. \n\n\n\n\n\n\n\n\n\n\n\n\n\n\n\nDo you have an event that you want to feature (for free) on our VisitOhioToday events calendar? Feel free to send us an email at team@visitohiotoday.com. All submissions subject to approval.
URL:https://visitohiotoday.com/event/norwalk-jaycees-strawberry-festival/
LOCATION:Norwalk Jaycees Strawberry Festival\, W Main St\, Norwalk\, OH\, 44857\, United States
CATEGORIES:Festival
ATTACH;FMTTYPE=image/png:https://visitohiotoday.com/wp-content/uploads/2025/03/VOT-Norwalk-Jaycees-Strawberry-Festival-feature-image.png
END:VEVENT
BEGIN:VEVENT
DTSTART;TZID=UTC:20250524T110000
DTEND;TZID=UTC:20250525T180000
DTSTAMP:20260421T143626
CREATED:20240228T091810Z
LAST-MODIFIED:20250314T131644Z
UID:10000147-1748084400-1748196000@visitohiotoday.com
SUMMARY:Columbus Asian Festival
DESCRIPTION:The Columbus Asian Festival is a free annual cultural event that takes place on Memorial Day weekend at Franklin Park in Columbus. \n\n\n\n\n\n\n\nThe Columbus Asian Festival will return for its annual celebration of cultural diversity at the end of May. More than 100\,000 visitors attend this event each year. \n\n\n\nExperience cultural entertainment in the form of a dragon dance\, folk dancing\, drum team\, and Asian musical performers! Get up and dance with Zumba and other audience-engaging activities! \n\n\n\nSee Tai Chi demonstrations and other martial arts\, too. \n\n\n\nThere will be cultural exhibits and a marketplace\, as well as lots of food. A special children’s area and games will also be available. \n\n\n\nAnother exciting activity is the Dragon Boat Race\, which takes place a few days earlier at 233 S. Civic Center Drive in Columbus. You can see dragon boats racing down the Scioto Mile River! \n\n\n\n\n\n\n\n\n\n\n\n\n\n\n\nDo you have an event that you want to feature (for free) on our VisitOhioToday events calendar? Just send us an email at team@visitohiotoday.com. All submissions subject to approval.
URL:https://visitohiotoday.com/event/columbus-asian-festival-event/
LOCATION:Columbus Asian Festival\, 1755 E. Broad Street\, Columbus\, OH\, 43203\, United States
CATEGORIES:Festival
ATTACH;FMTTYPE=image/png:https://visitohiotoday.com/wp-content/uploads/2024/02/VOT-Columbus-Asian-Festival-feature-image.png
END:VEVENT
BEGIN:VEVENT
DTSTART;TZID=UTC:20250524T110000
DTEND;TZID=UTC:20250526T160000
DTSTAMP:20260421T143626
CREATED:20250319T085705Z
LAST-MODIFIED:20250319T085705Z
UID:10000235-1748084400-1748275200@visitohiotoday.com
SUMMARY:Utica Ice Cream Festival
DESCRIPTION:The Utica Ice Cream Festival is a cherished tradition\, hosted by Velvet Ice Cream and held over the Memorial Day weekend. \n\n\n\n\n\n\n\nThe Utica Ice Cream Festival is\, of course\, all about ice cream in all its amazing flavors\, but there is so much more fun here too! \n\n\n\nThe parade opens the festival on Saturday at 11 am\, covering 1.5 miles through downtown Utica. The  Velvet Ice Cream truck along the route will be handing out ice cream treats to all attendees. \n\n\n\nMore attractions at this festival are craft and food vendors\, a car show\, ice cream eating contests\, bounce houses\, magic shows\, and more. \n\n\n\nLive music and other entertainers perform daily on the main stage. \n\n\n\n\n\n\n\n\n\n\n\n\n\n\n\nDo you have an event that you want to feature (for free) on our VisitOhioToday events calendar? Feel free to send us an email at team@visitohiotoday.com. All submissions subject to approval.
URL:https://visitohiotoday.com/event/utica-ice-cream-festival/
LOCATION:Utica Ice Cream Festival\, Ye Olde Mill\, 11324 Mt Vernon Rd\, Utica\, OH\, 43080\, United States
CATEGORIES:Festival
ATTACH;FMTTYPE=image/png:https://visitohiotoday.com/wp-content/uploads/2025/03/VOT-Utica-Ice-Cream-Festival-feature-image.png
END:VEVENT
BEGIN:VEVENT
DTSTART;TZID=UTC:20250524T120000
DTEND;TZID=UTC:20250525T200000
DTSTAMP:20260421T143626
CREATED:20240313T114949Z
LAST-MODIFIED:20250314T122618Z
UID:10000151-1748088000-1748203200@visitohiotoday.com
SUMMARY:Columbus Taco Fest
DESCRIPTION:Columbus Taco Fest is an annual festival celebrating the taco. It takes place in Goodale Park in Columbus in mid-May. \n\n\n\n\n\n\n\nThe Columbus Taco Fest is at Goodale Park and celebrates the vibrant community of Columbus. \n\n\n\nVisitors will find a selection of food trucks serving the best tacos in town\, margaritas\, and beer options. There will be local craft vendors as well. \n\n\n\nEnjoy a variety of family-friendly activities\, including the Puppy Dress-Up Contest. \n\n\n\nThis event benefits the Friends of Goodale Park\, and admission is free. \n\n\n\n\n\n\n\n\n\n\n\n\n\n\n\nDo you have an event that you want to feature (for free) on our VisitOhioToday events calendar? Just complete this form or feel free to send us an email at outreach@visitohiotoday.com. All submissions subject to approval.
URL:https://visitohiotoday.com/event/columbus-taco-fest/
LOCATION:Columbus Taco Fest\, 120 W Goodale St\, Columbus\, OH\, 43215\, United States
CATEGORIES:Festival
ATTACH;FMTTYPE=image/png:https://visitohiotoday.com/wp-content/uploads/2024/03/VOT-Columbus-Taco-Fest-feature-image.png
END:VEVENT
BEGIN:VEVENT
DTSTART;TZID=UTC:20250524T170000
DTEND;TZID=UTC:20250526T220000
DTSTAMP:20260421T143626
CREATED:20250319T181021Z
LAST-MODIFIED:20250319T181022Z
UID:10000239-1748106000-1748296800@visitohiotoday.com
SUMMARY:The Logan Hills Festival
DESCRIPTION:The Logan Hills Festival takes place every Memorial Day weekend at Hall-Fawcett Park\, Zanesfield\, central Ohio. \n\n\n\n\n\n\n\nThe Logan Hills Festival has an encampment organized by the Mountain Men Rendezvous. All participants are dressed in 1840s Fur Trade Era clothing and all shelters are the types used during the Fur Trade Era. \n\n\n\nAs visitors walk through the encampment they will see the participants involved in activities and competitions\, including Lizard Pull\, Archery\, and Hawk and Knife throwing competitions. \n\n\n\nThe Taloga Historical Outdoor Drama will also make a presentation. \n\n\n\nAdmission to the festival is free\, there is a small charge to see the drama. \n\n\n\n\n\n\n\n\n\n\n\n\n\n\n\nDo you have an event that you want to feature (for free) on our VisitOhioToday events calendar? Feel free to send us an email at team@visitohiotoday.com. All submissions subject to approval.
URL:https://visitohiotoday.com/event/the-logan-hills-festival/
LOCATION:The Logan Hills Festival\, Hall-Fawcett Park\, Co Rd 153\, Bellefontaine\, OH\, 43311\, United States
CATEGORIES:Festival
ATTACH;FMTTYPE=image/png:https://visitohiotoday.com/wp-content/uploads/2025/03/VOT-The-Logan-Hills-Festival-feature-image.png
END:VEVENT
END:VCALENDAR