BEGIN:VCALENDAR
VERSION:2.0
PRODID:-//Visit Ohio Today - ECPv6.15.20//NONSGML v1.0//EN
CALSCALE:GREGORIAN
METHOD:PUBLISH
X-WR-CALNAME:Visit Ohio Today
X-ORIGINAL-URL:https://visitohiotoday.com
X-WR-CALDESC:Events for Visit Ohio Today
REFRESH-INTERVAL;VALUE=DURATION:PT1H
X-Robots-Tag:noindex
X-PUBLISHED-TTL:PT1H
BEGIN:VTIMEZONE
TZID:UTC
BEGIN:STANDARD
TZOFFSETFROM:+0000
TZOFFSETTO:+0000
TZNAME:UTC
DTSTART:20240101T000000
END:STANDARD
END:VTIMEZONE
BEGIN:VEVENT
DTSTART;TZID=UTC:20250528T160000
DTEND;TZID=UTC:20250531T230000
DTSTAMP:20260421T143305
CREATED:20250317T123654Z
LAST-MODIFIED:20250317T123655Z
UID:10000231-1748448000-1748732400@visitohiotoday.com
SUMMARY:Deercreek Dam Days
DESCRIPTION:Deercreek Dam Days is a family-friendly event held over four days in late May in Williamsport\, Pickaway County. \n\n\n\n\n\n\n\nThe first day of the festival sees the Festival Royalty Queen Contest and the parade. \n\n\n\nOn Thursday the beer garden opens and there is live music. \n\n\n\nOn Friday the beer garden opens at  4 pm and there will be a couple of live music performances. \n\n\n\nSaturday is the grand finale of the festival and includes the Kids Fest\, a Baby Contest\, and more. On Saturday the fun begins at 11 am. \n\n\n\nThroughout the festival\, there are fairground rides\, food trucks\, and more contests such as a Hot Dog Eating Contest\, and a Pedal Tractor Pull. There is also a Fish Fry Sale. \n\n\n\n\n\n\n\n\n\n\n\n\n\n\n\nDo you have an event that you want to feature (for free) on our VisitOhioToday events calendar? Feel free to send us an email at team@visitohiotoday.com. All submissions subject to approval.
URL:https://visitohiotoday.com/event/deercreek-dam-days/
LOCATION:Deercreek Dam Days\, Downtown Williamsport\, Williamsport\, OH\, 43164\, United States
CATEGORIES:Festival
ATTACH;FMTTYPE=image/png:https://visitohiotoday.com/wp-content/uploads/2025/03/VOT-Deercreek-Dam-Days-feature-image.png
END:VEVENT
BEGIN:VEVENT
DTSTART;TZID=UTC:20250529T170000
DTEND;TZID=UTC:20250531T220000
DTSTAMP:20260421T143305
CREATED:20250317T140434Z
LAST-MODIFIED:20250317T140435Z
UID:10000233-1748538000-1748728800@visitohiotoday.com
SUMMARY:Dennison Railroad Festival
DESCRIPTION:The Dennison Railroad Festival is held in Dennison in Tuscarawas County\, Thursday to Saturday after Memorial Day. \n\n\n\n\n\n\n\nThis festival has been celebrated for over 40 years and provides family-friendly entertainment to the Twin Cities of Dennison and Uhrichsville. \n\n\n\nThe Dennison Railroad Festival kicks off at 5 pm on Thursday with a talent show\, followed by live music. \n\n\n\nAt 5 pm Friday there is a kiddie pedal pull and live music on both the Gazebo Stage and the Railcar Stage. \n\n\n\nThe visiting queens will be announced at 2 pm on Saturday\, followed by the parade. Gospel Hour is at 5 pm on the Gazebo Stage\, and two more live music performances are at 7 pm and 8 pm. \n\n\n\n\n\n\n\n\n\n\n\n\n\n\n\nDo you have an event that you want to feature (for free) on our VisitOhioToday events calendar? Feel free to send us an email at team@visitohiotoday.com. All submissions subject to approval.
URL:https://visitohiotoday.com/event/dennison-railroad-festival/
LOCATION:Dennison Railroad Festival\, Center St\, Dennison\, OH\, 44621\, United States
CATEGORIES:Festival
ATTACH;FMTTYPE=image/png:https://visitohiotoday.com/wp-content/uploads/2025/03/VOT-Dennison-Railroad-Festival-feature-image.png
END:VEVENT
END:VCALENDAR