BEGIN:VCALENDAR
VERSION:2.0
PRODID:-//Visit Ohio Today - ECPv6.15.20//NONSGML v1.0//EN
CALSCALE:GREGORIAN
METHOD:PUBLISH
X-WR-CALNAME:Visit Ohio Today
X-ORIGINAL-URL:https://visitohiotoday.com
X-WR-CALDESC:Events for Visit Ohio Today
REFRESH-INTERVAL;VALUE=DURATION:PT1H
X-Robots-Tag:noindex
X-PUBLISHED-TTL:PT1H
BEGIN:VTIMEZONE
TZID:UTC
BEGIN:STANDARD
TZOFFSETFROM:+0000
TZOFFSETTO:+0000
TZNAME:UTC
DTSTART:20240101T000000
END:STANDARD
END:VTIMEZONE
BEGIN:VEVENT
DTSTART;TZID=UTC:20250528T160000
DTEND;TZID=UTC:20250531T230000
DTSTAMP:20260421T131409
CREATED:20250317T123654Z
LAST-MODIFIED:20250317T123655Z
UID:10000231-1748448000-1748732400@visitohiotoday.com
SUMMARY:Deercreek Dam Days
DESCRIPTION:Deercreek Dam Days is a family-friendly event held over four days in late May in Williamsport\, Pickaway County. \n\n\n\n\n\n\n\nThe first day of the festival sees the Festival Royalty Queen Contest and the parade. \n\n\n\nOn Thursday the beer garden opens and there is live music. \n\n\n\nOn Friday the beer garden opens at  4 pm and there will be a couple of live music performances. \n\n\n\nSaturday is the grand finale of the festival and includes the Kids Fest\, a Baby Contest\, and more. On Saturday the fun begins at 11 am. \n\n\n\nThroughout the festival\, there are fairground rides\, food trucks\, and more contests such as a Hot Dog Eating Contest\, and a Pedal Tractor Pull. There is also a Fish Fry Sale. \n\n\n\n\n\n\n\n\n\n\n\n\n\n\n\nDo you have an event that you want to feature (for free) on our VisitOhioToday events calendar? Feel free to send us an email at team@visitohiotoday.com. All submissions subject to approval.
URL:https://visitohiotoday.com/event/deercreek-dam-days/
LOCATION:Deercreek Dam Days\, Downtown Williamsport\, Williamsport\, OH\, 43164\, United States
CATEGORIES:Festival
ATTACH;FMTTYPE=image/png:https://visitohiotoday.com/wp-content/uploads/2025/03/VOT-Deercreek-Dam-Days-feature-image.png
END:VEVENT
BEGIN:VEVENT
DTSTART;TZID=UTC:20250529T170000
DTEND;TZID=UTC:20250531T220000
DTSTAMP:20260421T131409
CREATED:20250317T140434Z
LAST-MODIFIED:20250317T140435Z
UID:10000233-1748538000-1748728800@visitohiotoday.com
SUMMARY:Dennison Railroad Festival
DESCRIPTION:The Dennison Railroad Festival is held in Dennison in Tuscarawas County\, Thursday to Saturday after Memorial Day. \n\n\n\n\n\n\n\nThis festival has been celebrated for over 40 years and provides family-friendly entertainment to the Twin Cities of Dennison and Uhrichsville. \n\n\n\nThe Dennison Railroad Festival kicks off at 5 pm on Thursday with a talent show\, followed by live music. \n\n\n\nAt 5 pm Friday there is a kiddie pedal pull and live music on both the Gazebo Stage and the Railcar Stage. \n\n\n\nThe visiting queens will be announced at 2 pm on Saturday\, followed by the parade. Gospel Hour is at 5 pm on the Gazebo Stage\, and two more live music performances are at 7 pm and 8 pm. \n\n\n\n\n\n\n\n\n\n\n\n\n\n\n\nDo you have an event that you want to feature (for free) on our VisitOhioToday events calendar? Feel free to send us an email at team@visitohiotoday.com. All submissions subject to approval.
URL:https://visitohiotoday.com/event/dennison-railroad-festival/
LOCATION:Dennison Railroad Festival\, Center St\, Dennison\, OH\, 44621\, United States
CATEGORIES:Festival
ATTACH;FMTTYPE=image/png:https://visitohiotoday.com/wp-content/uploads/2025/03/VOT-Dennison-Railroad-Festival-feature-image.png
END:VEVENT
BEGIN:VEVENT
DTSTART;TZID=UTC:20250530T120000
DTEND;TZID=UTC:20250601T170000
DTSTAMP:20260421T131409
CREATED:20240403T104831Z
LAST-MODIFIED:20250314T132541Z
UID:10000157-1748606400-1748797200@visitohiotoday.com
SUMMARY:Summerfair Cincinnati
DESCRIPTION:Summerfair Cincinnati is a three-day fine arts fair taking place at Coney Island in Cincinnati. \n\n\n\n\n\n\n\nOne of the nation’s oldest\, continuous arts fairs is back for another year! Summerfair Cincinnati is a non-profit organization supporting visual and performing arts in the Greater Cincinnati area.  \n\n\n\nOver 300 juried\, fine artists and craftspeople from across the country will exhibit and sell their work. Categories include the following: ceramics\, glass\, jewelry\, metal/sculpture\, leather/fiber\, painting\, drawing/printmaking\, photography\, wood\, and 2D/3D mixed media.  \n\n\n\nRegional music performers will be there on Saturday and Sunday. You will hear a mix of jazz\, Americana\, folk\, bluegrass\, blues\, and more.  \n\n\n\nA gourmet arts area will serve unique food and drinks.  \n\n\n\nHandicap parking will be available. There is a limited number of wheelchairs available for use. Only registered service dogs are permitted.  \n\n\n\nFunds raised from this event help support awards\, scholarships\, and exhibitions for high school and college artists\, working professional artists\, and community-based arts organizations. \n\n\n\n\n\n\n\n\n\n\n\n\n\n\n\nDo you have an event that you want to feature (for free) on our VisitOhioToday events calendar? Just complete this form or feel free to send us an email at outreach@visitohiotoday.com. All submissions subject to approval.
URL:https://visitohiotoday.com/event/summerfair-cincinnati/
LOCATION:Summerfair Cincinnati\, 6247 Kellogg Avenue\, Cincinnati\, OH\, 45230\, United States
CATEGORIES:Festival
ATTACH;FMTTYPE=image/png:https://visitohiotoday.com/wp-content/uploads/2024/03/VOT-Summerfair-Cincinnati-feature-image.png
END:VEVENT
BEGIN:VEVENT
DTSTART;TZID=UTC:20250530T170000
DTEND;TZID=UTC:20250531T220000
DTSTAMP:20260421T131409
CREATED:20240320T095055Z
LAST-MODIFIED:20250411T102142Z
UID:10000153-1748624400-1748728800@visitohiotoday.com
SUMMARY:Fore!Fest
DESCRIPTION:Fore!Fest is a street and music festival that takes place in Bridge Park\, Dublin in late May. \n\n\n\n\n\n\n\nFore!Fest is a free community event that is family-friendly and lots of fun! Live music\, food trucks\, drinks\, and golf-related retail will be there.  \n\n\n\nThe festival celebrates the Memorial Tournament\, which golf legend Jack Nicklaus hosts. \n\n\n\nProceeds from Fore!Fest will benefit the nonprofits Nationwide Children’s Hospital\, Eat.Learn.Play Foundation\, and the Crawford Hoying Foundation. \n\n\n\n\n\n\n\n\n\n\n\n\n\n\n\nDo you have an event that you want to feature (for free) on our VisitOhioToday events calendar? Just complete this form or feel free to send us an email at outreach@visitohiotoday.com. All submissions subject to approval.
URL:https://visitohiotoday.com/event/forefest/
LOCATION:Fore!Fest\, Bridge Park\, 6741 Longshore St\, Dublin\, OH\, 43017\, United States
CATEGORIES:Festival
ATTACH;FMTTYPE=image/png:https://visitohiotoday.com/wp-content/uploads/2024/03/VOT-Fore-Fest-feature-image.png
END:VEVENT
BEGIN:VEVENT
DTSTART;TZID=UTC:20250530T180000
DTEND;TZID=UTC:20250601T210000
DTSTAMP:20260421T131409
CREATED:20250324T124345Z
LAST-MODIFIED:20250324T124346Z
UID:10000246-1748628000-1748811600@visitohiotoday.com
SUMMARY:CincItalia – Cincinnati Italian Festival
DESCRIPTION:CincItalia – Cincinnati Italian Festival is held in Harvest Home Park in Cheviot in late May. Three days of family fun and Italian Traditions. \n\n\n\n\n\n\n\nThis festival celebrates all things Italian\, including live Italian music and dancing. \n\n\n\nGames include Bars & Bells\, Big Six\, and Split the Pot. There are cooking demonstrations\, kids’ games and rides\, and more. \n\n\n\nAround 20 local Italian restaurants are represented. \n\n\n\nFriday is Adults Night (Ages 21+) from 6 pm to Midnight. \n\n\n\nSaturday opens at 3 pm and closes at 11 pm. Sunday opens at 1 pm and closes at 9 pm. \n\n\n\n\n\n\n\n\n\n\n\n\n\n\n\nDo you have an event that you want to feature (for free) on our VisitOhioToday events calendar? Feel free to send us an email at team@visitohiotoday.com. All submissions subject to approval.
URL:https://visitohiotoday.com/event/cincitalia-cincinnati-italian-festival/
LOCATION:CincItalia – Cincinnati Italian Festival\, Harvest Home Park\, Cheviot\, OH\, 45211\, United States
CATEGORIES:Festival
ATTACH;FMTTYPE=image/png:https://visitohiotoday.com/wp-content/uploads/2025/03/VOT-CincItalia-–-Cincinnati-Italian-Festival-feature-image.png
END:VEVENT
END:VCALENDAR