BEGIN:VCALENDAR
VERSION:2.0
PRODID:-//Visit Ohio Today - ECPv6.15.20//NONSGML v1.0//EN
CALSCALE:GREGORIAN
METHOD:PUBLISH
X-ORIGINAL-URL:https://visitohiotoday.com
X-WR-CALDESC:Events for Visit Ohio Today
REFRESH-INTERVAL;VALUE=DURATION:PT1H
X-Robots-Tag:noindex
X-PUBLISHED-TTL:PT1H
BEGIN:VTIMEZONE
TZID:UTC
BEGIN:STANDARD
TZOFFSETFROM:+0000
TZOFFSETTO:+0000
TZNAME:UTC
DTSTART:20240101T000000
END:STANDARD
END:VTIMEZONE
BEGIN:VEVENT
DTSTART;TZID=UTC:20250605T080000
DTEND;TZID=UTC:20250607T230000
DTSTAMP:20260421T143601
CREATED:20240410T085334Z
LAST-MODIFIED:20250404T115903Z
UID:10000160-1749110400-1749337200@visitohiotoday.com
SUMMARY:Coshocton Hot Air Balloon Festival
DESCRIPTION:The Coshocton Hot Air Balloon Festival is in early June at the Coshocton County Fairgrounds. \n\n\n\n\n\n\n\nWatch hot air balloons flying over Coshocton County’s hills and valleys! The Coshocton Hot Air Balloon Festival is one of the oldest hot air balloon festivals in the state. \n\n\n\nSee Hot Air Balloon Launches! You can check out this year’s balloons on their website\, where you can read more about each balloon. Balloon launches will occur on Thursday at 7 pm\, Friday at 6:45 pm\, and Night Glow at 9:15 pm\, and Saturday at both 6:30 am (from the countryside) and 6:45 pm. \n\n\n\nThere will be musical entertainment in the Grandstand\, craft and merchandise booths\, kids’ rides\, and children’s activities. When you’re hungry\, try some fair food from the food vendors. \n\n\n\nStay for the Night Glow on Friday at 9:15 pm! Watch as the balloons are inflated and the burners are fired. It’s a beautiful photo op as the balloons are aglow in the night sky.  \n\n\n\nThere will be fireworks on Saturday at 10 pm!  \n\n\n\n\n\n\n\n\n\n\n\n\n\n\n\nDo you have an event that you want to feature (for free) on our VisitOhioToday events calendar? Just complete this form or feel free to send us an email at outreach@visitohiotoday.com. All submissions subject to approval.
URL:https://visitohiotoday.com/event/coshocton-hot-air-balloon-festival/
LOCATION:Coshocton Hot Air Balloon Festival\, Coshocton County Fairgrounds\, 707 Kenilworth Avenue\, Coshocton\, OH\, 43812\, United States
CATEGORIES:Festival
ATTACH;FMTTYPE=image/png:https://visitohiotoday.com/wp-content/uploads/2024/04/VOT-Coshocton-Hot-Air-Balloon-Festival-feature-image-1.png
END:VEVENT
BEGIN:VEVENT
DTSTART;TZID=UTC:20250605T120000
DTEND;TZID=UTC:20250607T220000
DTSTAMP:20260421T143601
CREATED:20250407T112801Z
LAST-MODIFIED:20250407T112801Z
UID:10000251-1749124800-1749333600@visitohiotoday.com
SUMMARY:Logan Washboard Arts & Music Festival
DESCRIPTION:The Logan Washboard Arts & Music Festival celebrates the only remaining operational washboard manufacturer in the country\, the Columbus Washboard Co! Held in June\, over Father’s Day weekend. \n\n\n\nPhoto credit: Cindy Gordon of VisitOhioToday.com\n\n\n\nAt this festival visitors will find craft vendors and food trucks and tents. Live stone carving demonstrations\, painting\, photography\, and more. \n\n\n\nThe three stages will have music playing throughout the festival. \n\n\n\nThere will be plenty of nods to the washboard too\, and don’t forget to pay a visit to the Columbus Washboard Co while you’re there! \n\n\n\n\n\n\n\n\n\n\n\n\n\n\n\nDo you have an event that you want to feature (for free) on our VisitOhioToday events calendar? Feel free to send us an email at team@visitohiotoday.com. All submissions subject to approval.
URL:https://visitohiotoday.com/event/logan-washboard-arts-music-festival/
LOCATION:Logan Washboard Arts & Music Festival\, Main St\, Logan\, OH\, 43138\, United States
CATEGORIES:Festival
ATTACH;FMTTYPE=image/png:https://visitohiotoday.com/wp-content/uploads/2025/04/VOT-Logan-Washboard-Arts-and-Music-Festival-feature-image.png
END:VEVENT
END:VCALENDAR