BEGIN:VCALENDAR
VERSION:2.0
PRODID:-//Visit Ohio Today - ECPv6.15.20//NONSGML v1.0//EN
CALSCALE:GREGORIAN
METHOD:PUBLISH
X-WR-CALNAME:Visit Ohio Today
X-ORIGINAL-URL:https://visitohiotoday.com
X-WR-CALDESC:Events for Visit Ohio Today
REFRESH-INTERVAL;VALUE=DURATION:PT1H
X-Robots-Tag:noindex
X-PUBLISHED-TTL:PT1H
BEGIN:VTIMEZONE
TZID:UTC
BEGIN:STANDARD
TZOFFSETFROM:+0000
TZOFFSETTO:+0000
TZNAME:UTC
DTSTART:20240101T000000
END:STANDARD
END:VTIMEZONE
BEGIN:VEVENT
DTSTART;TZID=UTC:20250605T080000
DTEND;TZID=UTC:20250607T230000
DTSTAMP:20260421T131338
CREATED:20240410T085334Z
LAST-MODIFIED:20250404T115903Z
UID:10000160-1749110400-1749337200@visitohiotoday.com
SUMMARY:Coshocton Hot Air Balloon Festival
DESCRIPTION:The Coshocton Hot Air Balloon Festival is in early June at the Coshocton County Fairgrounds. \n\n\n\n\n\n\n\nWatch hot air balloons flying over Coshocton County’s hills and valleys! The Coshocton Hot Air Balloon Festival is one of the oldest hot air balloon festivals in the state. \n\n\n\nSee Hot Air Balloon Launches! You can check out this year’s balloons on their website\, where you can read more about each balloon. Balloon launches will occur on Thursday at 7 pm\, Friday at 6:45 pm\, and Night Glow at 9:15 pm\, and Saturday at both 6:30 am (from the countryside) and 6:45 pm. \n\n\n\nThere will be musical entertainment in the Grandstand\, craft and merchandise booths\, kids’ rides\, and children’s activities. When you’re hungry\, try some fair food from the food vendors. \n\n\n\nStay for the Night Glow on Friday at 9:15 pm! Watch as the balloons are inflated and the burners are fired. It’s a beautiful photo op as the balloons are aglow in the night sky.  \n\n\n\nThere will be fireworks on Saturday at 10 pm!  \n\n\n\n\n\n\n\n\n\n\n\n\n\n\n\nDo you have an event that you want to feature (for free) on our VisitOhioToday events calendar? Just complete this form or feel free to send us an email at outreach@visitohiotoday.com. All submissions subject to approval.
URL:https://visitohiotoday.com/event/coshocton-hot-air-balloon-festival/
LOCATION:Coshocton Hot Air Balloon Festival\, Coshocton County Fairgrounds\, 707 Kenilworth Avenue\, Coshocton\, OH\, 43812\, United States
CATEGORIES:Festival
ATTACH;FMTTYPE=image/png:https://visitohiotoday.com/wp-content/uploads/2024/04/VOT-Coshocton-Hot-Air-Balloon-Festival-feature-image-1.png
END:VEVENT
BEGIN:VEVENT
DTSTART;TZID=UTC:20250605T120000
DTEND;TZID=UTC:20250607T220000
DTSTAMP:20260421T131338
CREATED:20250407T112801Z
LAST-MODIFIED:20250407T112801Z
UID:10000251-1749124800-1749333600@visitohiotoday.com
SUMMARY:Logan Washboard Arts & Music Festival
DESCRIPTION:The Logan Washboard Arts & Music Festival celebrates the only remaining operational washboard manufacturer in the country\, the Columbus Washboard Co! Held in June\, over Father’s Day weekend. \n\n\n\nPhoto credit: Cindy Gordon of VisitOhioToday.com\n\n\n\nAt this festival visitors will find craft vendors and food trucks and tents. Live stone carving demonstrations\, painting\, photography\, and more. \n\n\n\nThe three stages will have music playing throughout the festival. \n\n\n\nThere will be plenty of nods to the washboard too\, and don’t forget to pay a visit to the Columbus Washboard Co while you’re there! \n\n\n\n\n\n\n\n\n\n\n\n\n\n\n\nDo you have an event that you want to feature (for free) on our VisitOhioToday events calendar? Feel free to send us an email at team@visitohiotoday.com. All submissions subject to approval.
URL:https://visitohiotoday.com/event/logan-washboard-arts-music-festival/
LOCATION:Logan Washboard Arts & Music Festival\, Main St\, Logan\, OH\, 43138\, United States
CATEGORIES:Festival
ATTACH;FMTTYPE=image/png:https://visitohiotoday.com/wp-content/uploads/2025/04/VOT-Logan-Washboard-Arts-and-Music-Festival-feature-image.png
END:VEVENT
BEGIN:VEVENT
DTSTART;TZID=UTC:20250606T110000
DTEND;TZID=UTC:20250607T200000
DTSTAMP:20260421T131338
CREATED:20240313T115528Z
LAST-MODIFIED:20250314T125953Z
UID:10000152-1749207600-1749326400@visitohiotoday.com
SUMMARY:Peony Festival
DESCRIPTION:The Van Wert Peony Festival is a family-friendly event that takes place on the first weekend of June each year. \n\n\n\n\n\n\n\nOn the first full weekend in June\, treat yourself to two days of fun at the Van Wert Peony Festival in Fountain Park!  \n\n\n\nThere will be live performances. Kids can enter a children’s fishing derby. A children’s tent will also be there\, full of fun things for the kids to do! \n\n\n\nCheck out the cars at the car show. Don’t miss the Grand Parade! There will be contests for Little Miss\, Junior Miss\, and Queen Jubilee. \n\n\n\nYou will find a vendor fair on Central Avenue\, between Jefferson and Washington. \n\n\n\nFood Truck Alley will feature various vendors\, such as C&J’s Shaved Ice\, Deaf Dog Coffee & Co\, and Fork in the Road. \n\n\n\n\n\n\n\n\n\n\n\n\n\n\n\nDo you have an event that you want to feature (for free) on our VisitOhioToday events calendar? Just complete this form or feel free to send us an email at outreach@visitohiotoday.com. All submissions subject to approval.
URL:https://visitohiotoday.com/event/peony-festival/
LOCATION:Peony Festival\, 210 West Main Street\, Van Wert\, Ohio\, 45891\, United States
CATEGORIES:Festival
ATTACH;FMTTYPE=image/png:https://visitohiotoday.com/wp-content/uploads/2024/03/VOT-Peony-Festival-feature-image.png
END:VEVENT
BEGIN:VEVENT
DTSTART;TZID=UTC:20250606T160000
DTEND;TZID=UTC:20250608T180000
DTSTAMP:20260421T131339
CREATED:20250407T104543Z
LAST-MODIFIED:20250407T104544Z
UID:10000250-1749225600-1749405600@visitohiotoday.com
SUMMARY:Greenfield Music Festival
DESCRIPTION:The Greenfield Music Festival is an annual celebration of music\, culture\, and community. Held on the first full weekend in June in Greenfield\, Highland County. \n\n\n\n\n\n\n\nThe Greenfield Music Festival offers lots of fun and games for the whole family to enjoy. \n\n\n\nThe Pageant takes place at 5.30 pm on Friday. There will be an antique tractor show\, a baby contest\, the Power Wheels Derby\, a car and bike show\, and the Parade takes place on Sunday at 3 pm. \n\n\n\nFood and beverage options and vendor stalls will be attending. \n\n\n\nA run at Felson’s Park takes place on Saturday morning for the early birds\, at 7 am. \n\n\n\nLive bands will be on stage throughout the festival. \n\n\n\nFestival hours: \n\n\n\n\nFriday: 4 pm – 11 pm\n\n\n\nSaturday: 9 am – 10.30 pm\n\n\n\nSunday: 11 am – 6 pm\n\n\n\n\n\n\n\n\n\n\n\n\n\n\n\n\nDo you have an event that you want to feature (for free) on our VisitOhioToday events calendar? Feel free to send us an email at team@visitohiotoday.com. All submissions subject to approval.
URL:https://visitohiotoday.com/event/greenfield-music-festival/
LOCATION:Greenfield Music Festival\, Downtown\, Greenfield\, OH\, 45123\, United States
CATEGORIES:Festival
ATTACH;FMTTYPE=image/png:https://visitohiotoday.com/wp-content/uploads/2025/04/VOT-Greenfield-Music-Festival-feature-image.png
END:VEVENT
BEGIN:VEVENT
DTSTART;TZID=UTC:20250607T100000
DTEND;TZID=UTC:20250608T160000
DTSTAMP:20260421T131339
CREATED:20250407T123030Z
LAST-MODIFIED:20250407T123031Z
UID:10000252-1749290400-1749398400@visitohiotoday.com
SUMMARY:Ohio Valley Frontier Days
DESCRIPTION:Ohio Valley Frontier Days at Fort Steuben is a festival of reenactments\, demonstrations and more. Held on the first full weekend in June. \n\n\n\n\n\n\n\nThe reconstructed 18th Century Fort Steuben opens its gates for two days of reenactments\, demonstrations\, music\, storytelling\, arts\, and crafts. \n\n\n\nSee the soldiers setting up camp and loading and shooting their muskets\, as well as the daily life of the enlisted men who lived at the Fort in 1787. \n\n\n\nVisitors can join in with crafts and other activities. Buildings are open for tours and soldiers teach military drill to young volunteers. \n\n\n\nMeet the blacksmith\, the candlemaker\, the flintknapper\, and other early American skilled tradesmen. \n\n\n\nLive music adds to the weekend. \n\n\n\n\n\n\n\n\n\n\n\n\n\n\n\nDo you have an event that you want to feature (for free) on our VisitOhioToday events calendar? Feel free to send us an email at team@visitohiotoday.com. All submissions subject to approval.
URL:https://visitohiotoday.com/event/ohio-valley-frontier-days/
LOCATION:Ohio Valley Frontier Days\, Historic Fort Steuben\, 120 South Third St\, Steubenville\, OH\, 43952\, United States
CATEGORIES:Festival
ATTACH;FMTTYPE=image/png:https://visitohiotoday.com/wp-content/uploads/2025/04/VOT-Ohio-Valley-Frontier-Days-feature-image.png
END:VEVENT
BEGIN:VEVENT
DTSTART;TZID=UTC:20250607T100000
DTEND;TZID=UTC:20250608T170000
DTSTAMP:20260421T131339
CREATED:20250404T130258Z
LAST-MODIFIED:20250404T130259Z
UID:10000248-1749290400-1749402000@visitohiotoday.com
SUMMARY:Old West End Historic Festival
DESCRIPTION:The Old West End Historic Festival in Toledo in early June is a two-day event celebrating one of the largest historic districts in the country.  \n\n\n\n\n\n\n\nThis festival begins on Saturday morning with the King Wamba Carnival Parade. \n\n\n\nMusic is provided by more than 20 bands\, there are multiple food markets\, a beer garden\, house tours\, shopping\, and much more. \n\n\n\nThe Old West End neighborhood is one of the largest collections of Victorian\, Edwardian\, and Arts and Crafts homes in the US. This district is from Monroe Street (including the Toledo Museum of Art) up to Cherry\, and from the train tracks west of Detroit Avenue to Collingwood Boulevard. \n\n\n\n\n\n\n\n\n\n\n\n\n\n\n\nDo you have an event that you want to feature (for free) on our VisitOhioToday events calendar? Feel free to send us an email at team@visitohiotoday.com. All submissions subject to approval.
URL:https://visitohiotoday.com/event/old-west-end-historic-festival/
LOCATION:Old West End Historic Festival\, Old West End\, Toledo\, OH\, 43620\, United States
CATEGORIES:Festival
ATTACH;FMTTYPE=image/png:https://visitohiotoday.com/wp-content/uploads/2025/04/VOT-Old-West-End-Historic-Festival-feature-image.png
END:VEVENT
BEGIN:VEVENT
DTSTART;TZID=UTC:20250607T100000
DTEND;TZID=UTC:20250608T180000
DTSTAMP:20260421T131339
CREATED:20240410T084137Z
LAST-MODIFIED:20250407T133336Z
UID:10000159-1749290400-1749405600@visitohiotoday.com
SUMMARY:Troy Strawberry Festival
DESCRIPTION:Troy Strawberry Festival is a fun\, family-friendly event that takes place in early June\, in downtown Troy. \n\n\n\nPhoto courtesy of Troy Strawberry Festival\n\n\n\nTroy Strawberry Festival is an entire weekend filled with all things strawberry! Over 200\,000 visitors attend this free event each year. \n\n\n\nThe fun begins Friday\, the night before the festival\, at the Strawberry Jam. There will be a ribbon-cutting ceremony at 5 pm\, followed by the dyeing of the fountain. A concert will take place on Prouty Plaza. Activities for kids include a Children’s Big Wheel Race and a Children’s Berry Shuttle Run & Dash. \n\n\n\nThe Pie Eating Contest is on Saturday at 12:30 pm near the Community Stage on the lower levee\, arena side. There is also a Tennis Shootout at Troy Community Park. \n\n\n\nOn Sunday\, both the 5K and 10K Classic Runs as well as the 2-mile Strawberry Shortcake Run start on Riverside Drive at Troy Community Park. A Cruise-in will take place at Troy Community Park\, starting at 10 am. Registration begins at 8 am. There will be awards. Superkids is scheduled at Troy Memorial Stadium.  \n\n\n\nThere are three stages holding performances\, the Levee and Community Stage on the river levee and Prouty Plaza in downtown Troy. A beer truck will be on the levee near the Levee State. \n\n\n\nHandcrafted arts & crafts vendors and non-profit food vendors will be there\, too! Kids will enjoy the face painting and balloons! \n\n\n\nTroy Strawberry Festival is a rain-or-shine event unless there is severe weather. Service animals only\, please.  \n\n\n\nYou can park at the Miami County Fairgrounds and take the free shuttle to the festival. Handicap-accessible parking is available at ITW Hobart Headquarters. \n\n\n\n\n\n\n\n\n\n\n\n\n\n\n\nDo you have an event that you want to feature (for free) on our VisitOhioToday events calendar? Just complete this form or feel free to send us an email at outreach@visitohiotoday.com. All submissions subject to approval.
URL:https://visitohiotoday.com/event/troy-strawberry-festival/
LOCATION:Troy Strawberry Festival\, Downtown Troy\, Troy\, OH\, 45373\, United States
CATEGORIES:Festival
ATTACH;FMTTYPE=image/png:https://visitohiotoday.com/wp-content/uploads/2024/04/VOT-Troy-Strawberry-Festival-feature-image.png
END:VEVENT
BEGIN:VEVENT
DTSTART;TZID=UTC:20250607T160000
DTEND;TZID=UTC:20250608T000000
DTSTAMP:20260421T131339
CREATED:20250418T104644Z
LAST-MODIFIED:20250418T104644Z
UID:10000258-1749312000-1749340800@visitohiotoday.com
SUMMARY:Pineapple Palooza
DESCRIPTION:The Pineapple Palooza in downtown Bellefontaine is in early June from 4 pm until midnight. A family fun evening full of entertainment. \n\n\n\n\n\n\n\nVisitors to this festival can enjoy taking a zipline down Main Street\, pineapple-themed contests and games\, dancing to the beats from the DJ\, and a variety of food trucks. \n\n\n\nThere are live performances and a concert on the main stage to end the evening. \n\n\n\nCelebrate the mighty pineapple for the evening! \n\n\n\n\n\n\n\n\n\n\n\n\n\n\n\nDo you have an event that you want to feature (for free) on our VisitOhioToday events calendar? Feel free to send us an email at team@visitohiotoday.com. All submissions subject to approval.
URL:https://visitohiotoday.com/event/pineapple-palooza/
LOCATION:Pineapple Palooza\, Downtown\, Bellefontaine\, OH\, 43311\, United States
CATEGORIES:Festival
ATTACH;FMTTYPE=image/png:https://visitohiotoday.com/wp-content/uploads/2025/04/VOT-Pineapple-Palooza-feature-image.png
END:VEVENT
END:VCALENDAR