BEGIN:VCALENDAR
VERSION:2.0
PRODID:-//Visit Ohio Today - ECPv6.15.20//NONSGML v1.0//EN
CALSCALE:GREGORIAN
METHOD:PUBLISH
X-ORIGINAL-URL:https://visitohiotoday.com
X-WR-CALDESC:Events for Visit Ohio Today
REFRESH-INTERVAL;VALUE=DURATION:PT1H
X-Robots-Tag:noindex
X-PUBLISHED-TTL:PT1H
BEGIN:VTIMEZONE
TZID:UTC
BEGIN:STANDARD
TZOFFSETFROM:+0000
TZOFFSETTO:+0000
TZNAME:UTC
DTSTART:20240101T000000
END:STANDARD
END:VTIMEZONE
BEGIN:VEVENT
DTSTART;TZID=UTC:20250613T120000
DTEND;TZID=UTC:20250615T150000
DTSTAMP:20260421T131757
CREATED:20240417T101536Z
LAST-MODIFIED:20250411T095655Z
UID:10000161-1749816000-1749999600@visitohiotoday.com
SUMMARY:Festival of the Fish
DESCRIPTION:Festival of the Fish is an annual festival on the waterfront in Vermilion that takes place on Father’s Day weekend each year. \n\n\n\n\n\n\n\nThe 2025 Festival of the Fish will be turning back the clock this year with the Fishing in the 80s – Mullet Mania theme \n\n\n\nGet ready for freshly grilled food at a waterfront setting\, live entertainment\, and fireworks over Lake Erie!  \n\n\n\nOn Saturday\, watch the Crazy Craft Regatta and the Lighted Boat Parade with prizes. The Crazy Craft Regatta registration is from 11 am to 12:30 pm. The race starts at 1 pm.  \n\n\n\nThe Father’s Day Parade is on Sunday in downtown Vermilion. The parade kicks off at 12:30 pm.  \n\n\n\n\n\n\n\n\n\n\n\n\n\n\n\nDo you have an event that you want to feature (for free) on our VisitOhioToday events calendar? Just complete this form or feel free to send us an email at outreach@visitohiotoday.com. All submissions subject to approval.
URL:https://visitohiotoday.com/event/festival-of-the-fish/
LOCATION:Festival of the Fish\, 5495 Liberty Avenue\, Vermilion\, OH\, 44089\, United States
CATEGORIES:Festival
ATTACH;FMTTYPE=image/png:https://visitohiotoday.com/wp-content/uploads/2024/04/VOT-Festival-of-the-Fish-feature-image.png
END:VEVENT
END:VCALENDAR