BEGIN:VCALENDAR
VERSION:2.0
PRODID:-//Visit Ohio Today - ECPv6.15.20//NONSGML v1.0//EN
CALSCALE:GREGORIAN
METHOD:PUBLISH
X-ORIGINAL-URL:https://visitohiotoday.com
X-WR-CALDESC:Events for Visit Ohio Today
REFRESH-INTERVAL;VALUE=DURATION:PT1H
X-Robots-Tag:noindex
X-PUBLISHED-TTL:PT1H
BEGIN:VTIMEZONE
TZID:UTC
BEGIN:STANDARD
TZOFFSETFROM:+0000
TZOFFSETTO:+0000
TZNAME:UTC
DTSTART:20240101T000000
END:STANDARD
END:VTIMEZONE
BEGIN:VEVENT
DTSTART;TZID=UTC:20250617T180000
DTEND;TZID=UTC:20250621T220000
DTSTAMP:20260421T131721
CREATED:20250417T113912Z
LAST-MODIFIED:20250417T113913Z
UID:10000255-1750183200-1750543200@visitohiotoday.com
SUMMARY:Wadsworth Blue Tip Festival
DESCRIPTION:The Wadsworth Blue Tip Festival is held in mid-June in the football parking lot on the north side of Art Wright Stadium. \n\n\n\n\n\n\n\nThe Wadsworth Blue Tip Festival starts with a parade and the lighting of a giant\, twenty-foot blue tip match\, which lights downtown Wadsworth throughout the festival. \n\n\n\nThe festival has vendor booths and food trucks throughout the opening hours in the football parking lot. \n\n\n\nOther events and activities include Kids Land at the Art Wright Stadium\, Speeder Rides at the Tracks by the Retro Bar on Main Street\, a car show\, a strongman competition\, and live music performances each evening. \n\n\n\n\n\n\n\n\n\n\n\n\n\n\n\nDo you have an event that you want to feature (for free) on our VisitOhioToday events calendar? Feel free to send us an email at team@visitohiotoday.com. All submissions subject to approval.
URL:https://visitohiotoday.com/event/wadsworth-blue-tip-festival/
LOCATION:Wadsworth Blue Tip Festival\, Art Wright Stadium\, 280 Grandview Ave\, Wadsworth\, OH\, 44281\, United States
CATEGORIES:Festival
ATTACH;FMTTYPE=image/png:https://visitohiotoday.com/wp-content/uploads/2025/04/VOT-Wadsworth-Blue-Tip-Festival-feature-image.png
END:VEVENT
BEGIN:VEVENT
DTSTART;TZID=UTC:20250619T150000
DTEND;TZID=UTC:20250621T230000
DTSTAMP:20260421T131721
CREATED:20250418T113750Z
LAST-MODIFIED:20250418T113751Z
UID:10000259-1750345200-1750546800@visitohiotoday.com
SUMMARY:June in Olde Williamsburgh Festival
DESCRIPTION:The June in Olde Williamsburgh Festival is a three-day festival at the Old High School Grounds in Williamsburg. \n\n\n\n\n\n\n\nThis festival is a small town tradition filled with family fun and entertainment with exciting activities for all ages. \n\n\n\nVisitors can participate in the Color Run\, explore the craft vendors\, grab a bite from the food trucks\, and watch the parade. \n\n\n\nThere is plenty of entertainment for kids\, including carnival rides and KidsFest activities. \n\n\n\nThere is live music every night\, and the beer garden offers a relaxing spot to enjoy a cold drink. \n\n\n\n\n\n\n\n\n\n\n\n\n\n\n\nDo you have an event that you want to feature (for free) on our VisitOhioToday events calendar? Feel free to send us an email at team@visitohiotoday.com. All submissions subject to approval.
URL:https://visitohiotoday.com/event/june-in-olde-williamsburgh-festival/
LOCATION:June in Olde Williamsburgh Festival\, Old High School Grounds\, 549 West Main St\, Williamsburg\, OH\, 45176\, United States
CATEGORIES:Festival
ATTACH;FMTTYPE=image/png:https://visitohiotoday.com/wp-content/uploads/2025/04/VOT-June-in-Olde-Williamsburgh-Festival-feature-image.png
END:VEVENT
BEGIN:VEVENT
DTSTART;TZID=UTC:20250619T160000
DTEND;TZID=UTC:20250621T223000
DTSTAMP:20260421T131721
CREATED:20240417T101824Z
LAST-MODIFIED:20250409T114552Z
UID:10000162-1750348800-1750545000@visitohiotoday.com
SUMMARY:Shreve Swampfest
DESCRIPTION:Shreve Swampfest is a community festival that takes place in downtown Shreve in June. \n\n\n\n\n\n\n\nShreve Swampfest is a family-friendly festival named after the nearby 5\,500-acre wetland that locals call “Shreve’s Swamp.” \n\n\n\nVendors and local food trucks will be there to serve you. There will also be live entertainment.  \n\n\n\nRides\, games\, and activities like inflatables and a climbing wall are sure to keep the kids having fun! \n\n\n\nA car show and a fireworks show are planned for Saturday. The fireworks will be at Miller Park. \n\n\n\n\n\n\n\n\n\n\n\n\n\n\n\nDo you have an event that you want to feature (for free) on our VisitOhioToday events calendar? Just complete this form or feel free to send us an email at outreach@visitohiotoday.com. All submissions subject to approval.
URL:https://visitohiotoday.com/event/shreve-swampfest/
LOCATION:Shreve Swampfest\, N. Market Street\, Shreve\, Ohio\, 44676\, United States
CATEGORIES:Festival
ATTACH;FMTTYPE=image/png:https://visitohiotoday.com/wp-content/uploads/2024/04/VOT-Shreve-Swampfest-feature-image.png
END:VEVENT
BEGIN:VEVENT
DTSTART;TZID=UTC:20250619T160000
DTEND;TZID=UTC:20250621T230000
DTSTAMP:20260421T131721
CREATED:20240424T102626Z
LAST-MODIFIED:20250411T103724Z
UID:10000163-1750348800-1750546800@visitohiotoday.com
SUMMARY:Tusky Days
DESCRIPTION:The Tusky Days Festival is a community event that takes place in Tuscarawas in late June. \n\n\n\n\n\n\n\nThe Tusky Days Festival is all about food\, fun\, and community! \n\n\n\nActivities for the festival include a car\, bike\, and truck show as well as a talent show with prizes.  \n\n\n\nThere will be a 5K and 1 mile run or walk. \n\n\n\nDon’t miss the Kodachrome babies and the memorabilia auction!  \n\n\n\nThere will be live music\, too! \n\n\n\n\n\n\n\n\n\n\n\n\n\n\n\nDo you have an event that you want to feature (for free) on our VisitOhioToday events calendar? Just complete this form or feel free to send us an email at outreach@visitohiotoday.com. All submissions subject to approval.
URL:https://visitohiotoday.com/event/tusky-days/
LOCATION:Tusky Days\, 450 School Street NE\, Tuscarawas\, OH\, 44682\, United States
CATEGORIES:Festival
ATTACH;FMTTYPE=image/png:https://visitohiotoday.com/wp-content/uploads/2024/04/VOT-Tusky-Days-feature-image.png
END:VEVENT
BEGIN:VEVENT
DTSTART;TZID=UTC:20250619T170000
DTEND;TZID=UTC:20250621T220000
DTSTAMP:20260421T131721
CREATED:20240424T103140Z
LAST-MODIFIED:20250411T102632Z
UID:10000164-1750352400-1750543200@visitohiotoday.com
SUMMARY:London Strawberry Festival
DESCRIPTION:London Strawberry Festival is a three-day event that takes place annually on the Thursday\, Friday\, and Saturday following Father’s Day. \n\n\n\n\n\n\n\nIf you are looking for a “berry” good time\, come to London Strawberry Festival this summer!  \n\n\n\nThere will be games\, rides\, food\, entertainment\, contests\, and a parade! Every food vendor will have something strawberry to eat! \n\n\n\nSee the largest Cobra Car Show on Saturday from 9 am to 3 pm. There will be a parade into London from 9 am to 9:30 am. Charity rides follow from 10 am to 2 pm. The winning raffle ticket will be drawn at 9:30 pm. All benefits go to charity. \n\n\n\nTry some delicious strawberry shortcake while you’re there! You can even vote for your favorite strawberry food in the People’s Choice Strawberry Food Contest. \n\n\n\n\n\n\n\n\n\n\n\n\n\n\n\nDo you have an event that you want to feature (for free) on our VisitOhioToday events calendar? Just complete this form or feel free to send us an email at outreach@visitohiotoday.com. All submissions subject to approval.
URL:https://visitohiotoday.com/event/london-strawberry-festival/
LOCATION:London Strawberry Festival\, South Main Street\, London\, OH\, 43140\, United States
CATEGORIES:Festival
ATTACH;FMTTYPE=image/png:https://visitohiotoday.com/wp-content/uploads/2024/04/VOT-London-Strawberry-Festival-feature-image.png
END:VEVENT
END:VCALENDAR