BEGIN:VCALENDAR
VERSION:2.0
PRODID:-//Visit Ohio Today - ECPv6.15.20//NONSGML v1.0//EN
CALSCALE:GREGORIAN
METHOD:PUBLISH
X-ORIGINAL-URL:https://visitohiotoday.com
X-WR-CALDESC:Events for Visit Ohio Today
REFRESH-INTERVAL;VALUE=DURATION:PT1H
X-Robots-Tag:noindex
X-PUBLISHED-TTL:PT1H
BEGIN:VTIMEZONE
TZID:UTC
BEGIN:STANDARD
TZOFFSETFROM:+0000
TZOFFSETTO:+0000
TZNAME:UTC
DTSTART:20240101T000000
END:STANDARD
END:VTIMEZONE
BEGIN:VEVENT
DTSTART;TZID=UTC:20250626T160000
DTEND;TZID=UTC:20250629T220000
DTSTAMP:20260421T131727
CREATED:20250417T130953Z
LAST-MODIFIED:20250417T130953Z
UID:10000257-1750953600-1751234400@visitohiotoday.com
SUMMARY:Ashland BalloonFest
DESCRIPTION:Ashland BalloonFest is a family fun festival held in late June each year. Enjoy watching the sky filled with colorful balloons! \n\n\n\n\n\n\n\nThis three-day festival kicks off at 4 pm on Thursday with live music. \n\n\n\nTake your chairs and blankets early on Friday and Saturday to see the 7 am Balloon Flyover. \n\n\n\nOther activities include an Art Walk\, merchant tents\, food trucks\, a group fitness class\, the Annual Ashland BalloonFest 5K\, Pancake Breakfast\, and helicopter rides. \n\n\n\nKid Zone is open from 4 pm each day and includes pony rides\, inflatables\, gem mining\, and more. \n\n\n\nEach evening at 9.15 pm visitors can watch the Balloon Glow on the launch field. \n\n\n\n\n\n\n\n\n\n\n\n\n\n\n\nDo you have an event that you want to feature (for free) on our VisitOhioToday events calendar? Feel free to send us an email at team@visitohiotoday.com. All submissions subject to approval.
URL:https://visitohiotoday.com/event/ashland-balloonfest/
LOCATION:Ashland BalloonFest\, Freer Field\, 1256 Center St\, Ashland\, OH\, 44805\, United States
CATEGORIES:Festival
ATTACH;FMTTYPE=image/png:https://visitohiotoday.com/wp-content/uploads/2025/04/VOT-Ashland-BalloonFest-feature-image.png
END:VEVENT
END:VCALENDAR