BEGIN:VCALENDAR
VERSION:2.0
PRODID:-//Visit Ohio Today - ECPv6.15.20//NONSGML v1.0//EN
CALSCALE:GREGORIAN
METHOD:PUBLISH
X-WR-CALNAME:Visit Ohio Today
X-ORIGINAL-URL:https://visitohiotoday.com
X-WR-CALDESC:Events for Visit Ohio Today
REFRESH-INTERVAL;VALUE=DURATION:PT1H
X-Robots-Tag:noindex
X-PUBLISHED-TTL:PT1H
BEGIN:VTIMEZONE
TZID:UTC
BEGIN:STANDARD
TZOFFSETFROM:+0000
TZOFFSETTO:+0000
TZNAME:UTC
DTSTART:20240101T000000
END:STANDARD
END:VTIMEZONE
BEGIN:VEVENT
DTSTART;TZID=UTC:20250912T100000
DTEND;TZID=UTC:20250913T170000
DTSTAMP:20260421T100531
CREATED:20230807T083732Z
LAST-MODIFIED:20250803T110230Z
UID:10000057-1757671200-1757782800@visitohiotoday.com
SUMMARY:Log Cabin Days
DESCRIPTION:Log Cabin Days by Hochstetler Log Homes is a rustic and Amish-themed weekend event in September. \n\n\n\n\n\n\n\nIndulge in the Early Bird Breakfast before the festival opens on Saturday. During the days\, check out the Amish-cooked food vendors selling many delicious savory and sweet snacks. \n\n\n\nLog Cabin Days has activities for the kids to enjoy\, including pony and covered wagon rides\, treasure hunts in the wood shavings\, a petting zoo\, and a coloring contest. \n\n\n\nYou can watch demonstrations of the mill and dry kilns in operation\, steam-engine sawmilling\, lumberjack activities\, wool-spinning\, and more. \n\n\n\nA self-guided log home tour is available\, and a cabin and rustic furnishings auction will offer to the highest bidder prebuilt cabins\, pavilions\, rustic furniture\, and more. \n\n\n\nThere is an admission fee to this event. Children under 12 go free. \n\n\n\n\n\n\n\n\n\n\n\n\n\n\n\nDo you have an event that you want to feature (for free) on our VisitOhioToday events calendar? Just send us an email at team@visitohiotoday.com. All submissions subject to approval.
URL:https://visitohiotoday.com/event/log-cabin-days-event/
LOCATION:Log Cabin Days\, 552 SR 95\, Loudenville\, OH\, 44842\, United States
CATEGORIES:Festival
ATTACH;FMTTYPE=image/png:https://visitohiotoday.com/wp-content/uploads/2023/08/Log-Cabin-Days-Event-feature-image-1.png
END:VEVENT
BEGIN:VEVENT
DTSTART;TZID=UTC:20250912T100000
DTEND;TZID=UTC:20250914T180000
DTSTAMP:20260421T100531
CREATED:20250804T151247Z
LAST-MODIFIED:20250804T151247Z
UID:10000280-1757671200-1757872800@visitohiotoday.com
SUMMARY:Great Mohican Pow-Wow
DESCRIPTION:The Great Mohican Pow-Wow is held at the Mohican Reservation Campgrounds in Loudonville in September. All things Native American are celebrated here. \n\n\n\n\n\n\n\nAt this festival\, visitors can see tomahawk throwing\, Aztec fire dancers\, fire-starting demonstrations\, a storyteller\, and more. \n\n\n\nThere is live music and dancing troops throughout the festival. Artisans display and sell their work\, including antler works\, basket weaving\, feather working\, knife making\, pottery\, silversmithing\, wood & bone carving\, and more. \n\n\n\nFestival Hours: \n\n\n\n\nFriday: 10 am – 6 pm\n\n\n\nSaturday: 10 am – 7 pm\n\n\n\nSunday: 10 am – 6 pm\n\n\n\n\n\n\n\n\n\n\n\n\n\n\n\n\nDo you have an event that you want to feature (for free) on our VisitOhioToday events calendar? Feel free to send us an email at team@visitohiotoday.com. All submissions subject to approval.
URL:https://visitohiotoday.com/event/great-mohican-pow-wow/
LOCATION:Great Mohican Pow-Wow\, Mohican Reservation Campgrounds & Canoeing\, 23270 Wally Rd\, Loudonville\, OH\, 44842\, United States
CATEGORIES:Festival
ATTACH;FMTTYPE=image/png:https://visitohiotoday.com/wp-content/uploads/2025/08/VOT-Great-Mohican-Pow-Wow-feature-image.png
END:VEVENT
BEGIN:VEVENT
DTSTART;TZID=UTC:20250912T160000
DTEND;TZID=UTC:20250914T170000
DTSTAMP:20260421T100531
CREATED:20230808T152125Z
LAST-MODIFIED:20250912T093741Z
UID:10000059-1757692800-1757869200@visitohiotoday.com
SUMMARY:Ohio Pawpaw Festival
DESCRIPTION:The Ohio Pawpaw Festival\, in September\, celebrates the native tree fruit with pawpaw-inspired food and drinks. \n\n\n\n\n\n\n\nThe Ohio Pawpaw Festival is both entertaining and informative. Learn about the rich history and promising future of the pawpaw. Presentations and activities cover topics such as pawpaw cultivation\, cooking\, genetic research\, medicinal applications\, and more. \n\n\n\nEvents include a food vendor pawpaw cook-off\, best pawpaw contest\, brewers’ round table and pawpaw beer tasting\, and a pawpaw eating contest. Throughout the festivities\, there will be live music. \n\n\n\nThe Ohio Pawpaw Festival has a Kids’ Tent with an obstacle course\, bouncy houses\, and carnival games. \n\n\n\n\n\n\n\n\n\n\n\n\n\n\n\nDo you have an event that you want to feature (for free) on our VisitOhioToday events calendar? Just send us an email at team@visitohiotoday.com. All submissions subject to approval.
URL:https://visitohiotoday.com/event/ohio-pawpaw-festival-event/
LOCATION:Ohio Pawpaw Festival\, Lake Snowden Campground\, 5900 US 50\, Albany\, OH\, 45710\, United States
CATEGORIES:Festival
ATTACH;FMTTYPE=image/png:https://visitohiotoday.com/wp-content/uploads/2023/08/Ohio-Pawpaw-Festival-Event-feature-image.png
END:VEVENT
BEGIN:VEVENT
DTSTART;TZID=UTC:20250913T110000
DTEND;TZID=UTC:20251102T180000
DTSTAMP:20260421T100531
CREATED:20230927T090419Z
LAST-MODIFIED:20250804T125448Z
UID:10000095-1757761200-1762106400@visitohiotoday.com
SUMMARY:Waynesville Fall Fest
DESCRIPTION:The Waynesville Fall Fest is every Saturday and Sunday from mid-September to the beginning of November. A great fun day out for the whole family to enjoy. \n\n\n\nImage courtesy of Waynesville Fall Fest\n\n\n\nThe Waynesville Fall Fest is a celebration of the state’s heritage and autumn’s beauty. With a big focus on pumpkins\, there are also many other activities and events here! \n\n\n\nSplash Landing Expeditions will take you deep into the Ohio woods to discover the town of Skeleville\, home of the Skelepeople! The Wildwater Mining Co. is themed on an abandoned mining company and is a 3 story playset. \n\n\n\nThere is also mini golf\, a corn maze\, pedal cars\, Ghost Town Village\, a petting farm\, giant porch games\, and much more. \n\n\n\nWith many food vendors and an indoor one-stop shop\, your day will be complete! \n\n\n\n\n\n\n\n\n\n\n\n\n\n\n\nDo you have an event that you want to feature (for free) on our VisitOhioToday events calendar? Just send us an email at team@visitohiotoday.com. All submissions subject to approval.
URL:https://visitohiotoday.com/event/waynesville-fall-fest-event/
LOCATION:Waynesville Fall Fest\, 7392 OH-73\, Waynesville\, OH\, 45068\, United States
CATEGORIES:Festival
ATTACH;FMTTYPE=image/png:https://visitohiotoday.com/wp-content/uploads/2023/09/Waynesville-Fall-Fest-Event-feature-image.png
END:VEVENT
END:VCALENDAR