BEGIN:VCALENDAR
VERSION:2.0
PRODID:-//Visit Ohio Today - ECPv6.15.20//NONSGML v1.0//EN
CALSCALE:GREGORIAN
METHOD:PUBLISH
X-WR-CALNAME:Visit Ohio Today
X-ORIGINAL-URL:https://visitohiotoday.com
X-WR-CALDESC:Events for Visit Ohio Today
REFRESH-INTERVAL;VALUE=DURATION:PT1H
X-Robots-Tag:noindex
X-PUBLISHED-TTL:PT1H
BEGIN:VTIMEZONE
TZID:UTC
BEGIN:STANDARD
TZOFFSETFROM:+0000
TZOFFSETTO:+0000
TZNAME:UTC
DTSTART:20240101T000000
END:STANDARD
END:VTIMEZONE
BEGIN:VEVENT
DTSTART;TZID=UTC:20251120T160000
DTEND;TZID=UTC:20260104T210000
DTSTAMP:20260421T082100
CREATED:20231121T094721Z
LAST-MODIFIED:20250904T094922Z
UID:10000112-1763654400-1767560400@visitohiotoday.com
SUMMARY:PNC Festival of Lights
DESCRIPTION:PNC Festival of Lights is at Cincinnati Zoo and Botanical Garden from mid-November to early January. A stunning light show for the whole family to enjoy! \n\n\n\nPhoto credit: PNC Festival of Lights Cincinnati Zoo and Botanical Garden\n\n\n\nOver 4 million LEDs are lit around the zoo to create an amazing light display at the PNC Festival of Lights. \n\n\n\nFeaturing a tunnel of lights\, a candy cane forest\, and over 30 lit\, larger-than-life animal displays. \n\n\n\nVisit the Fairyland and search for the 5 Fiona Fairies. Take a ride on the North Polar Express train and on the Conservation carousel. \n\n\n\nMeet Santa\, Mrs. Claus and other characters at Santa Village. \n\n\n\nFood and drink stations are located around the zoo. \n\n\n\nPNC Festival of Lights is included in zoo admission. The zoo is closed on Thanksgiving\, Christmas Eve\, and Christmas Day. Note: The zoo opens each day at 10 am\, and the festival activities start at 4 pm. \n\n\n\n\n\n\n\n\n\n\n\n\n\n\n\nDo you have an event that you want to feature (for free) on our VisitOhioToday events calendar? Just send us an email at team@visitohiotoday.com. All submissions subject to approval.
URL:https://visitohiotoday.com/event/pnc-festival-of-lights-event/
LOCATION:PNC Festival of Lights\, Cincinnati Zoo and Botanical Garden\, 3400 Vine St\, Cincinnati\, OH\, 45220\, United States
CATEGORIES:Festival
ATTACH;FMTTYPE=image/png:https://visitohiotoday.com/wp-content/uploads/2023/11/PNC-Festival-of-Lights-Event-feature-image.png
END:VEVENT
BEGIN:VEVENT
DTSTART;TZID=UTC:20251120T180000
DTEND;TZID=UTC:20251228T220000
DTSTAMP:20260421T082100
CREATED:20251031T135339Z
LAST-MODIFIED:20251031T135340Z
UID:10000306-1763661600-1766959200@visitohiotoday.com
SUMMARY:Christmas Drive Through Park
DESCRIPTION:The Christmas Drive Through Park by Elegant Illusions is at Portage County Randolph Fairgrounds from late November through the end of December. \n\n\n\n\n\n\n\nThis drive through light display uses the best animatronics\, lighting technology\, and professional display designs to offer over 50 holiday scenes. \n\n\n\nStop by the Santa Shack to visit Santa\, Mrs. Claus Kitchen\, and Mr. Grinch for a great photo op. \n\n\n\nThe display is open each Thursday\, Friday\, Saturday\, and Sunday night for six weeks. \n\n\n\nOpening Hours: \n\n\n\n\nThursday and Sunday: 6 pm – 9 pm\n\n\n\nFriday and Saturday: 6 pm – 10 pm\n\n\n\n\n\n\n\n\n\n\n\n\n\n\n\n\nDo you have an event that you want to feature (for free) on our VisitOhioToday events calendar? Feel free to send us an email at team@visitohiotoday.com. All submissions subject to approval.
URL:https://visitohiotoday.com/event/christmas-drive-through-park/
LOCATION:Christmas Drive Through Park\, Portage County Fairgrounds\, 4215 Fairground Rd\, Atwater\, OH\, 44201\, United States
CATEGORIES:Festival
ATTACH;FMTTYPE=image/png:https://visitohiotoday.com/wp-content/uploads/2025/10/VOT-Christmas-Drive-Through-Park-feature-image.png
END:VEVENT
BEGIN:VEVENT
DTSTART;TZID=UTC:20251121T150000
DTEND;TZID=UTC:20251231T210000
DTSTAMP:20260421T082100
CREATED:20230928T200707Z
LAST-MODIFIED:20250904T090732Z
UID:10000093-1763737200-1767214800@visitohiotoday.com
SUMMARY:Toledo Zoo Lights
DESCRIPTION:Toledo Zoo Lights Before Christmas is an extravaganza running from late November through December 31\, with lots of fun for the whole family! \n\n\n\nImage courtesy of Toledo Zoo\n\n\n\nToledo Zoo Lights Before Christmas kicks off with the tree-lighting ceremony. Watch the big tree lights being turned on\, with over 35\,000 LEDs lighting up the night sky. \n\n\n\nActivities include Ice Slide\, Ice Carving Demo\, Holly Jolly Express train ride\, Swanton Model Train Railroad Club\, and much more. \n\n\n\nYou can sing your favorite festive songs along with the Talking Tree\, and of course\, Santa will make an appearance! \n\n\n\nEnjoy the Zoo’s famous hot chocolate\, homemade fudge\, and baked goods during your visit. \n\n\n\n\n\n\n\n\n\n\n\n\n\n\n\nDo you have an event that you want to feature (for free) on our VisitOhioToday events calendar? Just send us an email at team@visitohiotoday.com. All submissions subject to approval.
URL:https://visitohiotoday.com/event/toledo-zoo-lights-event/
LOCATION:Toledo Zoo Lights\, 2 Hippo Way\, Toledo\, OH\, 43609\, United States
CATEGORIES:Festival
ATTACH;FMTTYPE=image/png:https://visitohiotoday.com/wp-content/uploads/2023/09/Toledo-Zoo-Lights-Event-feature-image.png
END:VEVENT
BEGIN:VEVENT
DTSTART;TZID=UTC:20251121T170000
DTEND;TZID=UTC:20251223T210000
DTSTAMP:20260421T082100
CREATED:20241030T114519Z
LAST-MODIFIED:20250917T102842Z
UID:10000206-1763744400-1766523600@visitohiotoday.com
SUMMARY:The Christmas Ranch
DESCRIPTION:The Christmas Ranch is a light show and much more in Morrow\, central Ohio. An evening of family fun is guaranteed! \n\n\n\n\n\n\n\nThe Christmas Ranch has seven Christmas shops including Christmas Memories\, Santa’s Castle\, and Stocking Stuffers. \n\n\n\nOpportunities for photos with Santa in the perfect setting and take a train ride and wagon ride around the light show. The kids will have lots of fun in Toyland\, featuring tunnel slides\, tire swing\, rock climbing wall\, and much more. \n\n\n\nTake a break in Santa’s Bakery and Café and enjoy a hot chocolate\, soft drink\, or coffee\, a selection of sweets and warm food such as hamburgers\, hotdogs\, and pizzas.
URL:https://visitohiotoday.com/event/the-christmas-ranch/
LOCATION:The Christmas Ranch\, 3205 S Waynesville Road\, Morrow\, OH\, 45152\, United States
CATEGORIES:Festival
ATTACH;FMTTYPE=image/png:https://visitohiotoday.com/wp-content/uploads/2024/10/VOT-The-Christmas-Ranch-feature-image-1.png
END:VEVENT
BEGIN:VEVENT
DTSTART;TZID=UTC:20251121T170000
DTEND;TZID=UTC:20260104T210000
DTSTAMP:20260421T082100
CREATED:20231116T133308Z
LAST-MODIFIED:20250904T090259Z
UID:10000109-1763744400-1767560400@visitohiotoday.com
SUMMARY:Wildlights at Columbus Zoo
DESCRIPTION:Columbus Zoo springs to life during the evenings from late November to early January . Enjoy all the sights and sounds of winter at the zoo with millions of LED lights! \n\n\n\n\n\n\n\nThe season comes alive during Wildlights at Columbus Zoo\, with animated musical light shows\, Santa\, reindeer\, and more holiday festivities. \n\n\n\nTake the HOOFit 3-mile stroll around the zoo with 30 designated stop locations to see most of the zoo and to keep you healthy at the same time! \n\n\n\nTake the North American Train Ride to visit the native animals such as wolverine\, reindeer\, and moose. Or enjoy a golf cart ride around the zoo and see the animals from the best viewpoint. Book this tour early as it sells out quickly! \n\n\n\nOther activities include the 4D theater and a ride on the 1914 Mangels-lllions carousel. \n\n\n\nYou can grab refreshments at locations around the zoo\, from warm pretzels to the best fried chicken. \n\n\n\n\n\n\n\n\n\n\n\n\n\n\n\nDo you have an event that you want to feature (for free) on our VisitOhioToday events calendar? Just send us an email at team@visitohiotoday.com. All submissions subject to approval.
URL:https://visitohiotoday.com/event/wildlights-at-columbus-zoo-event/
LOCATION:Wildlights at Columbus Zoo\, 4850 W Powell Rd\, Powell\, OH\, 43065\, United States
CATEGORIES:Festival
ATTACH;FMTTYPE=image/png:https://visitohiotoday.com/wp-content/uploads/2023/11/Wildlights-at-Columbus-Zoo-Event-feature-image.png
END:VEVENT
BEGIN:VEVENT
DTSTART;TZID=UTC:20251121T173000
DTEND;TZID=UTC:20260104T210000
DTSTAMP:20260421T082100
CREATED:20231113T150208Z
LAST-MODIFIED:20250903T135338Z
UID:10000104-1763746200-1767560400@visitohiotoday.com
SUMMARY:Butch Bando’s Fantasy of Lights
DESCRIPTION:Butch Bando’s Fantasy of Lights is at Alum Creek State Park Campgrounds from mid-November to early January. \n\n\n\nPhoto courtesy of Butch Bando’s Fantasy of Lights\n\n\n\nButch Bando’s Fantasy of Lights is a locally operated drive-thru light show in the Columbus area. \n\n\n\nThe drive-thru is three miles long and has over 300 displays\, multiple tunnels\, and light walls. It is about a 30-minute drive from start to finish. \n\n\n\nChildren can bring letters to Santa. Mrs Claus will deliver them to the North Pole! They are scanned and emailed back to the parents so they know what their children have asked for. \n\n\n\nThe busiest times are normally weekends in the lead-up to Christmas. \n\n\n\nThis drive-thru is open every day\, including Thanksgiving Day\, Christmas Eve\, Christmas Day\, New Year’s Eve\, and New Year’s Day. The show will only be closed in such severe weather conditions that could jeopardize the safety of visitors. \n\n\n\nCheck out my review of Butch Bando’s Fantasy of Lights! \n\n\n\n\n\n\n\n\n\n\n\n\n\n\n\nDo you have an event that you want to feature (for free) on our VisitOhioToday events calendar? Just send us an email at team@visitohiotoday.com. All submissions subject to approval.
URL:https://visitohiotoday.com/event/butch-bandos-fantasy-of-lights-event/
LOCATION:Butch Bando’s Fantasy of Lights\, Alum Creek State Park Campgrounds 3311 South Old State Road\, Delaware\, OH\, 43015\, United States
CATEGORIES:Festival
ATTACH;FMTTYPE=image/png:https://visitohiotoday.com/wp-content/uploads/2023/11/Butch-Bandos-Fantasy-of-Lights-Event-feature-image.png
END:VEVENT
BEGIN:VEVENT
DTSTART;TZID=UTC:20251121T180000
DTEND;TZID=UTC:20251230T210000
DTSTAMP:20260421T082100
CREATED:20231116T133651Z
LAST-MODIFIED:20250917T093852Z
UID:10000110-1763748000-1767128400@visitohiotoday.com
SUMMARY:Woodland Lights
DESCRIPTION:Woodland Lights is a fantasy land of light displays held each Friday\, Saturday\, and Sunday from late November through late December. \n\n\n\n\n\n\n\nWoodland Lights events and activities end on December 23\, but the lights remain until December 30. \n\n\n\nWalk through the ten acres of lights and displays along a half-mile paved path. \n\n\n\nBoard the four-car Rieck Express train for a scenic ride past the Pollinator Garden and the vernal pond. \n\n\n\nChildren can share their wish list with Santa at the historic log cabin. Visitors can take a traditional carriage ride on most nights of the festival. \n\n\n\n\n\n\n\n\n\n\n\n\n\n\n\nDo you have an event that you want to feature (for free) on our VisitOhioToday events calendar? Just send us an email at team@visitohiotoday.com. All submissions subject to approval.
URL:https://visitohiotoday.com/event/woodland-lights-event/
LOCATION:Woodland Lights\, Countryside Park\, 895 Miamisburg-Centerville Rd\, Washington Twp\, OH\, 45459\, United States
CATEGORIES:Festival
ATTACH;FMTTYPE=image/png:https://visitohiotoday.com/wp-content/uploads/2023/11/Woodland-Lights-Event-feature-image.png
END:VEVENT
BEGIN:VEVENT
DTSTART;TZID=UTC:20251122T170000
DTEND;TZID=UTC:20251231T190000
DTSTAMP:20260421T082100
CREATED:20230928T091756Z
LAST-MODIFIED:20250923T090916Z
UID:10000092-1763830800-1767207600@visitohiotoday.com
SUMMARY:Christkindlmarkt
DESCRIPTION:The Cincinnati Christkindlmarkt is a European and Cincinnati holiday-themed festival\, open from late November to the end of December. \n\n\n\nImage courtesy of Cincinnati Christkindlmarkt\n\n\n\nThe Cincinnati Christkindlmarkt is a German-American festival with a European\, yet Cincinnati holiday theme. \n\n\n\nThis event is an open-air market with festive activities and events\, including holiday lights and live entertainment. \n\n\n\nVendors will be offering such items as Cuckoo Clocks\, Nutcrackers\, ornaments\, and candies. \n\n\n\nYou can rent an igloo that is heated and furnished for your family and friends. \n\n\n\nThere will be winter-themed activities\, great fun for both kids and adults! \n\n\n\nFestival Hours: \n\n\n\n\nMon\, Tues\, Wed: Closed\n\n\n\nThursday and Friday: 5 pm – 9 pm\n\n\n\nSaturday: Noon – 9 pm\n\n\n\nSunday: Noon – 7 pm\n\n\n\nBlack Friday: Noon – 9 pm\n\n\n\nThere are other special hours. Check the website for updates.\n\n\n\n\n\n\n\n\n\n\n\n\n\n\n\n\nDo you have an event that you want to feature (for free) on our VisitOhioToday events calendar? Just send us an email at team@visitohiotoday.com. All submissions subject to approval.
URL:https://visitohiotoday.com/event/christkindlmarkt-event/
LOCATION:Christkindlmarkt\, 115 Joe Nuxhall Way\, Cincinnati\, OH\, 45202\, United States
CATEGORIES:Festival
ATTACH;FMTTYPE=image/png:https://visitohiotoday.com/wp-content/uploads/2023/09/Christkindlmarkt-Event-feature-image.png
END:VEVENT
BEGIN:VEVENT
DTSTART;TZID=UTC:20251125T000000
DTEND;TZID=UTC:20260109T235959
DTSTAMP:20260421T082100
CREATED:20230929T121138Z
LAST-MODIFIED:20250904T101238Z
UID:10000097-1764028800-1768003199@visitohiotoday.com
SUMMARY:Steubenville Nutcracker Village
DESCRIPTION:The Steubenville Nutcracker Village has the largest collection of life-size nutcrackers in the world\, and they will be on display from late November to early January\, 24 hours a day. \n\n\n\nImage courtesy of Steubenville Nutcracker Village\n\n\n\nImage courtesy of Steubenville Nutcracker Village \n\n\n\nSteubenville Nutcracker Village is a free display of 200 nutcrackers around the streets and shops of downtown Steubenville. \n\n\n\nThere are nutcrackers such as Starman David Bowie\, Hermey the Elf\, Audrey Hepburn as ‘Holly Golightly’\, Uncle Drosselmeyer Steampunk Nutcracker\, Captain Nemo\, Johnny Appleseed\, and many\, many more. \n\n\n\nApart from strolling around the town and seeing all the nutcrackers\, activities and events include Nutcracker StoryWalk\, German Gluhwein Garden\, Children’s Corner\, St. Nicholas Lantern Parade\, Nutcracker Christmas Ball\, and much more. \n\n\n\n\n\n\n\n\n\n\n\n\n\n\n\nDo you have an event that you want to feature (for free) on our VisitOhioToday events calendar? Just send us an email at team@visitohiotoday.com. All submissions subject to approval.
URL:https://visitohiotoday.com/event/steubenville-nutcracker-village-event/
LOCATION:Steubenville Nutcracker Village\, 155 N. 4th Street\, Steubenville\, OH\, 43952\, United States
CATEGORIES:Festival
ATTACH;FMTTYPE=image/png:https://visitohiotoday.com/wp-content/uploads/2023/09/Steubenville-Nutcracker-Village-Event-feature-image.png
END:VEVENT
BEGIN:VEVENT
DTSTART;TZID=UTC:20251125T170000
DTEND;TZID=UTC:20251230T210000
DTSTAMP:20260421T082100
CREATED:20241118T101359Z
LAST-MODIFIED:20250923T094306Z
UID:10000208-1764090000-1767128400@visitohiotoday.com
SUMMARY:A Carillon Christmas Dayton
DESCRIPTION:A Carillon Christmas Dayton is a holiday event at Carillon Historical Park from late November to the end of December. \n\n\n\n\n\n\n\nCarillon Historical Park in Dayton transforms into a wintery wonderland each year\, full of lights and holiday spirit. Historic buildings and bridges sparkle with thousands of lights\, and the Carillon Tree of Light is a sight to behold! \n\n\n\nEnjoy holiday shopping\, stop for a bite to eat at the local cafes\, and relax at a Deeds Carillon Christmas Concert. There will be model train displays\, train rides\, puppet shows\, visits with Santa\, and much more! \n\n\n\nFestival Hours: \n\n\n\n\nSunday to Thursday: 5 pm – 9 pm\n\n\n\nFriday and Saturday: 5 pm – 10 pm\n\n\n\nClosed: Thanksgiving\, Christmas Eve\, and Christmas Day\n\n\n\n\nCheck out our article about A Carillon Christmas! \n\n\n\n\n\n\n\n\n\n\n\n\n\n\n\nDo you have an event that you want to feature (for free) on our VisitOhioToday events calendar? Just send us an email at outreach@visitohiotoday.com. All submissions subject to approval.
URL:https://visitohiotoday.com/event/a-carillon-christmas-dayton/
LOCATION:A Carillon Christmas\, 1000 Carillon Blvd\, Dayton\, OH\, 45409\, United States
CATEGORIES:Festival
ATTACH;FMTTYPE=image/png:https://visitohiotoday.com/wp-content/uploads/2024/11/VOT-A-Carillon-Christmas-feature-image.png
END:VEVENT
BEGIN:VEVENT
DTSTART;TZID=UTC:20251127T180000
DTEND;TZID=UTC:20251231T220000
DTSTAMP:20260421T082100
CREATED:20230925T095900Z
LAST-MODIFIED:20250923T091422Z
UID:10000091-1764266400-1767218400@visitohiotoday.com
SUMMARY:Light up Middletown
DESCRIPTION:Light Up Middletown is a drive-through fantasy light display open Thanksgiving through New Year’s Eve. \n\n\n\nImage courtesy of Light Up Middletown\n\n\n\nLight Up Middletown has themed displays such as Santa’s Workshop\, the Penguin Village\, and more. There is a tunnel with thousands of twinkling LEDs to drive through. \n\n\n\nThe Balloon Glow is not to be missed. See and hear the flames light up the sky from ground level. Be sure to have your camera ready for some spectacular shots! \n\n\n\nThis event is open 6 pm to 10 pm every night. Admission is by cash donation – you choose your price! \n\n\n\n\n\n\n\n\n\n\n\n\n\n\n\nDo you have an event that you want to feature (for free) on our VisitOhioToday events calendar? Just send us an email at team@visitohiotoday.com. All submissions subject to approval.
URL:https://visitohiotoday.com/event/light-up-middletown-event/
LOCATION:Light Up Middletown\, Smith Park\, 500 Tytus Avenue\, Middletown\, OH\, 45042\, United States
CATEGORIES:Festival
ATTACH;FMTTYPE=image/png:https://visitohiotoday.com/wp-content/uploads/2023/09/Light-Up-Middletown-Event-feature-image.png
END:VEVENT
BEGIN:VEVENT
DTSTART;TZID=UTC:20251128T120000
DTEND;TZID=UTC:20260104T190000
DTSTAMP:20260421T082100
CREATED:20231116T074711Z
LAST-MODIFIED:20251027T142441Z
UID:10000103-1764331200-1767553200@visitohiotoday.com
SUMMARY:Winterfest at Market Square
DESCRIPTION:The Winterfest at Market Square is held from late November through early January at Boneyfiddle’s Market Square\, Portsmouth\, Ohio. \n\n\n\nImage courtesy of Winterfest – Friends of Portsmouth\n\n\n\nThe Winterfest at Market Square transforms Boneyfiddle’s Market Square into a winter wonderland with skating\, millions of lights\, snow tubing\, a vendor village\, and much more. \n\n\n\nThe Gift Shop is not only enticing for some wonderful festive purchases\, but at specified times\, Santa will be in residence. \n\n\n\nAt this Winterfest\, you can enjoy ice skating and carriage rides. There is a window decoration contest for local businesses too\, and you can vote for your favorite. \n\n\n\nYou can register to take ice skating or ice hockey lessons at certain times on some days of the festival. \n\n\n\nThere will also be food trucks. \n\n\n\n\n\n\n\n\n\n\n\n\n\n\n\nDo you have an event that you want to feature (for free) on our VisitOhioToday events calendar? Just send us an email at team@visitohiotoday.com. All submissions subject to approval.
URL:https://visitohiotoday.com/event/winterfest-at-market-square/
LOCATION:Winterfest at Market Square\, Market Square\, Portsmouth\, OH\, 45662\, United States
CATEGORIES:Festival
ATTACH;FMTTYPE=image/png:https://visitohiotoday.com/wp-content/uploads/2023/11/Winterfest-at-Market-Square-Event-feature-image.png
END:VEVENT
BEGIN:VEVENT
DTSTART;TZID=UTC:20251128T150000
DTEND;TZID=UTC:20251231T200000
DTSTAMP:20260421T082100
CREATED:20231116T131820Z
LAST-MODIFIED:20250923T093158Z
UID:10000098-1764342000-1767211200@visitohiotoday.com
SUMMARY:Dayton Holiday Festival
DESCRIPTION:The Dayton Holiday Festival is from late November to the end of December. More than a month of family fun awaits at this festive event. \n\n\n\nImage courtesy of Downtown Dayton.com\n\n\n\nThe Dayton Holiday Festival kicks off with the Grande Illumination tree lighting and the Dayton Children’s Parade Spectacular in Lights. \n\n\n\nCourthouse Square hosts live entertainment\, live reindeer\, and Gingerbread Homes for the Holidays contest on the opening night. \n\n\n\nThere will be a street fair\, horse-drawn wagon rides\, holiday village\, and the Junior League of Dayton’s Holiday Village. \n\n\n\nThroughout December there will be events and activities including Virginia Kettering’s Holiday Train Display\, Downtown Jingle Lights\, Whimsical Windows\, Noontime Entertainment\, and much more. \n\n\n\n\n\n\n\n\n\n\n\n\n\n\n\nDo you have an event that you want to feature (for free) on our VisitOhioToday events calendar? Just send us an email at team@visitohiotoday.com. All submissions subject to approval.
URL:https://visitohiotoday.com/event/dayton-holiday-festival-event/
LOCATION:Dayton Holiday Festival\, Downtown\, Dayton\, OH\, 45402\, United States
CATEGORIES:Festival
ATTACH;FMTTYPE=image/png:https://visitohiotoday.com/wp-content/uploads/2023/09/Dayton-Holiday-Festival-Event-feature-image.png
END:VEVENT
BEGIN:VEVENT
DTSTART;TZID=UTC:20251128T170000
DTEND;TZID=UTC:20251230T210000
DTSTAMP:20260421T082100
CREATED:20250926T132114Z
LAST-MODIFIED:20250926T132115Z
UID:10000301-1764349200-1767128400@visitohiotoday.com
SUMMARY:Christmas Lights at Clifton Mill
DESCRIPTION:Clifton Mill Christmas lights always open the day after Thanksgiving and continue until December 30. \n\n\n\n\n\n\n\nOver 4 million lights illuminate the mill\, the gorge\, the riverbanks\, trees\, and bridges. There is even a 100-foot “waterfall” of twinkling lights. The flip of one switch turns all the lights on at once\, transforming night into a fantastical winter wonderland which includes a Miniature Village\, a Santa Claus Museum\, a Toy Collection\, and a spectacular synchronized lights and music show that features the old Covered Bridge. \n\n\n\nThe lights are turned on at 5 pm every night\, and turned off at 9 pm\, except for Christmas Eve and Christmas Day\, when they are turned off at 8 pm. \n\n\n\nFor more information and a review of our visit\, check out our article about Clifton Mill Christmas Lights. \n\n\n\n\n\n\n\n\n\n\n\n\n\n\n\nDo you have an event that you want to feature (for free) on our VisitOhioToday events calendar? Feel free to send us an email at team@visitohiotoday.com. All submissions subject to approval.
URL:https://visitohiotoday.com/event/christmas-lights-at-clifton-mill/
LOCATION:Christmas Lights at Clifton Mill\, 75 Water Street\, Clifton\, OH\, 45316\, United States
CATEGORIES:Festival
ATTACH;FMTTYPE=image/png:https://visitohiotoday.com/wp-content/uploads/2025/09/VOT-Christmas-Lights-at-Clifton-Mill-feature-image.png
END:VEVENT
BEGIN:VEVENT
DTSTART;TZID=UTC:20251129T170000
DTEND;TZID=UTC:20251230T210000
DTSTAMP:20260421T082100
CREATED:20251031T142442Z
LAST-MODIFIED:20251031T142443Z
UID:10000308-1764435600-1767128400@visitohiotoday.com
SUMMARY:Nature's A-Glow
DESCRIPTION:Nature’s A-Glow is a walk-through Christmas light display at Beech Creek Botanical Garden in Alliance from late November through late December each year. \n\n\n\n\n\n\n\nNature’s A-Glow is a winter wonderland of Christmas light displays at Beech Creek Botanical Garden and Nature Preserve. \n\n\n\nMany of the light displays are synchronized to music as visitors walk around the garden. This experience takes anywhere from 40 minutes to 3 hours. \n\n\n\nHot chocolate\, popcorn\, hot dogs\, soft pretzels\, and nachos are available to purchase\, or roast marshmallows by the fire. \n\n\n\nBe sure to take the kids to visit Santa’s Workshop with their wish list! \n\n\n\nCreate a festive wreath at the Williamsburg Wreath Workshop. \n\n\n\nTickets are available online\, and hours vary\, so check the website for the times you wish to visit. The gardens are closed on December 24 and 25. \n\n\n\n\n\n\n\n\n\n\n\n\n\n\n\nDo you have an event that you want to feature (for free) on our VisitOhioToday events calendar? Feel free to send us an email at team@visitohiotoday.com. All submissions subject to approval.
URL:https://visitohiotoday.com/event/natures-a-glow/
LOCATION:Nature’s A-Glow\, Beech Creek Botanical Garden\, 11929 Beech St NE\, Alliance\, OH\, 44601\, United States
CATEGORIES:Festival
ATTACH;FMTTYPE=image/png:https://visitohiotoday.com/wp-content/uploads/2025/10/VOT-Natures-AGlow-feature-image.png
END:VEVENT
BEGIN:VEVENT
DTSTART;TZID=UTC:20251205T173000
DTEND;TZID=UTC:20251228T210000
DTSTAMP:20260421T082100
CREATED:20251031T141004Z
LAST-MODIFIED:20251031T141005Z
UID:10000307-1764955800-1766955600@visitohiotoday.com
SUMMARY:Light in the Forest
DESCRIPTION:Light in the Forest is a 1-mile walking trail at the Cincinnati Nature Center at Rowe Woods in Milford through most of December. \n\n\n\n\n\n\n\nThe trail takes visitors past ponds\, woodlands\, and fields\, with light displays and interactive activities. \n\n\n\nFeaturing children’s craft and interactive activities\, live music\, a bonfire\, a beautifully decorated historic home\, food trucks\, and holiday shopping. \n\n\n\nIf available\, tickets will be sold at the gatehouse\, but this event is expected to sell out\, so purchasing tickets online is advised. Tickets are on sale from early November. \n\n\n\nThe walks start at specified times – 5.30 pm\, 6.30 pm\, and 7.30 pm. The trail is open Thursday\, Friday\, Saturday\, and Sunday for four weeks\, and December 22nd and 23rd also.
URL:https://visitohiotoday.com/event/light-in-the-forest/
LOCATION:Light in the Forest\, Cincinnati Nature Center\, 4949 Tealtown Rd\, Milford\, OH\, 45150\, United States
CATEGORIES:Festival
ATTACH;FMTTYPE=image/png:https://visitohiotoday.com/wp-content/uploads/2025/10/VOT-Light-in-the-Forest-feature-image.png
END:VEVENT
END:VCALENDAR