BEGIN:VCALENDAR
VERSION:2.0
PRODID:-//Visit Ohio Today - ECPv6.15.20//NONSGML v1.0//EN
CALSCALE:GREGORIAN
METHOD:PUBLISH
X-WR-CALNAME:Visit Ohio Today
X-ORIGINAL-URL:https://visitohiotoday.com
X-WR-CALDESC:Events for Visit Ohio Today
REFRESH-INTERVAL;VALUE=DURATION:PT1H
X-Robots-Tag:noindex
X-PUBLISHED-TTL:PT1H
BEGIN:VTIMEZONE
TZID:UTC
BEGIN:STANDARD
TZOFFSETFROM:+0000
TZOFFSETTO:+0000
TZNAME:UTC
DTSTART:20220101T000000
END:STANDARD
END:VTIMEZONE
BEGIN:VEVENT
DTSTART;TZID=UTC:20230909T100000
DTEND;TZID=UTC:20230909T170000
DTSTAMP:20260422T090505
CREATED:20230904T144023Z
LAST-MODIFIED:20230904T144024Z
UID:10000071-1694253600-1694278800@visitohiotoday.com
SUMMARY:310 Soap Company & The Henry Manor Grand Opening
DESCRIPTION:The 310 Soap Company & The Henry Manor Grand Opening is in Lancaster on Saturday\, September 9\, 2023\, from 10am to 5pm. \n\n\n\n\n\n\n\nImages courtesy of 310 Soap Company & The Henry Manor \n\n\n\nAfter some renovations\, The Henry Manor has re-opened event bookings and is celebrating with a grand opening on Saturday\, September 9. \n\n\n\nThe historic Victorian Italianate manor house has become the new home to the artisan skincare boutique\, 310 Soap Company. \n\n\n\nTo celebrate the grand re-opening of the manor\, the owners\, Charlie and Stephanie Warino\, are offering 15% off weddings through summer 2024. For more details\, check out the Henry Manor Events Website. \n\n\n\nRegular hours for 310 Soap Company will be established at a later date. Check their website for further information. \n\n\n\nGo along to support local businesses in your area! The Warinos are passionate about supporting the Lancaster community. Look out for artisan markets in the manor’s grounds in the future. \n\n\n\n\n\n\n\n\n\n\n\n\n\n\n\nDo you have an event that you want to feature (for free) on our VisitOhioToday events calendar? Just send us an email at team@visitohiotoday.com. All submissions subject to approval.
URL:https://visitohiotoday.com/event/310-soap-company-the-henry-manor/
LOCATION:310 Soap Company & The Henry Manor\, 1755 Cedar Hill Rd\, Lancaster\, Ohio\, 43130\, United States
CATEGORIES:Event
ATTACH;FMTTYPE=image/png:https://visitohiotoday.com/wp-content/uploads/2023/09/310-Soap-Henry-Manor-feature-image.png
END:VEVENT
BEGIN:VEVENT
DTSTART;TZID=UTC:20230915T190000
DTEND;TZID=UTC:20230915T220000
DTSTAMP:20260422T090505
CREATED:20230828T190104Z
LAST-MODIFIED:20230828T190104Z
UID:10000069-1694804400-1694815200@visitohiotoday.com
SUMMARY:Fever Dream Formal
DESCRIPTION:Celebrate the end of a Cruel Summer at this Taylor Swift Fever Dream Formal dance on September 15\, 2023. Grab your best dress and join fellow Columbus Swifties for an evening of Taylor Swift music and dancing. \n\n\n\n\n\n\n\nBuffet-style snacks\, dessert\, and drinks will be provided with the price of admission. This is an alcohol-free event and is open to all ages. \n\n\n\nAdmission is $30 which covers entry into the event\, snacks\, and Taylor-themed party favors to take home.  \n\n\n\nWhile there is no specific dress code for the event\, everyone is encouraged to dress up to whatever degree they would like. Prom dresses\, Era’s Tour outfits\, casual dresses\, and button-ups of all kinds are all welcome.  \n\n\n\nThis event is not an official Taylor Swift event and is not for profit. It is run for fans and by fans and all proceeds will be used to make it the best event possible.  \n\n\n\nVisit Eventbrite to purchase tickets and follow Columbus Swifties on Instagram to stay updated about the event. \n\n\n\nNote: Fever Dream Formal is at Eagleview\, which is located at the Blacklick Woods Golf Course. \n\n\n\nEvent submitted by Columbus Swifties \n\n\n\n\n\n\n\n\n\n\n\n\n\n\n\nDo you have an event that you want to feature (for free) on our VisitOhioToday events calendar? Just send us an email at team@visitohiotoday.com. All submissions subject to approval.
URL:https://visitohiotoday.com/event/fever-dream-formal/
LOCATION:Fever Dream Formal\, Eagleview\, 7309 East Livingston Avenue\, Reynoldsburg\, Ohio\, 43068\, United States
CATEGORIES:Festival
ATTACH;FMTTYPE=image/png:https://visitohiotoday.com/wp-content/uploads/2023/08/Fever-Dream-Formal-feature-image.png
END:VEVENT
END:VCALENDAR