BEGIN:VCALENDAR
VERSION:2.0
PRODID:-//Visit Ohio Today - ECPv6.15.20//NONSGML v1.0//EN
CALSCALE:GREGORIAN
METHOD:PUBLISH
X-WR-CALNAME:Visit Ohio Today
X-ORIGINAL-URL:https://visitohiotoday.com
X-WR-CALDESC:Events for Visit Ohio Today
REFRESH-INTERVAL;VALUE=DURATION:PT1H
X-Robots-Tag:noindex
X-PUBLISHED-TTL:PT1H
BEGIN:VTIMEZONE
TZID:UTC
BEGIN:STANDARD
TZOFFSETFROM:+0000
TZOFFSETTO:+0000
TZNAME:UTC
DTSTART:20240101T000000
END:STANDARD
END:VTIMEZONE
BEGIN:VEVENT
DTSTART;TZID=UTC:20250903T140000
DTEND;TZID=UTC:20250906T220000
DTSTAMP:20260420T213227
CREATED:20230724T134004Z
LAST-MODIFIED:20250724T123300Z
UID:10000044-1756908000-1757196000@visitohiotoday.com
SUMMARY:Fredericktown Tomato Show
DESCRIPTION:The Fredericktown Tomato Show is an annual street fair\, taking place from the first Wednesday through Saturday after Labor Day each year. \n\n\n\n\n\n\n\nWith lots of street vendors and a variety of events and activities\, including a 5K walk and run (registration required)\, Karate demonstrations\, live musical performances\, a parade\, and fruit and vegetable contests with various classes. \n\n\n\nThe pageant will see the crowning of ‘Lil Miss Tomato’ and be sure not to miss the Tomato Toss! \n\n\n\nThe Fredericktown Tomato Show is a fun-filled four days for all the family! \n\n\n\nCheck the website and Facebook page for schedule updates. \n\n\n\n\n\n\n\n\n\n\n\n\n\n\n\nDo you have an event that you want to feature (for free) on our VisitOhioToday events calendar? Just send us an email at team@visitohiotoday.com. All submissions subject to approval.
URL:https://visitohiotoday.com/event/fredericktown-tomato-show-event/
LOCATION:Fredericktown Tomato Show\, Fredericktown\, Fredericktown\, OH\, 43019\, United States
CATEGORIES:Festival
ATTACH;FMTTYPE=image/png:https://visitohiotoday.com/wp-content/uploads/2023/07/VOT-Fredericktown-Tomato-Festival-feature-image.png
END:VEVENT
BEGIN:VEVENT
DTSTART;TZID=UTC:20250903T170000
DTEND;TZID=UTC:20250906T230000
DTSTAMP:20260420T213227
CREATED:20250730T120821Z
LAST-MODIFIED:20250730T120822Z
UID:10000276-1756918800-1757199600@visitohiotoday.com
SUMMARY:Ohio Hill Country Festival
DESCRIPTION:The Ohio Hill Country Festival is held in Wellston\, Jackson County\, southeast Ohio\, on the first Wednesday through Saturday following Labor Day. \n\n\n\n\n\n\n\nThe festival starts at 5 pm on Wednesday when the rides and art show open. \n\n\n\nThroughout the festival\, there is an art show\, the Little Miss Queen Contest\, the Junior Miss Queen Contest\, a quilt\, needlework\, and craft show\, karaoke sessions\, a car and motorcycle show\, a baby contest\, and more. \n\n\n\nThe Grand Finale Parade takes place at 6.30 pm on Saturday. \n\n\n\nLive music and entertainment\, and fairground rides are provided throughout the opening hours. \n\n\n\nFestival Hours: \n\n\n\n\nWednesday: 5 pm – 9 pm\n\n\n\nThursday: Noon – 9 pm\n\n\n\nFriday: Noon – 9 pm\n\n\n\nSaturday: 11 am – 11 pm\n\n\n\n\n\n\n\n\n\n\n\n\n\n\n\n\nDo you have an event that you want to feature (for free) on our VisitOhioToday events calendar? Feel free to send us an email at team@visitohiotoday.com. All submissions subject to approval.
URL:https://visitohiotoday.com/event/ohio-hill-country-festival/
LOCATION:Ohio Hill Country Festival\, Downtown\, Wellston\, OH\, 45692\, United States
CATEGORIES:Festival
ATTACH;FMTTYPE=image/png:https://visitohiotoday.com/wp-content/uploads/2025/07/VOT-Ohio-Hill-Country-Festival-feature-image.png
END:VEVENT
BEGIN:VEVENT
DTSTART;TZID=UTC:20250904T110000
DTEND;TZID=UTC:20250906T120000
DTSTAMP:20260420T213227
CREATED:20230807T133144Z
LAST-MODIFIED:20250721T092426Z
UID:10000058-1756983600-1757160000@visitohiotoday.com
SUMMARY:Marion Popcorn Festival
DESCRIPTION:The world’s largest popcorn festival\, The Marion Popcorn Festival\, attracts over 250\,000 visitors. It runs for 3 days in early September – Thursday\, Friday\, and Saturday. \n\n\n\n\n\n\n\nThe Marion Popcorn Festival offers free admission and features live music performances by various bands. On Thursday evening\, catch the Popcorn Parade at 6 pm\, showcasing an impressive array of floats parading through downtown Marion. \n\n\n\nFor sports enthusiasts\, there’s a 5K run\, golf outings\, and a corn hole tournament. Art lovers can enjoy the fine arts show event. \n\n\n\nThe Poppin’ Party Stage and Beer and Wine Garden provide nightly live entertainment between Charleston Place and RHAM on West Center Street. \n\n\n\nAdditionally\, kids can have fun on the fairground rides\, with multiple tickets and all-day wristbands available \n\n\n\n\n\n\n\n\n\n\n\n\n\n\n\nDo you have an event that you want to feature (for free) on our VisitOhioToday events calendar? Just send us an email at team@visitohiotoday.com. All submissions subject to approval.
URL:https://visitohiotoday.com/event/marion-popcorn-festival-event/
LOCATION:Marion Popcorn Festival\, Downtown Marion\, Marion\, OH\, 43301\, United States
CATEGORIES:Festival
ATTACH;FMTTYPE=image/png:https://visitohiotoday.com/wp-content/uploads/2023/08/Marion-Popcorn-Festival-Event-feature-image.png
END:VEVENT
BEGIN:VEVENT
DTSTART;TZID=UTC:20250904T170000
DTEND;TZID=UTC:20250907T203000
DTSTAMP:20260420T213227
CREATED:20240726T141232Z
LAST-MODIFIED:20250704T095936Z
UID:10000189-1757005200-1757277000@visitohiotoday.com
SUMMARY:Pioneer Days
DESCRIPTION:Pioneer Days in Kalida\, northwest Ohio is held on the weekend following Labor Day. As summer draws to a close\, this festival is a great tonic for visitors of all ages. \n\n\n\n\n\n\n\nPioneer Days is the oldest festival in Ohio and remains massively popular. With children’s entertainment\, a parade\, carnival games\, and rides\, the kids are kept amused. \n\n\n\nTeenagers and young adults can enjoy the rock dances\, then the gigantic car show with over 300 vehicles will please everyone! There is much more activity and many more events at this festival! \n\n\n\nThis festival is held ‘On the Square’ in downtown Kalida\, and food is available from local outlets The Oasis and Beer Town. Kalida Lions and Kalida Firefighters host this event.
URL:https://visitohiotoday.com/event/pioneer-days/
LOCATION:Pioneer Days\, Downtown Kalida\, Kalida\, OH\, 45853\, United States
CATEGORIES:Festival
ATTACH;FMTTYPE=image/png:https://visitohiotoday.com/wp-content/uploads/2024/07/VOT-Pioneer-Days-feature-image.png
END:VEVENT
BEGIN:VEVENT
DTSTART;TZID=UTC:20250904T200000
DTEND;TZID=UTC:20250906T013000
DTSTAMP:20260420T213227
CREATED:20250731T152916Z
LAST-MODIFIED:20250731T152917Z
UID:10000277-1757016000-1757122200@visitohiotoday.com
SUMMARY:Rubber City Jazz & Blues Festival
DESCRIPTION:The Rubber City Jazz & Blues Festival is in early September. Musicians and bands play at 10 venues in Akron for this festival across three evenings. \n\n\n\n\n\n\n\nThe Rubber City Jazz & Blues Festival brings these music genres to the community. Although the festival has featured world-renowned artists\, a major focus is to platform the talent from the Akron-metro area. \n\n\n\nThese performances are free\, usually with the exception of the headliner’s performance. Tickets for that are available online. \n\n\n\nThe venues where visitors can see the musicians are: \n\n\n\n\nBLU Jazz+\n\n\n\nAkron Main Library\n\n\n\nAkron Art Museum\n\n\n\nMustill Store Museum\n\n\n\nHigh Street Stage\n\n\n\nMusica\n\n\n\nCircle of 5ths\n\n\n\nThe Knight Stage\n\n\n\nJilly’s Music Room\n\n\n\nBaxter’s Speakeasy\n\n\n\n\nThe full line-up is available online\, on the website\, or on the Facebook page. \n\n\n\nHere is a map for all venues: \n\n\n\n\n\n\n\n\n\n\n\n\n\n\n\nDo you have an event that you want to feature (for free) on our VisitOhioToday events calendar? Feel free to send us an email at team@visitohiotoday.com. All submissions subject to approval.
URL:https://visitohiotoday.com/event/rubber-city-jazz-blues-festival/
LOCATION:Rubber City Jazz & Blues Festival\, Downtown\, Akron\, OH\, 44311\, United States
CATEGORIES:Festival
ATTACH;FMTTYPE=image/png:https://visitohiotoday.com/wp-content/uploads/2025/07/VOT-Rubber-City-Jazz-and-Blues-Festival-feature-image.png
END:VEVENT
BEGIN:VEVENT
DTSTART;TZID=UTC:20250905T110000
DTEND;TZID=UTC:20250907T170000
DTSTAMP:20260420T213227
CREATED:20230726T185712Z
LAST-MODIFIED:20250725T105119Z
UID:10000048-1757070000-1757264400@visitohiotoday.com
SUMMARY:Clinton County Corn Festival
DESCRIPTION:The Clinton County Corn Festival is an annual three-day event that takes place during the first weekend following Labor Day and is organized by The Antique Power Club of Clinton County. \n\n\n\n\n\n\n\nThe festival emphasizes the agricultural heritage of the area. \n\n\n\nThe Clinton County Corn Festival offers lots of family fun and entertainment\, with a variety of activities and events. \n\n\n\nThe Corn Olympics are the highlight of the festival. Held on Friday night\, you can gather a team and enter this fun-filled event. The festival’s website provides information on how to participate. \n\n\n\nMore than 20 local non-profit food vendors will offer dishes including chicken and noodles\, corn on the cob\, pork and steak sandwiches\, ice cream\, and various other delights. \n\n\n\nCheck out the Clinton County Corn Festival’s website and Facebook page for more information on scheduled events\, camping facilities\, and more. \n\n\n\n\n\n\n\n\n\n\n\n\n\n\n\nDo you have an event that you want to feature (for free) on our VisitOhioToday events calendar? Just send us an email at team@visitohiotoday.com. All submissions subject to approval.
URL:https://visitohiotoday.com/event/clinton-county-corn-festival-event/
LOCATION:Clinton County Corn Festival\, 958 W. Main Street\, Wilmington\, OH\, 45177\, United States
CATEGORIES:Festival
ATTACH;FMTTYPE=image/png:https://visitohiotoday.com/wp-content/uploads/2023/07/VOT-Festival-event-feature-image-2.png
END:VEVENT
BEGIN:VEVENT
DTSTART;TZID=UTC:20250905T170000
DTEND;TZID=UTC:20250907T170000
DTSTAMP:20260420T213227
CREATED:20230810T094051Z
LAST-MODIFIED:20250707T123409Z
UID:10000061-1757091600-1757264400@visitohiotoday.com
SUMMARY:Black Swamp Arts Festival
DESCRIPTION:The Black Swamp Arts Festival\, taking place in September in Bowling Green\, is a vibrant arts and live music celebration. \n\n\n\nImage courtesy of Black Swamp Arts Festival\n\n\n\nFeaturing 100+ art booths\, artists vie for recognition in the Juried Art Show\, a high-caliber fine arts and crafts contest\, and the Wood County Invitational Art Show. \n\n\n\nYouth Arts is an area with activities for children to take part in. \n\n\n\nYoungsters can partake in the Chalk Walk mural contest. There will also be a professional chalk artist. \n\n\n\nVisitors to the Black Swamp Arts Festival can enjoy a beer garden and an Art of Beer Tasting event. \n\n\n\nThe festival’s musical heartbeat is amplified by performances from local and national artists. \n\n\n\nFood vendors will be offering a great choice of food and drinks. Admission is free.
URL:https://visitohiotoday.com/event/black-swamp-arts-festival-event/
LOCATION:Black Swamp Arts Festival\, 100 S. Main Street\, Bowling Green\, OH\, 43402\, United States
CATEGORIES:Festival
ATTACH;FMTTYPE=image/png:https://visitohiotoday.com/wp-content/uploads/2023/08/VOT-Black-Swamp-Arts-Festival-feature-image-3.png
END:VEVENT
BEGIN:VEVENT
DTSTART;TZID=UTC:20250905T170000
DTEND;TZID=UTC:20250907T200000
DTSTAMP:20260420T213227
CREATED:20230801T094722Z
LAST-MODIFIED:20250731T132324Z
UID:10000051-1757091600-1757275200@visitohiotoday.com
SUMMARY:Columbus Oktoberfest
DESCRIPTION:Schmidt’s annual Columbus Oktoberfest German celebration takes place at the Expo Center in early September. \n\n\n\n\n\n\n\nThe Columbus Oktoberfest mainly revolves around beer\, but there’s much more to enjoy here! For the kids\, there are fun arts and crafts\, inflatables\, face painting\, and other activities. \n\n\n\nEvents include Steinstossen (Stone Throw)\, Keg Toss\, and Steinheben (Bavarian Stone Lift). Savor beer from Ohio’s craft breweries in the Craft Bier Garten\, and choose from a wide selection of wines in the Wine Garten. \n\n\n\nThe Kidslinked Oktoberfest on Sunday offers a fun-filled day for the whole family. \n\n\n\nCheck out the Art & Craft Marktplatz and the Merchant Market\, as well as the variety of food and beverages from the vendors. \n\n\n\nThe Columbus Oktoberfest officially opens on Friday\, but there’s also a ‘Kick-Off Party’ on Thursday\, September 5\, from 5 pm to 10 pm. \n\n\n\nFestival Hours: \n\n\n\n\nFriday: 5 pm – 12 Midnight\n\n\n\nSaturday: 12 Noon – 12 Midnight\n\n\n\nSunday: 12 Noon – 8 pm\n\n\n\n\n\n\n\n\n\n\n\n\n\n\nDo you have an event that you want to feature (for free) on our VisitOhioToday events calendar? Just send us an email at team@visitohiotoday.com. All submissions subject to approval.
URL:https://visitohiotoday.com/event/columbus-oktoberfest-event/
LOCATION:Columbus Oktoberfest\, 717 E. 17th Avenue\, Columbus\, OH\, 43211\, United States
CATEGORIES:Festival
ATTACH;FMTTYPE=image/png:https://visitohiotoday.com/wp-content/uploads/2023/07/VOT-Festival-event-feature-image-5.png
END:VEVENT
BEGIN:VEVENT
DTSTART;TZID=UTC:20250905T180000
DTEND;TZID=UTC:20250907T000000
DTSTAMP:20260420T213227
CREATED:20250804T132611Z
LAST-MODIFIED:20250804T132611Z
UID:10000278-1757095200-1757203200@visitohiotoday.com
SUMMARY:Oktoberfest Springboro
DESCRIPTION:Oktoberfest Springboro is a two-day festival in early September. Celebrating all things German\, this is a fun event for the whole family. \n\n\n\n\n\n\n\nThere is a small admission charge for the Oktoberfest Springboro (kids under 12 go free)\, payable on the gate. \n\n\n\nAuthentic recipe dishes include Bratwurst\, Cabbage Rolls\, German Potato Salad\, Cheddar Mettwurst\, Sauerkraut\, and much more. \n\n\n\nEvents and entertainment include singing and dancing\, Wiener dog race\, hot dog eating contest\, stein holding\, and more. \n\n\n\nFestival Hours: \n\n\n\n\nFriday: 6 pm – midnight\n\n\n\nSaturday: 11 am – midnight\n\n\n\n\nThis festival is hosted by and held at the Springboro United Church of Christ. All proceeds go to a selection of local and national charities. \n\n\n\n\n\n\n\n\n\n\n\nDo you have an event that you want to feature (for free) on our VisitOhioToday events calendar? Feel free to send us an email at team@visitohiotoday.com. All submissions subject to approval.
URL:https://visitohiotoday.com/event/oktoberfest-springboro/
LOCATION:Oktoberfest Springboro\, 5 West Mill St\, Springboro\, OH\, 45066\, United States
CATEGORIES:Festival
ATTACH;FMTTYPE=image/png:https://visitohiotoday.com/wp-content/uploads/2025/08/VOT-Oktoberfest-Springboro-feature-image.png
END:VEVENT
BEGIN:VEVENT
DTSTART;TZID=UTC:20250905T180000
DTEND;TZID=UTC:20250907T190000
DTSTAMP:20260420T213227
CREATED:20230802T084038Z
LAST-MODIFIED:20250724T115839Z
UID:10000053-1757095200-1757271600@visitohiotoday.com
SUMMARY:Ohio River Sternwheel Festival
DESCRIPTION:The Ohio River Sternwheel Festival is an annual event that takes place on the weekend after Labor Day. This festival is held in Marietta\, along the levee\, and features more than 35 sternwheelers docked along the waterfront. \n\n\n\n\n\n\n\nImage credit: ©davelogan via Canva \n\n\n\nThis festival will keep the whole family entertained for three days with events such as the Little Miss and Little Mr. Sternwheel Pageant and the crowning of Queen Genevieve. \n\n\n\nA Car Show\, a Photo Contest\, live music\, food vendors\, and sternwheel races also feature in the Ohio River Sternwheel Festival. \n\n\n\nThe highlight of this festival is the fireworks display that lasts for 30 minutes and is choreographed to music. \n\n\n\nYou can also participate in a 5K run and walk. Check the website for registration details. \n\n\n\n\n\n\n\n\n\n\n\n\n\n\n\nDo you have an event that you want to feature (for free) on our VisitOhioToday events calendar? Just send us an email at team@visitohiotoday.com. All submissions subject to approval.
URL:https://visitohiotoday.com/event/ohio-river-sternwheel-festival-event/
LOCATION:Ohio River Sternwheel Festival\, Ohio River Levee\, Marietta\, OH\, 45750\, United States
CATEGORIES:Festival
ATTACH;FMTTYPE=image/png:https://visitohiotoday.com/wp-content/uploads/2023/07/Ohio-River-Sternwheel-Festival-Event-feature-image.png
END:VEVENT
END:VCALENDAR