BEGIN:VCALENDAR
VERSION:2.0
PRODID:-//Visit Ohio Today - ECPv6.15.20//NONSGML v1.0//EN
CALSCALE:GREGORIAN
METHOD:PUBLISH
X-ORIGINAL-URL:https://visitohiotoday.com
X-WR-CALDESC:Events for Visit Ohio Today
REFRESH-INTERVAL;VALUE=DURATION:PT1H
X-Robots-Tag:noindex
X-PUBLISHED-TTL:PT1H
BEGIN:VTIMEZONE
TZID:UTC
BEGIN:STANDARD
TZOFFSETFROM:+0000
TZOFFSETTO:+0000
TZNAME:UTC
DTSTART:20240101T000000
END:STANDARD
END:VTIMEZONE
BEGIN:VEVENT
DTSTART;TZID=UTC:20250911T150000
DTEND;TZID=UTC:20250913T230000
DTSTAMP:20260420T194211
CREATED:20250804T144817Z
LAST-MODIFIED:20250804T144817Z
UID:10000279-1757602800-1757804400@visitohiotoday.com
SUMMARY:Mohican Bluegrass Festival
DESCRIPTION:The Mohican Bluegrass Festival is an outdoor music extravaganza. Venture into the Mohican Valley along the Mohican River to enjoy a full line-up of Bluegrass artists. \n\n\n\n\n\n\n\nPicnic tables and benches are available at the Grand Log stage area\, but visitors are advised to bring lawn chairs for comfort. \n\n\n\nFood and craft vendors will keep the hungry shoppers happy. \n\n\n\nParking is free\, but there is an admission charge\, payable online or at the gate. A three-day ticket is available. \n\n\n\nFestival Hours: \n\n\n\n\nThursday: 3 pm – 10 pm\n\n\n\nFriday: 2 pm – 11 pm\n\n\n\nSaturday: Noon – 11 pm\n\n\n\n\nAlthough all artists will perform twice in one day\, no artist will perform on more than one day. \n\n\n\n\n\n\n\n\n\n\n\n\n\n\n\nDo you have an event that you want to feature (for free) on our VisitOhioToday events calendar? Feel free to send us an email at team@visitohiotoday.com. All submissions subject to approval.
URL:https://visitohiotoday.com/event/mohican-bluegrass-festival/
LOCATION:Mohican Bluegrass Festival\, Mohican Wilderness Campground\, 22462 Wally Rd\, Glenmont\, OH\, 44628\, United States
CATEGORIES:Festival
ATTACH;FMTTYPE=image/png:https://visitohiotoday.com/wp-content/uploads/2025/08/VOT-Mohican-Bluegrass-Festival-feature-image.png
END:VEVENT
END:VCALENDAR