BEGIN:VCALENDAR
VERSION:2.0
PRODID:-//Visit Ohio Today - ECPv6.15.20//NONSGML v1.0//EN
CALSCALE:GREGORIAN
METHOD:PUBLISH
X-ORIGINAL-URL:https://visitohiotoday.com
X-WR-CALDESC:Events for Visit Ohio Today
REFRESH-INTERVAL;VALUE=DURATION:PT1H
X-Robots-Tag:noindex
X-PUBLISHED-TTL:PT1H
BEGIN:VTIMEZONE
TZID:UTC
BEGIN:STANDARD
TZOFFSETFROM:+0000
TZOFFSETTO:+0000
TZNAME:UTC
DTSTART:20240101T000000
END:STANDARD
END:VTIMEZONE
BEGIN:VEVENT
DTSTART;TZID=UTC:20250912T173000
DTEND;TZID=UTC:20251025T203000
DTSTAMP:20260420T194149
CREATED:20240812T094209Z
LAST-MODIFIED:20250711T091049Z
UID:10000194-1757698200-1761424200@visitohiotoday.com
SUMMARY:Vino the Way - Mapleside Farms
DESCRIPTION:Vino the Way is a wine and beer-tasting adventure through the corn maze at Mapleside Farms\, Brunswick\, Ohio. Held each Friday and Saturday from September to the end of October. \n\n\n\n\n\n\n\nAt the start of your Vino the Way adventure\, you will receive a tasting box of food to accompany the drinks you will sample. \n\n\n\nThe wine-themed corn maze is a challenging labyrinth to navigate while enjoying wine\, beer\, and food along the way. \n\n\n\nAfter the maze\, visitors are given free entry to Mapleside Farm’s fall attraction\, Pumpkin Village\, where there are orchard tours\, cow trains\, a scenic hayride\, and the longest slide in the US! \n\n\n\nEntrance to the maze closes at 8.30 pm\, and Pumpkin Village closes at 9 pm. \n\n\n\nThis is a rain-or-shine event and is available to over 21s only.
URL:https://visitohiotoday.com/event/vino-the-way-mapleside-farms/
LOCATION:Vino the Way – Mapleside Farms\, Mapleside Farms\, 294 Pearl Road\, Brunswick\, OH\, 44212\, United States
CATEGORIES:Event
ATTACH;FMTTYPE=image/png:https://visitohiotoday.com/wp-content/uploads/2024/08/VOT-Vino-the-Way-feature-image.png
END:VEVENT
BEGIN:VEVENT
DTSTART;TZID=UTC:20250913T110000
DTEND;TZID=UTC:20251102T180000
DTSTAMP:20260420T194149
CREATED:20230927T090419Z
LAST-MODIFIED:20250804T125448Z
UID:10000095-1757761200-1762106400@visitohiotoday.com
SUMMARY:Waynesville Fall Fest
DESCRIPTION:The Waynesville Fall Fest is every Saturday and Sunday from mid-September to the beginning of November. A great fun day out for the whole family to enjoy. \n\n\n\nImage courtesy of Waynesville Fall Fest\n\n\n\nThe Waynesville Fall Fest is a celebration of the state’s heritage and autumn’s beauty. With a big focus on pumpkins\, there are also many other activities and events here! \n\n\n\nSplash Landing Expeditions will take you deep into the Ohio woods to discover the town of Skeleville\, home of the Skelepeople! The Wildwater Mining Co. is themed on an abandoned mining company and is a 3 story playset. \n\n\n\nThere is also mini golf\, a corn maze\, pedal cars\, Ghost Town Village\, a petting farm\, giant porch games\, and much more. \n\n\n\nWith many food vendors and an indoor one-stop shop\, your day will be complete! \n\n\n\n\n\n\n\n\n\n\n\n\n\n\n\nDo you have an event that you want to feature (for free) on our VisitOhioToday events calendar? Just send us an email at team@visitohiotoday.com. All submissions subject to approval.
URL:https://visitohiotoday.com/event/waynesville-fall-fest-event/
LOCATION:Waynesville Fall Fest\, 7392 OH-73\, Waynesville\, OH\, 45068\, United States
CATEGORIES:Festival
ATTACH;FMTTYPE=image/png:https://visitohiotoday.com/wp-content/uploads/2023/09/Waynesville-Fall-Fest-Event-feature-image.png
END:VEVENT
BEGIN:VEVENT
DTSTART;TZID=UTC:20250916T120000
DTEND;TZID=UTC:20250920T230000
DTSTAMP:20260420T194149
CREATED:20240905T202213Z
LAST-MODIFIED:20250718T091325Z
UID:10000198-1758024000-1758409200@visitohiotoday.com
SUMMARY:Jackson Apple Festival
DESCRIPTION:The annual Jackson Apple Festival is a fun autumn event that will take over the downtown streets of Jackson for 5 days in September. \n\n\n\n\n\n\n\nIf you are looking for a day of fun for the entire family\, look no further than the Jackson Apple Festival! Savor the deliciousness of all things apples! Adults and kids alike will enjoy seeing animals from the Columbus Zoo. There will be rides and a parade\, too! \n\n\n\nJackson Apple Festival has the largest lighted parade in Ohio and also features over 20 marching bands\, so you won’t want to miss it.  \n\n\n\nFor those who like sports\, a volleyball tournament is planned\, and car enthusiasts can check out the cool cars at the car show.  \n\n\n\nThere will be races\, contests\, and live music! \n\n\n\nWhile you’re there\, be sure to check out the craft show\, festival art show\, and quilt show. \n\n\n\nPlease note that no bicycles\, skates\, scooters\, rollerblades\, skateboards\, or live animals are allowed in the festival area. 
URL:https://visitohiotoday.com/event/jackson-apple-festival/
LOCATION:Jackson Apple Festival\, Downtown Jackson\, Jackson\, OH\, 45640\, United States
CATEGORIES:Festival
ATTACH;FMTTYPE=image/png:https://visitohiotoday.com/wp-content/uploads/2024/09/VOT-Jackson-Apple-Festival-feature-image.png
END:VEVENT
BEGIN:VEVENT
DTSTART;TZID=UTC:20250918T100000
DTEND;TZID=UTC:20250920T220000
DTSTAMP:20260420T194149
CREATED:20240726T202421Z
LAST-MODIFIED:20250707T124358Z
UID:10000190-1758189600-1758405600@visitohiotoday.com
SUMMARY:Crestline Harvest Festival
DESCRIPTION:The Crestline Harvest Festival is held in September. This festival was named the 2023 Festival of the Year by the Greater Ohio Showmen’s Association (GOSA). \n\n\n\n\n\n\n\nEach evening (8 pm to 10 pm\, or 7 pm to 10 pm) there will be a performance by a band or singer. \n\n\n\nThe Queen’s\, Little Miss\, and Princess Pageants take place on Thursday night. They are open to any student in Crawford and Richland counties. \n\n\n\nAt the Crestline Harvest Festival\, visitors can enjoy watching or participating in a variety of fun contests. Including Crestline Cuties\, Water Balloon Tossing\, Hay Bale Toss\, Mullet Contest\, and more! \n\n\n\nKid’s activities\, the parade\, a car show\, a craft show\, 5K Color Run\, and a pancake breakfast are other features at this festival. \n\n\n\nApplication forms for those who wish to participate in any of the events that require registration are available online. \n\n\n\n\n\n\n\n\n\n\n\n\n\n\n\nDo you have an event that you want to feature (for free) on our VisitOhioToday events calendar? Just complete this form or feel free to send us an email at outreach@visitohiotoday.com. All submissions subject to approval.
URL:https://visitohiotoday.com/event/crestline-harvest-festival/
LOCATION:Crestline Harvest Festival\, 100 North Seltzer Street\, Crestline\, OH\, 44827\, United States
CATEGORIES:Festival
ATTACH;FMTTYPE=image/png:https://visitohiotoday.com/wp-content/uploads/2024/07/VOT-Crestline-Harvest-Festival-feature-image.png
END:VEVENT
BEGIN:VEVENT
DTSTART;TZID=UTC:20250918T160000
DTEND;TZID=UTC:20250921T190000
DTSTAMP:20260420T194149
CREATED:20230809T105456Z
LAST-MODIFIED:20250804T161057Z
UID:10000060-1758211200-1758481200@visitohiotoday.com
SUMMARY:Oktoberfest Zinzinnati
DESCRIPTION:Oktoberfest Zinzinnati\, the largest Oktoberfest in the nation\, takes place at Sawyer Point & Yeatman’s Cove in September. \n\n\n\n\n\n\n\nEnjoy German-style delicacies like sauerkraut balls\, bratwurst\, soft pretzels\, and strudel from various food vendors at this free-to-enter event. \n\n\n\nIndulge in a wide selection of beers and drinks\, including Oktoberfest-style lagers from local brewers. \n\n\n\nEvents at Oktoberfest Zinzinnati include the Running of the Wieners\, where dachshunds dressed as hot dogs compete for the title of ‘King of the Wiener Dogs.’ Witness the World Brat Eating Championship\, World’s Largest Chicken Dance\, and The Gemütlichkeit Games\, featuring challenges like the beer stein race\, stein hoisting\, and beer barrel roll. \n\n\n\nThroughout the event\, multiple entertainment/beer tents will keep the party going with live music bands. \n\n\n\n\n\n\n\n\n\n\n\n\n\n\n\nDo you have an event that you want to feature (for free) on our VisitOhioToday events calendar? Just send us an email at team@visitohiotoday.com. All submissions subject to approval.
URL:https://visitohiotoday.com/event/oktoberfest-zinzinnati-event/
LOCATION:Oktoberfest Zinzinnati\, 705 E. Pete Rose Way\, Cincinnati\, OH\, 45202\, United States
CATEGORIES:Festival
ATTACH;FMTTYPE=image/png:https://visitohiotoday.com/wp-content/uploads/2023/08/Oktoberfest-Zinzinnati-Event-feature-image.png
END:VEVENT
BEGIN:VEVENT
DTSTART;TZID=UTC:20250919T170000
DTEND;TZID=UTC:20250921T170000
DTSTAMP:20260420T194149
CREATED:20230815T114709Z
LAST-MODIFIED:20250715T100721Z
UID:10000067-1758301200-1758474000@visitohiotoday.com
SUMMARY:Arts in the Alley
DESCRIPTION:The Arts in the Alley Music and Arts Festival is held in Grove City’s historic town center in September. \n\n\n\n\n\n\n\nAt the Arts in the Alley Music and Arts Festival\, you can browse around more than 100 exhibitors displaying and selling their fine art\, photography\, jewelry\, crafts\, and much more. \n\n\n\nThe Voice of Grove City is a singing competition that takes place throughout the weekend with the final being held at noon on Sunday. \n\n\n\nThere will be lots of free musical entertainment from various genres of music\, including local high school bands and choirs. \n\n\n\nThe Arts in the Alley Parade takes place on Saturday. \n\n\n\nAdmission and parking are free of charge for this festival. \n\n\n\nFestival Hours: \n\n\n\n\nFriday: 5 pm to 8 pm\n\n\n\nSaturday: 9.30 am to 8 pm\n\n\n\nSunday: 10 am to 5 pm\n\n\n\n\n\n\n\n\n\n\n\n\n\n\n\n\nDo you have an event that you want to feature (for free) on our VisitOhioToday events calendar? Just send us an email at team@visitohiotoday.com. All submissions subject to approval.
URL:https://visitohiotoday.com/event/arts-in-the-alley-event/
LOCATION:Arts in the Alley\, Town Center\, Grove City\, OH\, 43123\, United States
CATEGORIES:Festival
ATTACH;FMTTYPE=image/png:https://visitohiotoday.com/wp-content/uploads/2023/08/Arts-in-the-Alley-Event-feature-image.png
END:VEVENT
BEGIN:VEVENT
DTSTART;TZID=UTC:20250919T170000
DTEND;TZID=UTC:20250921T190000
DTSTAMP:20260420T194149
CREATED:20250730T112500Z
LAST-MODIFIED:20250730T112501Z
UID:10000275-1758301200-1758481200@visitohiotoday.com
SUMMARY:Clyde Fair
DESCRIPTION:The Clyde Fair is an annual 3-day event in Sandusky County\, northwest Ohio. Days of family fun with everything you would expect from a community fair. \n\n\n\n\n\n\n\nClyde hosts this fair annually\, celebrating community spirit and entertainment. \n\n\n\nThere are a variety of attractions and activities to appeal to all age groups. \n\n\n\nTraditional fair rides and games will keep the kids entertained – and the adults too\, of course! \n\n\n\nFood vendors offer a range of classic fair food\, including cotton candy and funnel cakes\, as well as more substantial hot dogs and barbecue food. \n\n\n\nA go-kart race\, children’s tractor pull\, car show\, and parade will be accompanied by live entertainment throughout the opening hours of the fair. \n\n\n\nFair Hours: \n\n\n\n\nFriday: 5 pm – midnight\n\n\n\nSaturday: Noon – midnight\n\n\n\nSunday: Noon – 7 pm\n\n\n\n\n\n\n\n\n\n\n\n\nDo you have an event that you want to feature (for free) on our VisitOhioToday events calendar? Feel free to send us an email at team@visitohiotoday.com. All submissions subject to approval.
URL:https://visitohiotoday.com/event/clyde-fair/
LOCATION:Clyde Fair\, Downtown\, Clyde\, OH\, 43410\, United States
CATEGORIES:Festival
ATTACH;FMTTYPE=image/png:https://visitohiotoday.com/wp-content/uploads/2025/07/VOT-Clyde-Fair-feature-image.png
END:VEVENT
BEGIN:VEVENT
DTSTART;TZID=UTC:20250919T170000
DTEND;TZID=UTC:20250921T200000
DTSTAMP:20260420T194149
CREATED:20250804T153343Z
LAST-MODIFIED:20250804T153344Z
UID:10000281-1758301200-1758484800@visitohiotoday.com
SUMMARY:Cuyahoga Falls Oktoberfest
DESCRIPTION:The Cuyahoga Falls Oktoberfest is held in downtown Cuyahoga Falls in  September. Celebrating German food\, beer\, and dance\, this is a 3-day festival. \n\n\n\n\n\n\n\nWith three stages\, live music and dance are big features of this festival. The Biergarten Stage is at the amphitheater near Broad Boulevard\, the German Central Stage is near Portage Trail\, and On The Mall is between the other two. \n\n\n\nFestival Hours: \n\n\n\n\nFriday: 5 pm – 11 pm\n\n\n\nSaturday: Noon – 11 pm\n\n\n\nSunday: Noon – 8 pm\n\n\n\n\n\n\n\n\n\n\n\n\n\n\n\n\nDo you have an event that you want to feature (for free) on our VisitOhioToday events calendar? Feel free to send us an email at team@visitohiotoday.com. All submissions subject to approval.
URL:https://visitohiotoday.com/event/cuyahoga-falls-oktoberfest/
LOCATION:Cuyahoga Falls Oktoberfest\, Downtown\, Cuyahoga Falls\, OH\, 44221\, United States
CATEGORIES:Festival
ATTACH;FMTTYPE=image/png:https://visitohiotoday.com/wp-content/uploads/2025/08/VOT-Cuyahoga-Falls-Oktoberfest-feature-image.png
END:VEVENT
END:VCALENDAR