BEGIN:VCALENDAR
VERSION:2.0
PRODID:-//Visit Ohio Today - ECPv6.15.20//NONSGML v1.0//EN
CALSCALE:GREGORIAN
METHOD:PUBLISH
X-WR-CALNAME:Visit Ohio Today
X-ORIGINAL-URL:https://visitohiotoday.com
X-WR-CALDESC:Events for Visit Ohio Today
REFRESH-INTERVAL;VALUE=DURATION:PT1H
X-Robots-Tag:noindex
X-PUBLISHED-TTL:PT1H
BEGIN:VTIMEZONE
TZID:UTC
BEGIN:STANDARD
TZOFFSETFROM:+0000
TZOFFSETTO:+0000
TZNAME:UTC
DTSTART:20240101T000000
END:STANDARD
END:VTIMEZONE
BEGIN:VEVENT
DTSTART;TZID=UTC:20250621T110000
DTEND;TZID=UTC:20250622T180000
DTSTAMP:20260421T042557
CREATED:20250418T123450Z
LAST-MODIFIED:20250418T123451Z
UID:10000260-1750503600-1750615200@visitohiotoday.com
SUMMARY:Dayton Air Show
DESCRIPTION:The Dayton Air Show in late June features food and fun for aircraft fans of all ages. Tickets are available online. \n\n\n\n\n\n\n\nAir Shows are somehow irresistible\, whether you’re an aircraft fan or not! The Dayton Air Show is two days of flying displays\, as well as some distractions for the kids\, such as an inflatable area if they get bored! \n\n\n\nTickets sell out quickly for this event\, so be sure to get yours early! \n\n\n\nThe show does not release the specific flying times of each performer. All performers will fly both days of the show. \n\n\n\nGates open at 9 am and flying displays start at approximately 11.15 am. Gates close at 6 pm. \n\n\n\nGround displays typically include aircraft such as the B-29 Superfortress Doc and the F/A-18 Hornet. \n\n\n\n\n\n\n\n\n\n\n\n\n\n\n\nDo you have an event that you want to feature (for free) on our VisitOhioToday events calendar? Feel free to send us an email at team@visitohiotoday.com. All submissions subject to approval.
URL:https://visitohiotoday.com/event/dayton-air-show/
LOCATION:Dayton Air Show\, Dayton International Airport\, 3700 McCauley Drive\, Vandalia\, OH\, 45377\, United States
CATEGORIES:Festival
ATTACH;FMTTYPE=image/png:https://visitohiotoday.com/wp-content/uploads/2025/04/VOT-Dayton-Air-Show-feature-image.png
END:VEVENT
END:VCALENDAR