BEGIN:VCALENDAR
VERSION:2.0
PRODID:-//Visit Ohio Today - ECPv6.15.20//NONSGML v1.0//EN
CALSCALE:GREGORIAN
METHOD:PUBLISH
X-WR-CALNAME:Visit Ohio Today
X-ORIGINAL-URL:https://visitohiotoday.com
X-WR-CALDESC:Events for Visit Ohio Today
REFRESH-INTERVAL;VALUE=DURATION:PT1H
X-Robots-Tag:noindex
X-PUBLISHED-TTL:PT1H
BEGIN:VTIMEZONE
TZID:UTC
BEGIN:STANDARD
TZOFFSETFROM:+0000
TZOFFSETTO:+0000
TZNAME:UTC
DTSTART:20240101T000000
END:STANDARD
END:VTIMEZONE
BEGIN:VEVENT
DTSTART;TZID=UTC:20250809T120000
DTEND;TZID=UTC:20250810T130000
DTSTAMP:20260421T082735
CREATED:20240515T094047Z
LAST-MODIFIED:20250610T102344Z
UID:10000169-1754740800-1754830800@visitohiotoday.com
SUMMARY:Hippie Fest
DESCRIPTION:Hippie Fest is a groovy\, family-friendly\, two-day music and arts festival that takes place in Logan in August. \n\n\n\n\n\n\n\nJoin like-minded souls at Hocking County Fairgrounds for a festival of peace\, love\, and art. All ages are welcome. \n\n\n\nThis rain-or-shine event features Woodstock tribute bands and drum circles. Guests are encouraged to bring a lawn chair. Camping is not allowed. \n\n\n\nThere will be cirque performers and sideshow acts to entertain you\, too! Bohemian vendors will be selling their unique artwork and other local goods.  \n\n\n\nChannel your creative energy with DIY tie-dye\, or go frolicking through the giant bubble garden. Fun photo ops\, kids’ activities\, and food trucks will also be available. \n\n\n\nAt the Vintage Hippie Car Show you can showcase your vintage Volkswagen or hippie bus! Fun prize categories and awards will be given. Hippie car awards categories include Most Shagadelic\, Most Far Out\, Best Vibes\, Grooviest Bumper Stickers\, and more! \n\n\n\nPlease note that pets and alcohol are prohibited.  \n\n\n\n\n\n\n\n\n\n\n\n\n\n\n\nDo you have an event that you want to feature (for free) on our VisitOhioToday events calendar? Just complete this form or feel free to send us an email at outreach@visitohiotoday.com. All submissions subject to approval.
URL:https://visitohiotoday.com/event/hippie-fest/
LOCATION:Hippie Fest\, 100 Homer Avenue\, Logan\, OH\, 43138\, United States
CATEGORIES:Festival
ATTACH;FMTTYPE=image/png:https://visitohiotoday.com/wp-content/uploads/2024/05/VOT-Hippie-Fest-Hocking-Hills-feature-image.png
END:VEVENT
END:VCALENDAR