BEGIN:VCALENDAR
VERSION:2.0
PRODID:-//Visit Ohio Today - ECPv6.15.20//NONSGML v1.0//EN
CALSCALE:GREGORIAN
METHOD:PUBLISH
X-WR-CALNAME:Visit Ohio Today
X-ORIGINAL-URL:https://visitohiotoday.com
X-WR-CALDESC:Events for Visit Ohio Today
REFRESH-INTERVAL;VALUE=DURATION:PT1H
X-Robots-Tag:noindex
X-PUBLISHED-TTL:PT1H
BEGIN:VTIMEZONE
TZID:UTC
BEGIN:STANDARD
TZOFFSETFROM:+0000
TZOFFSETTO:+0000
TZNAME:UTC
DTSTART:20240101T000000
END:STANDARD
END:VTIMEZONE
BEGIN:VEVENT
DTSTART;TZID=UTC:20250905T180000
DTEND;TZID=UTC:20250907T190000
DTSTAMP:20260421T004738
CREATED:20230802T084038Z
LAST-MODIFIED:20250724T115839Z
UID:10000053-1757095200-1757271600@visitohiotoday.com
SUMMARY:Ohio River Sternwheel Festival
DESCRIPTION:The Ohio River Sternwheel Festival is an annual event that takes place on the weekend after Labor Day. This festival is held in Marietta\, along the levee\, and features more than 35 sternwheelers docked along the waterfront. \n\n\n\n\n\n\n\nImage credit: ©davelogan via Canva \n\n\n\nThis festival will keep the whole family entertained for three days with events such as the Little Miss and Little Mr. Sternwheel Pageant and the crowning of Queen Genevieve. \n\n\n\nA Car Show\, a Photo Contest\, live music\, food vendors\, and sternwheel races also feature in the Ohio River Sternwheel Festival. \n\n\n\nThe highlight of this festival is the fireworks display that lasts for 30 minutes and is choreographed to music. \n\n\n\nYou can also participate in a 5K run and walk. Check the website for registration details. \n\n\n\n\n\n\n\n\n\n\n\n\n\n\n\nDo you have an event that you want to feature (for free) on our VisitOhioToday events calendar? Just send us an email at team@visitohiotoday.com. All submissions subject to approval.
URL:https://visitohiotoday.com/event/ohio-river-sternwheel-festival-event/
LOCATION:Ohio River Sternwheel Festival\, Ohio River Levee\, Marietta\, OH\, 45750\, United States
CATEGORIES:Festival
ATTACH;FMTTYPE=image/png:https://visitohiotoday.com/wp-content/uploads/2023/07/Ohio-River-Sternwheel-Festival-Event-feature-image.png
END:VEVENT
END:VCALENDAR