BEGIN:VCALENDAR
VERSION:2.0
PRODID:-//Visit Ohio Today - ECPv6.15.20//NONSGML v1.0//EN
CALSCALE:GREGORIAN
METHOD:PUBLISH
X-ORIGINAL-URL:https://visitohiotoday.com
X-WR-CALDESC:Events for Visit Ohio Today
REFRESH-INTERVAL;VALUE=DURATION:PT1H
X-Robots-Tag:noindex
X-PUBLISHED-TTL:PT1H
BEGIN:VTIMEZONE
TZID:UTC
BEGIN:STANDARD
TZOFFSETFROM:+0000
TZOFFSETTO:+0000
TZNAME:UTC
DTSTART:20240101T000000
END:STANDARD
END:VTIMEZONE
BEGIN:VEVENT
DTSTART;TZID=UTC:20250918T160000
DTEND;TZID=UTC:20250921T190000
DTSTAMP:20260420T115002
CREATED:20230809T105456Z
LAST-MODIFIED:20250804T161057Z
UID:10000060-1758211200-1758481200@visitohiotoday.com
SUMMARY:Oktoberfest Zinzinnati
DESCRIPTION:Oktoberfest Zinzinnati\, the largest Oktoberfest in the nation\, takes place at Sawyer Point & Yeatman’s Cove in September. \n\n\n\n\n\n\n\nEnjoy German-style delicacies like sauerkraut balls\, bratwurst\, soft pretzels\, and strudel from various food vendors at this free-to-enter event. \n\n\n\nIndulge in a wide selection of beers and drinks\, including Oktoberfest-style lagers from local brewers. \n\n\n\nEvents at Oktoberfest Zinzinnati include the Running of the Wieners\, where dachshunds dressed as hot dogs compete for the title of ‘King of the Wiener Dogs.’ Witness the World Brat Eating Championship\, World’s Largest Chicken Dance\, and The Gemütlichkeit Games\, featuring challenges like the beer stein race\, stein hoisting\, and beer barrel roll. \n\n\n\nThroughout the event\, multiple entertainment/beer tents will keep the party going with live music bands. \n\n\n\n\n\n\n\n\n\n\n\n\n\n\n\nDo you have an event that you want to feature (for free) on our VisitOhioToday events calendar? Just send us an email at team@visitohiotoday.com. All submissions subject to approval.
URL:https://visitohiotoday.com/event/oktoberfest-zinzinnati-event/
LOCATION:Oktoberfest Zinzinnati\, 705 E. Pete Rose Way\, Cincinnati\, OH\, 45202\, United States
CATEGORIES:Festival
ATTACH;FMTTYPE=image/png:https://visitohiotoday.com/wp-content/uploads/2023/08/Oktoberfest-Zinzinnati-Event-feature-image.png
END:VEVENT
END:VCALENDAR