BEGIN:VCALENDAR
VERSION:2.0
PRODID:-//Visit Ohio Today - ECPv6.15.20//NONSGML v1.0//EN
CALSCALE:GREGORIAN
METHOD:PUBLISH
X-ORIGINAL-URL:https://visitohiotoday.com
X-WR-CALDESC:Events for Visit Ohio Today
REFRESH-INTERVAL;VALUE=DURATION:PT1H
X-Robots-Tag:noindex
X-PUBLISHED-TTL:PT1H
BEGIN:VTIMEZONE
TZID:UTC
BEGIN:STANDARD
TZOFFSETFROM:+0000
TZOFFSETTO:+0000
TZNAME:UTC
DTSTART:20240101T000000
END:STANDARD
END:VTIMEZONE
BEGIN:VEVENT
DTSTART;TZID=UTC:20251003T080000
DTEND;TZID=UTC:20251005T150000
DTSTAMP:20260422T225050
CREATED:20230921T120216Z
LAST-MODIFIED:20250806T135440Z
UID:10000087-1759478400-1759676400@visitohiotoday.com
SUMMARY:Paul Bunyan Show
DESCRIPTION:The Paul Bunyan Show is one of the largest and oldest forestry shows in the US. See all facets of the forest industry here\, with a lot of lumberjacking events and activities. \n\n\n\n\n\n\n\nThe Paul Bunyan Show is at the Guernsey County Fairgrounds on the first weekend of October. \n\n\n\nThree full days of activities\, events\, and competitions\, all revolving around the forestry industry\, lay in wait for visitors to this show. \n\n\n\nThere will be more than 130 industry-related exhibitors and representatives showcasing equipment\, manpower\, and the dedication of those working in the industry. \n\n\n\nThere will be many educational sessions on topics ranging from how to fell a tree to Ohio’s edible mushrooms. \n\n\n\n\n\n\n\n\n\n\n\n\n\n\n\nDo you have an event that you want to feature (for free) on our VisitOhioToday events calendar? Feel free to send us an email at team@visitohiotoday.com. All submissions subject to approval.
URL:https://visitohiotoday.com/event/paul-bunyan-show-event/
LOCATION:Paul Bunyan Show\, Guernsey County Fairgrounds 335 Old National Road\, Lore City\, OH\, 43755\, United States
CATEGORIES:Festival
ATTACH;FMTTYPE=image/png:https://visitohiotoday.com/wp-content/uploads/2023/09/Paul-Bunyan-Show-Event-feature-image.png
END:VEVENT
END:VCALENDAR