BEGIN:VCALENDAR
VERSION:2.0
PRODID:-//Visit Ohio Today - ECPv6.15.20//NONSGML v1.0//EN
CALSCALE:GREGORIAN
METHOD:PUBLISH
X-WR-CALNAME:Visit Ohio Today
X-ORIGINAL-URL:https://visitohiotoday.com
X-WR-CALDESC:Events for Visit Ohio Today
REFRESH-INTERVAL;VALUE=DURATION:PT1H
X-Robots-Tag:noindex
X-PUBLISHED-TTL:PT1H
BEGIN:VTIMEZONE
TZID:UTC
BEGIN:STANDARD
TZOFFSETFROM:+0000
TZOFFSETTO:+0000
TZNAME:UTC
DTSTART:20240101T000000
END:STANDARD
END:VTIMEZONE
BEGIN:VEVENT
DTSTART;TZID=UTC:20250626T150000
DTEND;TZID=UTC:20250628T230000
DTSTAMP:20260421T100204
CREATED:20250417T123801Z
LAST-MODIFIED:20250417T123801Z
UID:10000256-1750950000-1751151600@visitohiotoday.com
SUMMARY:Tri-C JazzFest Cleveland
DESCRIPTION:The Tri-C JazzFest Cleveland is three days of jazz music in a variety of cultures and styles\, held in late June\, with both indoor and outdoor venues. \n\n\n\n\n\n\n\nIf you love jazz in all its forms\, you will love this festival! \n\n\n\nThe outdoor performances are held in Playhouse Square and start in the afternoons. All outdoor entertainment is free. \n\n\n\nThe indoor performances are held at the Connor Palace Theatre and the Mimi Ohio Theatre\, starting in the evenings. These are ticketed concerts\, and tickets are available to purchase online. \n\n\n\nVisitors can expect special tributes to jazz musicians and well-known global jazz musicians. \n\n\n\nShopping\, food\, and beverage vendors will be in attendance\, as well as street performers and much more! \n\n\n\n\n\n\n\n\n\n\n\n\n\n\n\nDo you have an event that you want to feature (for free) on our VisitOhioToday events calendar? Feel free to send us an email at team@visitohiotoday.com. All submissions subject to approval.
URL:https://visitohiotoday.com/event/tri-c-jazzfest-cleveland/
LOCATION:Tri-C JazzFest Cleveland\, Playhouse Square\, 1501 Euclid Ave #200\, Cleveland\, OH\, 44115\, United States
CATEGORIES:Festival
ATTACH;FMTTYPE=image/png:https://visitohiotoday.com/wp-content/uploads/2025/04/VOT-Tri-C-JazzFest-Cleveland-feature-image.png
END:VEVENT
END:VCALENDAR